BEGIN:VCALENDAR
VERSION:2.0
PRODID:-//AVKF - ECPv6.15.17.1//NONSGML v1.0//EN
CALSCALE:GREGORIAN
METHOD:PUBLISH
X-ORIGINAL-URL:https://avkf.hu
X-WR-CALDESC:Események AVKF
REFRESH-INTERVAL;VALUE=DURATION:PT1H
X-Robots-Tag:noindex
X-PUBLISHED-TTL:PT1H
BEGIN:VTIMEZONE
TZID:Europe/Budapest
BEGIN:DAYLIGHT
TZOFFSETFROM:+0100
TZOFFSETTO:+0200
TZNAME:CEST
DTSTART:20210328T010000
END:DAYLIGHT
BEGIN:STANDARD
TZOFFSETFROM:+0200
TZOFFSETTO:+0100
TZNAME:CET
DTSTART:20211031T010000
END:STANDARD
BEGIN:DAYLIGHT
TZOFFSETFROM:+0100
TZOFFSETTO:+0200
TZNAME:CEST
DTSTART:20220327T010000
END:DAYLIGHT
BEGIN:STANDARD
TZOFFSETFROM:+0200
TZOFFSETTO:+0100
TZNAME:CET
DTSTART:20221030T010000
END:STANDARD
BEGIN:DAYLIGHT
TZOFFSETFROM:+0100
TZOFFSETTO:+0200
TZNAME:CEST
DTSTART:20230326T010000
END:DAYLIGHT
BEGIN:STANDARD
TZOFFSETFROM:+0200
TZOFFSETTO:+0100
TZNAME:CET
DTSTART:20231029T010000
END:STANDARD
BEGIN:DAYLIGHT
TZOFFSETFROM:+0100
TZOFFSETTO:+0200
TZNAME:CEST
DTSTART:20240331T010000
END:DAYLIGHT
BEGIN:STANDARD
TZOFFSETFROM:+0200
TZOFFSETTO:+0100
TZNAME:CET
DTSTART:20241027T010000
END:STANDARD
END:VTIMEZONE
BEGIN:VEVENT
DTSTART;VALUE=DATE:20221031
DTEND;VALUE=DATE:20221105
DTSTAMP:20260423T001524
CREATED:20220519T135522Z
LAST-MODIFIED:20221028T123219Z
UID:35289-1667174400-1667606399@avkf.hu
SUMMARY:Őszi szünet
DESCRIPTION:
URL:https://avkf.hu/esemeny/oszi-szunet-4
CATEGORIES:Ünnepek
END:VEVENT
BEGIN:VEVENT
DTSTART;TZID=Europe/Budapest:20221031T120000
DTEND;TZID=Europe/Budapest:20221031T120000
DTSTAMP:20260423T001524
CREATED:20220809T115959Z
LAST-MODIFIED:20220809T115959Z
UID:35892-1667217600-1667217600@avkf.hu
SUMMARY:Szakdolgozati témaválasztási lap leadási határideje
DESCRIPTION:
URL:https://avkf.hu/esemeny/szakdolgozati-temavalasztasi-lap-leadasi-hatarideje
END:VEVENT
BEGIN:VEVENT
DTSTART;TZID=Europe/Budapest:20221105T110000
DTEND;TZID=Europe/Budapest:20221105T110000
DTSTAMP:20260423T001524
CREATED:20221024T074507Z
LAST-MODIFIED:20221024T074706Z
UID:37263-1667646000-1667646000@avkf.hu
SUMMARY:Szocped Café
DESCRIPTION:Győri Péter: A hajléktalanság legégetőbb\, aktuális kérdései \nHelyszín: I. emelet\, Szent István terem
URL:https://avkf.hu/esemeny/szocped-cafe-2022-11
LOCATION:Apor Vilmos Katolikus Főiskola\, Schuszter Konstantin tér 1-5.\, Vác\, 2600
END:VEVENT
BEGIN:VEVENT
DTSTART;VALUE=DATE:20221109
DTEND;VALUE=DATE:20221110
DTSTAMP:20260423T001524
CREATED:20220902T115839Z
LAST-MODIFIED:20221028T141000Z
UID:36572-1667952000-1668038399@avkf.hu
SUMMARY:„Varázslatos idők és terek” - Magyar Tudomány Ünnepe
DESCRIPTION:Természettudományos programok általános iskolásoknak \n2022. november 9-én „Varázslatos idők és terek” címmel tartunk programot általános iskolásoknak – az MTA szervezésében\, a Magyar Tudomány Ünnepe rendezvénysorozat keretében. \nIntézményünk egyik kutatóműhelye a gyermekkori tér- és időbeli tájékozódást vizsgálja pedagógiai szempontból. Ennek keretében zárt és szabad térben tanítási tereket alakítunk ki\, új kísérleti és szemléltető eszközöket fejlesztünk. \nDélelőtt a Földváry Károly Általános Iskola\, délután pedig a Juhász Gyula Általános Iskola pedagógusai és diákjai részére tartanak interaktív bemutatókat főiskolánk hallgatói.
URL:https://avkf.hu/esemeny/magyar-tudomany-napja-2022
LOCATION:Apor Vilmos Katolikus Főiskola\, Schuszter Konstantin tér 1-5.\, Vác\, 2600
END:VEVENT
BEGIN:VEVENT
DTSTART;TZID=Europe/Budapest:20221111T100000
DTEND;TZID=Europe/Budapest:20221111T170000
DTSTAMP:20260423T001524
CREATED:20221019T070144Z
LAST-MODIFIED:20221025T143738Z
UID:37127-1668160800-1668186000@avkf.hu
SUMMARY:Zöldinfrastruktúra és Közösségfejlesztés Konferencia
DESCRIPTION:  \nA részletes program ITT érhető el. \nA konferencia ingyenes\, de regisztrációhoz kötött.\nA regisztráció határideje: 2022. november 4.\nRegisztráció ITT. \n 
URL:https://avkf.hu/esemeny/zoldinfrastruktura-es-kozossegfejlesztes-konferencia
LOCATION:Apor Vilmos Katolikus Főiskola\, Schuszter Konstantin tér 1-5.\, Vác\, 2600
END:VEVENT
BEGIN:VEVENT
DTSTART;TZID=Europe/Budapest:20221116T141500
DTEND;TZID=Europe/Budapest:20221116T141500
DTSTAMP:20260423T001524
CREATED:20221104T131239Z
LAST-MODIFIED:20221104T131239Z
UID:37326-1668608100-1668608100@avkf.hu
SUMMARY:International Café
DESCRIPTION:
URL:https://avkf.hu/esemeny/international-cafe-2022
LOCATION:Apor Vilmos Katolikus Főiskola\, Schuszter Konstantin tér 1-5.\, Vác\, 2600
END:VEVENT
BEGIN:VEVENT
DTSTART;VALUE=DATE:20221117
DTEND;VALUE=DATE:20221119
DTSTAMP:20260423T001524
CREATED:20220816T100035Z
LAST-MODIFIED:20221115T135711Z
UID:35920-1668643200-1668815999@avkf.hu
SUMMARY:I. Anna–Joachim-konferencia
DESCRIPTION:A konferencia részletes programja ITT érhető el. \nA részvétel előzetes regisztrációhoz kötött\, melynek határideje 2022. november 6.\nA regisztrációs felület ITT érhető el.
URL:https://avkf.hu/esemeny/anna-joachim-konferencia-2022
LOCATION:AVKF Budapesti Campus\, Török Flóris utca 227-229.\, Budapest\, 1201
END:VEVENT
BEGIN:VEVENT
DTSTART;TZID=Europe/Budapest:20221130T140000
DTEND;TZID=Europe/Budapest:20221130T140000
DTSTAMP:20260423T001524
CREATED:20221107T141526Z
LAST-MODIFIED:20221107T141526Z
UID:37340-1669816800-1669816800@avkf.hu
SUMMARY:Intézményi Tudományos Diákköri Konferencia
DESCRIPTION:
URL:https://avkf.hu/esemeny/itdk-2022-11
LOCATION:Apor Vilmos Katolikus Főiskola\, Schuszter Konstantin tér 1-5.\, Vác\, 2600
END:VEVENT
BEGIN:VEVENT
DTSTART;TZID=Europe/Budapest:20221202T130000
DTEND;TZID=Europe/Budapest:20221202T144500
DTSTAMP:20260423T001524
CREATED:20221121T082539Z
LAST-MODIFIED:20221121T082608Z
UID:37512-1669986000-1669992300@avkf.hu
SUMMARY:Adventi lelki nap
DESCRIPTION:Helyszín: II. János Pál terem
URL:https://avkf.hu/esemeny/adventi-lelki-nap-2022
LOCATION:Apor Vilmos Katolikus Főiskola\, Schuszter Konstantin tér 1-5.\, Vác\, 2600
END:VEVENT
BEGIN:VEVENT
DTSTART;TZID=Europe/Budapest:20221203T120000
DTEND;TZID=Europe/Budapest:20221203T120000
DTSTAMP:20260423T001524
CREATED:20220519T142613Z
LAST-MODIFIED:20220519T142613Z
UID:35305-1670068800-1670068800@avkf.hu
SUMMARY:Szakdolgozat-leadás és záróvizsga-jelentkezés határideje
DESCRIPTION:
URL:https://avkf.hu/esemeny/szakdolgozat-leadas-es-zarovizsga-jelentkezes-hatarideje
END:VEVENT
BEGIN:VEVENT
DTSTART;TZID=Europe/Budapest:20221203T123000
DTEND;TZID=Europe/Budapest:20221203T160000
DTSTAMP:20260423T001524
CREATED:20221123T094830Z
LAST-MODIFIED:20221123T120954Z
UID:37566-1670070600-1670083200@avkf.hu
SUMMARY:Műhelybeszélgetés: Függőségeink rabságában – megküzdés a droggal és egyéb függőségekkel\, felépüléstörténetek
DESCRIPTION:Szeretettel hívjuk az érdeklődőket Függőségeink rabságában c. műhelybeszélgetésünkre\, amelyen Kiss Tímea (Ráckeresztúri Drogterápiás Otthon) és Oláh Péter (Megálló Alapítvány) tapasztalati szakértők\, segítők és felépülő függők osztják meg felépülésük történetét. \nA műhelybeszélgetés során lehetőség lesz kérdéseket feltenni a tapasztalati szakértőknek\, nem csak a szerfüggőségről\, hanem a különféle viselkedési addikciókról is\, mint pl. társfüggőség\, evészavar. \nHelyszín: Pé-klub (a Főiskola központi épületében) \nA részvétel ingyenes\, de előzetes regisztrációhoz kötött.\nRegisztráció ITT. \nMinden érdeklődőt szeretettel várunk!
URL:https://avkf.hu/esemeny/muhelybeszelgetes-fuggosegeink-rabsagaban-1
LOCATION:Apor Vilmos Katolikus Főiskola\, Schuszter Konstantin tér 1-5.\, Vác\, 2600
END:VEVENT
BEGIN:VEVENT
DTSTART;TZID=Europe/Budapest:20221206T123000
DTEND;TZID=Europe/Budapest:20221206T131500
DTSTAMP:20260423T001524
CREATED:20221129T103931Z
LAST-MODIFIED:20221129T104005Z
UID:37596-1670329800-1670332500@avkf.hu
SUMMARY:Christmas Party - Star of Bethlehem
DESCRIPTION:
URL:https://avkf.hu/esemeny/christmas-party-star-of-bethlehem
LOCATION:Apor Vilmos Katolikus Főiskola\, Schuszter Konstantin tér 1-5.\, Vác\, 2600
END:VEVENT
BEGIN:VEVENT
DTSTART;TZID=Europe/Budapest:20221209T100000
DTEND;TZID=Europe/Budapest:20221209T120000
DTSTAMP:20260423T001524
CREATED:20221207T085540Z
LAST-MODIFIED:20221207T085557Z
UID:37782-1670580000-1670587200@avkf.hu
SUMMARY:Nyílt nap
DESCRIPTION:Programterv: \n– Rektori bevezető\n– Hallgatói Önkormányzat bemutatkozása\n– Szakonkénti beszélgetés a szakfelelősökkel\n– Az épület bejárása hallgatók vezetésével
URL:https://avkf.hu/esemeny/nyilt-nap-2022-12
LOCATION:Apor Vilmos Katolikus Főiskola\, Schuszter Konstantin tér 1-5.\, Vác\, 2600
END:VEVENT
BEGIN:VEVENT
DTSTART;VALUE=DATE:20221217
DTEND;VALUE=DATE:20221218
DTSTAMP:20260423T001524
CREATED:20220519T135325Z
LAST-MODIFIED:20220519T135325Z
UID:35287-1671235200-1671321599@avkf.hu
SUMMARY:Szorgalmi időszak vége
DESCRIPTION:
URL:https://avkf.hu/esemeny/szorgalmi-idoszak-vege-3
END:VEVENT
BEGIN:VEVENT
DTSTART;TZID=Europe/Budapest:20221217T123000
DTEND;TZID=Europe/Budapest:20221217T160000
DTSTAMP:20260423T001524
CREATED:20221128T142442Z
LAST-MODIFIED:20221128T142742Z
UID:37585-1671280200-1671292800@avkf.hu
SUMMARY:Műhelybeszélgetés: Függőségeink rabságában – drogfüggőségről az „Élő Könyvtár” módszerével
DESCRIPTION:Az élőkönyvtár több\, mint módszer. Emberek közössége\, akik vállalkoznak arra\, hogy őszintén elmondják történeteiket és nehézségeiket egy idegen közönség előtt. Mindezt annak érdekében teszik\, hogy a beszélgetésen részt vevők egyéni sorsokkal találkozzanak sztereotípiák helyett. \nA december 17-i „Élő Könyvtár” eseményen az érdeklődő olvasók „eleven” könyveket kölcsönözhetnek ki\, azaz olyan emberekkel beszélgethetnek\, akik szívesen megosztják függőségeikből való felépülésük történetét. A műhelyre a budapesti Megálló Csoport Alapítvány tapasztalati segítői fognak “könyvekként” érkezni. \nHelyszín: Pé-klub (a Főiskola központi épületében) \nA részvétel ingyenes\, de előzetes regisztrációhoz kötött.\nRegisztráció ITT.  \nMinden érdeklődőt szeretettel várunk!
URL:https://avkf.hu/esemeny/muhelybeszelgetes-fuggosegeink-rabsagaban-2
LOCATION:Apor Vilmos Katolikus Főiskola\, Schuszter Konstantin tér 1-5.\, Vác\, 2600
END:VEVENT
BEGIN:VEVENT
DTSTART;VALUE=DATE:20221219
DTEND;VALUE=DATE:20221220
DTSTAMP:20260423T001524
CREATED:20220519T140018Z
LAST-MODIFIED:20220519T140018Z
UID:35293-1671408000-1671494399@avkf.hu
SUMMARY:Vizsgaidőszak kezdete
DESCRIPTION:
URL:https://avkf.hu/esemeny/vizsgaidoszak-kezdete-3
END:VEVENT
BEGIN:VEVENT
DTSTART;VALUE=DATE:20221223
DTEND;VALUE=DATE:20230104
DTSTAMP:20260423T001524
CREATED:20220519T135717Z
LAST-MODIFIED:20220519T135717Z
UID:35291-1671753600-1672790399@avkf.hu
SUMMARY:Téli szünet
DESCRIPTION:
URL:https://avkf.hu/esemeny/teli-szunet-4
END:VEVENT
BEGIN:VEVENT
DTSTART;VALUE=DATE:20230109
DTEND;VALUE=DATE:20230114
DTSTAMP:20260423T001524
CREATED:20220519T140536Z
LAST-MODIFIED:20220519T140536Z
UID:35299-1673222400-1673654399@avkf.hu
SUMMARY:Záróvizsgák (posztgraduális képzés)
DESCRIPTION:
URL:https://avkf.hu/esemeny/zarovizsgak-posztgradualis-kepzes
END:VEVENT
BEGIN:VEVENT
DTSTART;TZID=Europe/Budapest:20230110T100000
DTEND;TZID=Europe/Budapest:20230110T120000
DTSTAMP:20260423T001524
CREATED:20221213T092339Z
LAST-MODIFIED:20221213T092339Z
UID:37809-1673344800-1673352000@avkf.hu
SUMMARY:Nyílt nap
DESCRIPTION:Programterv: \n– Rektori bevezető\n– Hallgatói Önkormányzat bemutatkozása\n– Szakonkénti beszélgetés a szakfelelősökkel\n– Az épület bejárása hallgatók vezetésével
URL:https://avkf.hu/esemeny/nyilt-nap-2023-01
LOCATION:Apor Vilmos Katolikus Főiskola\, Schuszter Konstantin tér 1-5.\, Vác\, 2600
END:VEVENT
BEGIN:VEVENT
DTSTART;VALUE=DATE:20230116
DTEND;VALUE=DATE:20230121
DTSTAMP:20260423T001524
CREATED:20220519T140410Z
LAST-MODIFIED:20220519T140410Z
UID:35297-1673827200-1674259199@avkf.hu
SUMMARY:Záróvizsgák (graduális képzés)
DESCRIPTION:
URL:https://avkf.hu/esemeny/zarovizsgak-gradualis-kepzes
END:VEVENT
BEGIN:VEVENT
DTSTART;VALUE=DATE:20230128
DTEND;VALUE=DATE:20230129
DTSTAMP:20260423T001524
CREATED:20220519T140134Z
LAST-MODIFIED:20220519T140134Z
UID:35295-1674864000-1674950399@avkf.hu
SUMMARY:Vizsgaidőszak vége
DESCRIPTION:
URL:https://avkf.hu/esemeny/vizsgaidoszak-vege-3
END:VEVENT
BEGIN:VEVENT
DTSTART;VALUE=DATE:20230217
DTEND;VALUE=DATE:20230218
DTSTAMP:20260423T001524
CREATED:20230320T144826Z
LAST-MODIFIED:20230320T144923Z
UID:39963-1676592000-1676678399@avkf.hu
SUMMARY:Szorgalmi időszak kezdete
DESCRIPTION:
URL:https://avkf.hu/esemeny/szorgalmi-idoszak-kezdete-2022-2023-2
END:VEVENT
BEGIN:VEVENT
DTSTART;TZID=Europe/Budapest:20230221T160000
DTEND;TZID=Europe/Budapest:20230221T180000
DTSTAMP:20260423T001524
CREATED:20230105T142730Z
LAST-MODIFIED:20230209T113120Z
UID:38127-1676995200-1677002400@avkf.hu
SUMMARY:Atipikus Fejlődés Módszertani Központ szakmai műhelysorozat II. – 21. századi tehetség
DESCRIPTION:Az Atipikus Fejlődés Módszertani Központ második szakmai műhelye a 2022/23-as tanévben oktatók\, hallgatók és minden érdeklődő számára. \nIdőpont: 2023. február 21. (kedd) 16:00-18:00\nHelyszín: online\nMűhelyvezető: Prof. Dr. Gyarmathy Éva egyetemi tanár \nAmikor minden változik\, vajon a tehetség ugyanaz? Ugyanolyan elvárások vannak a mai tehetségekkel szemben\, mint 100 éve\, amikor Lewis Terman és munkatársai az első nagy tehetségkövetéses vizsgálatot indították? \nA mindennapi tehetséggondozás során nyilvánvalóvá vált\, hogy nem csupán más elvárások vannak a tehetségek iránt\, de a tehetségfejlődés is változott. 100 év után ideje újragondolni a tehetségfejlesztés gyakorlatát. \nA részvétel ingyenes\, de előzetes online regisztrációhoz kötött.\nRegisztráció ITT. \nMinden érdeklődőt szeretettel várunk!
URL:https://avkf.hu/esemeny/afmk-2022-23-2
LOCATION:online
END:VEVENT
BEGIN:VEVENT
DTSTART;TZID=Europe/Budapest:20230224T100000
DTEND;TZID=Europe/Budapest:20230224T113000
DTSTAMP:20260423T001524
CREATED:20220519T142732Z
LAST-MODIFIED:20230104T081841Z
UID:35307-1677232800-1677238200@avkf.hu
SUMMARY:Diplomaátadó ünnepség
DESCRIPTION:
URL:https://avkf.hu/esemeny/diplomaatado-unnepseg-2023-1
LOCATION:Apor Vilmos Katolikus Főiskola\, Schuszter Konstantin tér 1-5.\, Vác\, 2600
END:VEVENT
BEGIN:VEVENT
DTSTART;TZID=Europe/Budapest:20230303T133000
DTEND;TZID=Europe/Budapest:20230303T173000
DTSTAMP:20260423T001524
CREATED:20230131T125501Z
LAST-MODIFIED:20230131T131109Z
UID:38548-1677850200-1677864600@avkf.hu
SUMMARY:Alternatív Pedagógiák Módszertani Központ 2023/I. szakmai műhely - Waldorf módszertani műhely
DESCRIPTION:A Waldorf óvodák és iskolák az egyik legkorábbi és legelterjedtebb alternatív pedagógiai hálózat Magyarországon. Szakmai műhelyünkön betekintést nyerhet a magyarországi Waldorf óvodák és iskolák munkájába és hétköznapi gyakorlatába. \n  \nTervezett program: \n13:30-13:45 Regisztráció \n13:45-14:45 Plenáris előadások\n• A waldorf miért több és mégis ugyanolyan\, mint 100 éve? – Bakonyi Katalin (Pesthidegkúti Waldorf Iskola)\n• A gyermek életritmusára épített óvodai évkör – Márföldi Erika (Waldorf Ház) \n14:45-15:00 Szünet \n15:00-15:45 Műhelyfoglalkozás I.\n• Mozdulattal áthatott rigmusok\, versek és a méhviasz különböző formái a mindennapokban – Kabai Eszter (Napkeleti Waldorf Óvoda)\n• A preventív és gyógyító lelki környezet kialakítása és gyapjútündér készítés – Márföldi Erika (Waldorf Ház)\n• Képességfejlesztés formaalkotó mozgással és rajzolással – Dr. Véghné Csuka Rita (Kispesti Waldorf Iskola)\n• Írás-olvasás előkészítés és betűtanítás a waldorf-iskolában – Keleti Alexandra (Fészek Waldorf Iskola\, Solymár) \n15:45-16:00 Szünet \n16:00-16:45 Műhelyfoglalkozás II. (az I. sz. Műhelyfoglalkozások ismétlődnek) \n16:45-17:30 Kérdés-felelet \n  \nProgramunk ingyenes\, de regisztrációhoz kötött.\nRegisztráció ITT. \nSzeretettel várunk minden érdeklődőt! \n  \nKözpontunkban idén tavasszal két szakmai műhelyprogramot tervezünk. Második műhelyünkön – 2023. március 31-én – a Kincskereső Iskola munkáját szeretnénk bemutatni. Az Apor Vilmos Katolikus Főiskola levelező tagozatos diákjai számára a két szakmai műhely egyben (összesen 10 óra) felvehető szabadon választott kurzusként.
URL:https://avkf.hu/esemeny/apmk-waldorf-modszertani-muhely
LOCATION:AVKF Budapesti Campus\, Török Flóris utca 227-229.\, Budapest\, 1201
END:VEVENT
BEGIN:VEVENT
DTSTART;TZID=Europe/Budapest:20230310T113000
DTEND;TZID=Europe/Budapest:20230310T113000
DTSTAMP:20260423T001524
CREATED:20230222T131917Z
LAST-MODIFIED:20230302T073407Z
UID:39034-1678447800-1678447800@avkf.hu
SUMMARY:Nagyböjti lelki nap
DESCRIPTION:
URL:https://avkf.hu/esemeny/nagybojti-lelki-nap-2023
LOCATION:Apor Vilmos Katolikus Főiskola\, Schuszter Konstantin tér 1-5.\, Vác\, 2600
END:VEVENT
BEGIN:VEVENT
DTSTART;TZID=Europe/Budapest:20230323T100000
DTEND;TZID=Europe/Budapest:20230323T151500
DTSTAMP:20260423T001524
CREATED:20230222T072609Z
LAST-MODIFIED:20230310T113030Z
UID:39021-1679565600-1679584500@avkf.hu
SUMMARY:XII. Roma Konferencia
DESCRIPTION:Az Apor Vilmos Katolikus Főiskola és a Belügyminisztérium Társadalmi Felzárkóztatásért Felelős Helyettes Államtitkárság közös szervezésében \nA konferencia témája: A cigány/roma gyerekek és fiatalok társadalmi felzárkóztatásának lehetőségei \n  \nTERVEZETT PROGRAM: \n10:00-12:00 PLENÁRIS ÜLÉS (Szent II. János Pál terem)\nLevezető: Dr. Báder Iván főiskolai docens – Apor Vilmos Katolikus Főiskola \n10:10-10:20 Dr. Gloviczki Zoltán rektor köszöntője \n10:20-10:40 Dr. Kállai Ernő főiskolai tanár – Apor Vilmos Katolikus Főiskola\nA társadalmi integrációt befolyásoló tényezők és azok szerepe a roma közösségek életében \n10:40-11:00 Sörös Iván főosztályvezető – Társadalmi Felzárkóztatásért Felelős Helyettes Államtitkárság Gyermekesély Főosztálya\nGyermekek esélynövelő szolgáltatásai a Magyar Nemzeti Társadalmi Felzárkóztatási Stratégiában \n11:00-11:20 Jáger Viktor szakstatisztikus – Központi Statisztikai Hivatal\nA gyermekek helyzetét\, esélyeit bemutató statisztikák \n11:20-11:40 Dávid Beáta szociológus\, egyetemi tanár – Semmelweis Egyetem\, Mentálhigiéné Intézet\nA roma szakkollégiumi hálózat jelentősége a roma diákok életében: jelen és jövő \n11:40-12:00 Dr. Báder Iván főiskolai docens – Apor Vilmos Katolikus Főiskola\nFelzárkóztatás a gyakorlatban – a felzárkóztatási programok egy gyakorló pedagógus szemszögéből \n12:00-13:00 EBÉDSZÜNET \n13:00-14:30 NYITOTT KEREKASZTAL (Apor Vilmos terem)\nModerátor: Dr. Csürkéné dr. Mándi Nikoletta főiskolai tanár – Apor Vilmos Katolikus Főiskola\nA délelőtti előadókkal történő irányított beszélgetés\, melynek végén a hallgatóság felteheti a kérdéseit. \n14:45-15:15 KULTURÁLIS BEMUTATÓ (Apor Vilmos terem)\nRomano Glaszo – Emberi Hang Művészeti Csoport előadása \n  \nA konferencián való részvétel előzetes online regisztrációhoz kötött.\nRegisztráció ITT. \n  \nMinden érdeklődőt szeretettel várunk! \n 
URL:https://avkf.hu/esemeny/roma-konferencia-2023
LOCATION:Apor Vilmos Katolikus Főiskola\, Schuszter Konstantin tér 1-5.\, Vác\, 2600
END:VEVENT
BEGIN:VEVENT
DTSTART;TZID=Europe/Budapest:20230325T100000
DTEND;TZID=Europe/Budapest:20230325T160000
DTSTAMP:20260423T001524
CREATED:20230202T130400Z
LAST-MODIFIED:20230307T084419Z
UID:38656-1679738400-1679760000@avkf.hu
SUMMARY:Kínos teológiai kérdések konferenciája
DESCRIPTION:Részletes program \nA konferencia ingyenes\, de regisztrációhoz kötött. A regisztráció határideje: 2023. március 17.\nRegisztráció ITT.
URL:https://avkf.hu/esemeny/kinos-teologiai-kerdesek-konferenciaja
LOCATION:Apor Vilmos Katolikus Főiskola\, Schuszter Konstantin tér 1-5.\, Vác\, 2600
END:VEVENT
BEGIN:VEVENT
DTSTART;TZID=Europe/Budapest:20230329T120000
DTEND;TZID=Europe/Budapest:20230329T120000
DTSTAMP:20260423T001524
CREATED:20230320T151535Z
LAST-MODIFIED:20230320T151535Z
UID:39986-1680091200-1680091200@avkf.hu
SUMMARY:Szakdolgozati témaválasztási lap leadási határideje (graduális képzés)
DESCRIPTION:
URL:https://avkf.hu/esemeny/szakdolgozati-temavalasztasi-lap-leadasi-hatarideje-gradualis-2022-2023-2
END:VEVENT
BEGIN:VEVENT
DTSTART;TZID=Europe/Budapest:20230331T133000
DTEND;TZID=Europe/Budapest:20230331T173000
DTSTAMP:20260423T001524
CREATED:20230222T073359Z
LAST-MODIFIED:20230310T075753Z
UID:39023-1680269400-1680283800@avkf.hu
SUMMARY:Alternatív Pedagógiák Módszertani Központ 2023/II. szakmai műhely – A Kincskereső Iskola bemutatkozása
DESCRIPTION:„Az iskola kapuit 1988. augusztus 31-én nyitottam meg. Egyszemélyes küzdelmemet a rendszerváltás idején tapasztalt optimizmus\, erős tettre vágyás ösztönözte\, valami valódi nagy remény\, hogy az iskolákba beszorult kemény\, poroszos hangulat helyett egy új szemléletű\, gyerekközeli\, Vargha Balázs szavaival jelölve >>embernek való iskolát<< lehet teremteni.” /Winkler Márta/ \n \nPROGRAM: \n13:30-13:45 Regisztráció \n13:45-14:45 Plenáris előadások \n• Kinek kaloda\, kinek fészek – A Kincskereső Iskola 35 éve a közoktatás tükrében\n(Andóné Nagy Katalin tagiskola-vezető) \n• A Kincskereső Iskola pedagógus- és szülőszemmel\n(Dobán Orsolya osztálytanító) \n• A Kincskereső Iskola pedagógus- és diákszemmel\n(Gombos Kata osztálytanító) \n14:45-15:00 Szünet \n15:00-15:45 Műhelyfoglalkozás I. \n• Szövegértés másként\nKépteremtés\, tájépítés\, tárlatvezetés az osztályteremben\n(Ruzsa Ágnes\, Petik Ágota osztálytanítók) \n• Felfedeztető gondolkodás a matematikában\nA Varga Tamás-féle felfedeztető tanítás és gondolkodásfejlesztés minél több eszközzel\, saját élményen alapuló következtetéssel. Gyertek\, játsszunk együtt: poli-universe készlet\, dobótestek\, tantrix!\n(Likker Karolina\, Sagát Anna matematikatanárok) \n• Körtemuzsika – Daloljunk\, zenéljünk kreatívan síppal\, dobbal\, nádihegedűvel!\n(Zalán Mónika osztálytanító\, énektanár) \n• Ismered? Jól ismered? Gyerekismeret – sokféle szempontból\, sokféle módszerrel\n(Andóné Nagy Katalin tagiskola-vezető\, Dobán Orsolya\, Gombos Kata osztálytanítók) \n15:45-16:00 Szünet \n16:00-16:45 Műhelyfoglalkozás II. – amelyben az I. Műhelyfoglalkozások ismétlődnek \n16:45-17:30 Kérdés-felelet  \n  \nProgramunk ingyenes\, de regisztrációhoz kötött.\nRegisztráció ITT. \n  \nMinden érdeklődőt szeretettel várunk!
URL:https://avkf.hu/esemeny/apmk-kincskereso-muhely
LOCATION:AVKF Budapesti Campus\, Török Flóris utca 227-229.\, Budapest\, 1201
END:VEVENT
END:VCALENDAR