BEGIN:VCALENDAR
VERSION:2.0
PRODID:-//AVKF - ECPv6.15.17.1//NONSGML v1.0//EN
CALSCALE:GREGORIAN
METHOD:PUBLISH
X-ORIGINAL-URL:https://avkf.hu
X-WR-CALDESC:Események AVKF
REFRESH-INTERVAL;VALUE=DURATION:PT1H
X-Robots-Tag:noindex
X-PUBLISHED-TTL:PT1H
BEGIN:VTIMEZONE
TZID:Europe/Budapest
BEGIN:DAYLIGHT
TZOFFSETFROM:+0100
TZOFFSETTO:+0200
TZNAME:CEST
DTSTART:20210328T010000
END:DAYLIGHT
BEGIN:STANDARD
TZOFFSETFROM:+0200
TZOFFSETTO:+0100
TZNAME:CET
DTSTART:20211031T010000
END:STANDARD
BEGIN:DAYLIGHT
TZOFFSETFROM:+0100
TZOFFSETTO:+0200
TZNAME:CEST
DTSTART:20220327T010000
END:DAYLIGHT
BEGIN:STANDARD
TZOFFSETFROM:+0200
TZOFFSETTO:+0100
TZNAME:CET
DTSTART:20221030T010000
END:STANDARD
BEGIN:DAYLIGHT
TZOFFSETFROM:+0100
TZOFFSETTO:+0200
TZNAME:CEST
DTSTART:20230326T010000
END:DAYLIGHT
BEGIN:STANDARD
TZOFFSETFROM:+0200
TZOFFSETTO:+0100
TZNAME:CET
DTSTART:20231029T010000
END:STANDARD
END:VTIMEZONE
BEGIN:VEVENT
DTSTART;VALUE=DATE:20220613
DTEND;VALUE=DATE:20220618
DTSTAMP:20260423T130434
CREATED:20220104T110724Z
LAST-MODIFIED:20220104T110724Z
UID:32546-1655078400-1655510399@avkf.hu
SUMMARY:Záróvizsgák (BA\, MA)
DESCRIPTION:
URL:https://avkf.hu/esemeny/zarovizsgak-ba-ma-2
END:VEVENT
BEGIN:VEVENT
DTSTART;VALUE=DATE:20220625
DTEND;VALUE=DATE:20220626
DTSTAMP:20260423T130434
CREATED:20220104T110503Z
LAST-MODIFIED:20220104T110503Z
UID:32544-1656115200-1656201599@avkf.hu
SUMMARY:Vizsgaidőszak vége
DESCRIPTION:
URL:https://avkf.hu/esemeny/vizsgaidoszak-vege-2
END:VEVENT
BEGIN:VEVENT
DTSTART;TZID=Europe/Budapest:20220628T100000
DTEND;TZID=Europe/Budapest:20220628T100000
DTSTAMP:20260423T130434
CREATED:20220517T141747Z
LAST-MODIFIED:20220518T070345Z
UID:35239-1656410400-1656410400@avkf.hu
SUMMARY:Tanévzáró ünnepség
DESCRIPTION:
URL:https://avkf.hu/esemeny/tanevzaro-unnepseg
LOCATION:Apor Vilmos Katolikus Főiskola\, Schuszter Konstantin tér 1-5.\, Vác\, 2600
END:VEVENT
BEGIN:VEVENT
DTSTART;TZID=Europe/Budapest:20220701T100000
DTEND;TZID=Europe/Budapest:20220701T100000
DTSTAMP:20260423T130434
CREATED:20220104T111322Z
LAST-MODIFIED:20220624T081117Z
UID:32552-1656669600-1656669600@avkf.hu
SUMMARY:Diplomaátadó ünnepség (Vác I.)
DESCRIPTION:
URL:https://avkf.hu/esemeny/diplomaatado-unnepseg-vac-1
LOCATION:Apor Vilmos Katolikus Főiskola\, Schuszter Konstantin tér 1-5.\, Vác\, 2600
END:VEVENT
BEGIN:VEVENT
DTSTART;TZID=Europe/Budapest:20220701T130000
DTEND;TZID=Europe/Budapest:20220701T130000
DTSTAMP:20260423T130434
CREATED:20220624T080956Z
LAST-MODIFIED:20220624T080956Z
UID:35437-1656680400-1656680400@avkf.hu
SUMMARY:Diplomaátadó ünnepség (Vác II.)
DESCRIPTION:
URL:https://avkf.hu/esemeny/diplomaatado-unnepseg-vac-2
LOCATION:Apor Vilmos Katolikus Főiskola\, Schuszter Konstantin tér 1-5.\, Vác\, 2600
END:VEVENT
BEGIN:VEVENT
DTSTART;TZID=Europe/Budapest:20220702T100000
DTEND;TZID=Europe/Budapest:20220702T100000
DTSTAMP:20260423T130434
CREATED:20220517T141308Z
LAST-MODIFIED:20220517T141308Z
UID:35237-1656756000-1656756000@avkf.hu
SUMMARY:Diplomaátadó ünnepség (Budapest)
DESCRIPTION:
URL:https://avkf.hu/esemeny/diplomaatado-unnepseg-budapest
LOCATION:AVKF Budapesti Campus\, Török Flóris utca 227-229.\, Budapest\, 1201
END:VEVENT
BEGIN:VEVENT
DTSTART;VALUE=DATE:20220815
DTEND;VALUE=DATE:20220816
DTSTAMP:20260423T130434
CREATED:20220809T115809Z
LAST-MODIFIED:20220809T115809Z
UID:35888-1660521600-1660607999@avkf.hu
SUMMARY:Tantárgyfelvételi időszak kezdete
DESCRIPTION:
URL:https://avkf.hu/esemeny/tantargyfelveteli-idoszak-kezdete
END:VEVENT
BEGIN:VEVENT
DTSTART;VALUE=DATE:20220826
DTEND;VALUE=DATE:20220827
DTSTAMP:20260423T130434
CREATED:20220519T142220Z
LAST-MODIFIED:20220519T142220Z
UID:35301-1661472000-1661558399@avkf.hu
SUMMARY:Beiratkozás (nappali tagozat)
DESCRIPTION:
URL:https://avkf.hu/esemeny/beiratkozas-nappali-tagozat
END:VEVENT
BEGIN:VEVENT
DTSTART;VALUE=DATE:20220827
DTEND;VALUE=DATE:20220828
DTSTAMP:20260423T130434
CREATED:20220519T142331Z
LAST-MODIFIED:20220519T142331Z
UID:35303-1661558400-1661644799@avkf.hu
SUMMARY:Beiratkozás (levelező tagozat)
DESCRIPTION:
URL:https://avkf.hu/esemeny/beiratkozas-levelezo-tagozat
END:VEVENT
BEGIN:VEVENT
DTSTART;VALUE=DATE:20220829
DTEND;VALUE=DATE:20220901
DTSTAMP:20260423T130434
CREATED:20220711T115155Z
LAST-MODIFIED:20220711T115155Z
UID:35669-1661731200-1661990399@avkf.hu
SUMMARY:Újonc-napok
DESCRIPTION:
URL:https://avkf.hu/esemeny/ujonc-napok
LOCATION:Apor Vilmos Katolikus Főiskola\, Schuszter Konstantin tér 1-5.\, Vác\, 2600
END:VEVENT
BEGIN:VEVENT
DTSTART;VALUE=DATE:20220903
DTEND;VALUE=DATE:20220904
DTSTAMP:20260423T130434
CREATED:20220519T135049Z
LAST-MODIFIED:20220519T135049Z
UID:35285-1662163200-1662249599@avkf.hu
SUMMARY:Szorgalmi időszak kezdete
DESCRIPTION:
URL:https://avkf.hu/esemeny/szorgalmi-idoszak-kezdete-2
END:VEVENT
BEGIN:VEVENT
DTSTART;TZID=Europe/Budapest:20220905T100000
DTEND;TZID=Europe/Budapest:20220905T100000
DTSTAMP:20260423T130434
CREATED:20220519T134639Z
LAST-MODIFIED:20220902T060206Z
UID:35283-1662372000-1662372000@avkf.hu
SUMMARY:Veni Sancte szentmisével egybekötött tanévnyitó ünnepély
DESCRIPTION:
URL:https://avkf.hu/esemeny/tanevnyito
LOCATION:Apor Vilmos Katolikus Főiskola\, Schuszter Konstantin tér 1-5.\, Vác\, 2600
END:VEVENT
BEGIN:VEVENT
DTSTART;VALUE=DATE:20220912
DTEND;VALUE=DATE:20220913
DTSTAMP:20260423T130434
CREATED:20220809T115846Z
LAST-MODIFIED:20220809T115846Z
UID:35890-1662940800-1663027199@avkf.hu
SUMMARY:Tantárgyfelvételi időszak vége
DESCRIPTION:
URL:https://avkf.hu/esemeny/tantargyfelveteli-idoszak-vege
END:VEVENT
BEGIN:VEVENT
DTSTART;TZID=Europe/Budapest:20220919T150000
DTEND;TZID=Europe/Budapest:20220919T150000
DTSTAMP:20260423T130434
CREATED:20220913T111317Z
LAST-MODIFIED:20220913T111317Z
UID:36650-1663599600-1663599600@avkf.hu
SUMMARY:Credo - Kovács Erzsébet és Zoltán Győző kiállításának megnyitója
DESCRIPTION:
URL:https://avkf.hu/esemeny/credo-kiallitasmegnyito
LOCATION:Apor Vilmos Katolikus Főiskola\, Schuszter Konstantin tér 1-5.\, Vác\, 2600
END:VEVENT
BEGIN:VEVENT
DTSTART;TZID=Europe/Budapest:20220921T150000
DTEND;TZID=Europe/Budapest:20220921T150000
DTSTAMP:20260423T130435
CREATED:20220913T125733Z
LAST-MODIFIED:20220913T125733Z
UID:36653-1663772400-1663772400@avkf.hu
SUMMARY:TDK kerekasztal-beszélgetés
DESCRIPTION:
URL:https://avkf.hu/esemeny/tdk-kerekasztal-2022
LOCATION:Apor Vilmos Katolikus Főiskola\, Schuszter Konstantin tér 1-5.\, Vác\, 2600
END:VEVENT
BEGIN:VEVENT
DTSTART;TZID=Europe/Budapest:20221008T090000
DTEND;TZID=Europe/Budapest:20221008T161500
DTSTAMP:20260423T130435
CREATED:20220902T115702Z
LAST-MODIFIED:20220926T095517Z
UID:36569-1665219600-1665245700@avkf.hu
SUMMARY:I. Organikus Pedagógia Konferencia
DESCRIPTION:  \nAz Apor Vilmos Katolikus Főiskola Organikus Pedagógiai Módszertani Központja és az Organikus Pedagógia Egyesület szeretettel hívja Önt a 2022. október 8-án Budapesten megrendezendő \n„A tudomány és az élet násza”(J.Kentenich) című\nI. Organikus Pedagógia Konferenciára \nIdőpont: 2022. október 8. 9:00-16:15\nHelyszín: Apor Vilmos Katolikus Főiskola Budapesti Campusa (1201 Budapest\, Török Flóris utca 227-229.) \nA részvétel ingyenes\, de online regisztrációhoz kötött. A regisztrációs felület ITT érhető el.\n \nFővédnök: Felföldi László püspök \nDélelőtt: Az élet tudománya – előadások\nElőadók: Schw. Gertrud-Maria Erhard\, Földi László\, Fuszek Csilla\, Gloviczki Zoltán\, Hortobágyiné Nagy Ágnes\, Sárkány Péter\, Winkler Márta\, Tereza Worowska\nKözreműködik: Navratil Andrea\nHázigazda: Horváth Szilárd \nEbédszünet \nDélután: Életté vált tudomány – műhelybemutatók (Forgószínpad)\nIntézmények – például: Búzaszem Katolikus Iskola – Göd\, Harangvirág Református Óvoda – Pécel\, Krisztus Király Római Katolikus Általános Iskola – Dunakeszi\, Szt. Erzsébet Katolikus Iskola – Isaszeg\, Szt. Ferenc Tanyaóvoda – Mány\, Szt. Margit Ciszterci Iskolaközpont – Pécs\, Veresegyházi Katolikus Gimnázium\nIntézményen kívüli tevékenységek – például: Cserkészet; Nagyító Alapítvány; Szentjánosbogár Közösség; Iskolakertekért Alapítvány; Mesepedagógia – Bajzáth Mária; Boldogabb családokért Családi Életre Nevelés (CSÉN) \nA konferencia célja:\nBetekintés az Organikus Pedagógia szellemében működő műhelyek munkájába\, valamint közös gondolkodás az „organikus oázisok” közötti eszmei-szakmai-tapasztalati hálózat kialakításáról. \nSzeretettel várunk minden érdeklődőt!
URL:https://avkf.hu/esemeny/organikus-pedagogia-konferencia-2022
LOCATION:AVKF Budapesti Campus\, Török Flóris utca 227-229.\, Budapest\, 1201
END:VEVENT
BEGIN:VEVENT
DTSTART;VALUE=DATE:20221010
DTEND;VALUE=DATE:20221012
DTSTAMP:20260423T130435
CREATED:20220816T095812Z
LAST-MODIFIED:20230711T110957Z
UID:35918-1665360000-1665532799@avkf.hu
SUMMARY:KERT ÉS SZABADTÉR A NEVELÉSBEN – VII. Kisgyermeknevelési Konferencia (Brunszvik Teréz Szakmai Napok)
DESCRIPTION:  \n2022. október 10. Martonvásár\n2022. október 11. Vác \nAz Apor Vilmos Katolikus Főiskola Martonvásár önkormányzatával együttműködve idén is megrendezi Kisgyermeknevelési Konferenciáját (Brunszvik Teréz Szakmai Napok) 2022. október 10-11. között\, amelynek fókuszában ezúttal a kert és a szabadtér nevelésben betöltött szerepe áll. \nA magyar és idegennyelvű plenáris előadások és szekciófoglalkozások során – sok egyéb mellett – olyan témákat járunk majd körül\, mint az iskola- és óvodakertek helye a pedagógiai munkában\, a kert és az irodalom szerepe\, de szó lesz arról is\, hogy a reformpedagógiai irányzatokban milyen funkciót tölt be a természet\, vagy milyen paradoxon húzódik a fenntarthatóság és a fenntarthatóságra nevelés mögött. \nNagy örömünkre szolgál\, hogy előadóink között neves hazai és külföldi szakembereket köszönthetünk. \nA konferencián való részvétel ingyenes\, de regisztrációhoz kötött\, pedagógus továbbképzésbe igazoltan beszámítható.\nAz online regisztrációs felület ITT érhető el. Jelentkezési határidő: 2022. október 2. \nRészletes program \n \n 
URL:https://avkf.hu/esemeny/vii-kisgyermeknevelesi-konferencia
END:VEVENT
BEGIN:VEVENT
DTSTART;TZID=Europe/Budapest:20221018T150000
DTEND;TZID=Europe/Budapest:20221018T170000
DTSTAMP:20260423T130435
CREATED:20221004T142345Z
LAST-MODIFIED:20221004T143600Z
UID:37016-1666105200-1666112400@avkf.hu
SUMMARY:Atipikus Fejlődés Módszertani Központ szakmai műhelysorozat I. - Közösségalkotó terek
DESCRIPTION:  \nAz Atipikus Fejlődés Módszertani Központ első szakmai műhelye a 2022/23-as tanévben oktatók\, hallgatók és minden érdeklődő számára. \nIdőpont: 2022. október 18. (kedd) 15:00-17:00 óráig\nHelyszín: online\nMűhelyvezető: Dr. Bihary Sarolta építész\, vizuális és környezetkultúra szakos tanár \nMilyen egy jó közösségi tér? Hogyan tud az egyéni értékeket hangsúlyozó társadalmunk közösségi terekben együttműködni? Hogyan használhatjuk az ember és tér kommunikációját az oktatásban? \nAz épített terek és annak berendezése meghatározza viselkedésünket. Így a terek ritmusa\, kommunikációja\, funkcionalitása az oktatás hatékonyságában jelentkezik. Az oktatási terek milyensége egyszerre edukációs\, szociális\, kulturális és gazdasági kérdés is. A téralkotó elemek sokszor nehezen változtathatók\, csakúgy mint annak berendezése. Azoknak használatában azonban rengeteg lehetőség lakozik. Az alkalom során megvizsgáljuk\, milyen egy jó közösségi tér\, valamint hogyan szervezhetjük iskolai tereinket úgy\, hogy azok alkotó erőként közösséget építhessenek. \nA részvétel ingyenes\, de előzetes regisztrációhoz kötött.\nRegisztráció ITT. \nMinden érdeklődőt szeretettel várunk!
URL:https://avkf.hu/esemeny/afmk-2022-23-1
LOCATION:online
END:VEVENT
BEGIN:VEVENT
DTSTART;TZID=Europe/Budapest:20221020T103000
DTEND;TZID=Europe/Budapest:20221020T103000
DTSTAMP:20260423T130435
CREATED:20220914T135037Z
LAST-MODIFIED:20220930T100032Z
UID:36719-1666261800-1666261800@avkf.hu
SUMMARY:Katolikus középiskolák XIV. országos helyesírási versenye
DESCRIPTION:  \nAz Apor Vilmos Katolikus Főiskola 2022. október 20-án 10:30 óra kezdettel rendezi meg a \nKatolikus középiskolák XIV. országos helyesírási versenyét. \n  \nA verseny célja:\nAnyanyelvi kultúránk ápolása\, az igényes írásbeli magyar nyelvhasználat szükségességének megerősítése. \nA verseny résztvevői:\nA magyarországi katolikus középiskolák tanulói. \nA jelentkezés módja:\nA főiskola által elküldött jelentkezési lapon.\nIntézményenként 2-2 (9−12. osztályos) tanuló nevezhető. \nJelentkezési határidő: 2022. október 6. \nA verseny ismeretanyaga:\nA magyar helyesírás szabályai 12. kiadásában foglalt ismeretanyag\, illetve az egyházi írásos nyelvhasználat. \nA felkészüléshez ajánlott szakirodalom:\nA magyar helyesírás szabályai (12. kiadás). Akadémiai Kiadó\, Budapest\, 2016\nHelyesírás. Osiris Kiadó\, Budapest\, 2006\nÚtmutató az egyházi kifejezések helyesírásához. Szent István Társulat\, Budapest\, 2006\nKatolikus hetilapok írásai\nGasparics Gyula: Helyesírási nefelejcs. AVKF Vác\, 2006 \nA verseny három fordulóból áll: \n\nj-ly-os feladatlap kitöltése;\nhelyesírási feladatlap megoldása;\ntollbamondás írása.\n\nAz egyes fordulók időtartama: \n\nj-ly-os feladatlap kitöltése: 10 perc;\nhelyesírási feladatlap megoldása: 35 perc;\na tollbamondás írása: 20−25 perc.\n\nAz egyes fordulók között 10 perces szünetek vannak. \nÉrtékelés: \n\nAz értékelés során a három forduló hibaszámai összeadódnak.\nA versenyzők rangsorolása\, a helyezések kialakítása a növekvő hibaszám figyelembevételével történik.\n\nDíjazás: \n\nA díjazás során az 1−6. helyezett nevét\, illetve küldő intézményét ismertetjük.\nAz 1−6. helyezett dicsérő oklevélben részesül.\nAz 1−3. helyezettet a főiskola ajándékkönyvekkel jutalmazza.\nAz 1. helyezett veheti át a főiskola vándorserlegét.\nA díjakat\, a dicsérő okleveleket\, az emléklapokat\, valamint a vándorserleget az intézmény rektora (rektorhelyettese) és a versenybizottság elnöke (tagja) adja át.\n\n  \nVác\, 2022. szeptember 14. \nDr. Gasparics Gyula\nfőiskolai tanár
URL:https://avkf.hu/esemeny/katolikus-kozepiskolak-xiv-orszagos-helyesirasi-versenye
LOCATION:Apor Vilmos Katolikus Főiskola\, Schuszter Konstantin tér 1-5.\, Vác\, 2600
END:VEVENT
BEGIN:VEVENT
DTSTART;TZID=Europe/Budapest:20221021T090000
DTEND;TZID=Europe/Budapest:20221021T163000
DTSTAMP:20260423T130435
CREATED:20220914T135504Z
LAST-MODIFIED:20221014T104318Z
UID:36721-1666342800-1666369800@avkf.hu
SUMMARY:Rogers Szakmai Nap
DESCRIPTION:  \nSzeretettel várunk az Alternatív Pedagógiák Módszertani Központ egésznapos programjára! \nCarl Rogers szemlélete és a Rogers Iskola bemutatója \nHogyan valósul meg a rogersi szemlélet a mindennapi pedagógiai gyakorlatban? Hogyan tudjuk az empátiát\, a bizalmat\, a feltételhez nem kötött odafordulást kialakítani és fejleszteni magunkban? Hogyan építhető fel egy ilyen szellemiségű intézményi közösség\, és milyen további rendszerszintű változásokat hívhat életre? Ezekre a kérdésekre keressük a választ konferenciánkon. \n  \nPROGRAM: \n9:00–9:30 Regisztráció \n9:30–9:45 Köszöntők \nDr. Molnár Krisztina\, Apor Vilmos Katolikus Főiskola\, főiskolai tanár\, tanszékvezető\, Neveléstudományi Tanszék\nDr. Czike Bernadett\, Apor Vilmos Katolikus Főiskola\, főiskolai tanár\, Alternatív Pedagógiák Módszertani Központ szakmai vezető \n9:45–11:45 Plenáris előadások \nA személyközpontú szemlélet alkalmazásának lehetőségei az óvodában és az iskolában – szubjektív áttekintés\nDr. Gádor Anna – pszichológus\, tanár\, az iskola egyik alapítója \nHogyan jelenik meg a személyközpontú szemlélet a Rogers Óvoda és Iskola oktatási rendszerében és szervezeti működésében\nLipták Erika – intézményvezető\, gyógypedagógus \nEgy utazás állomásai – életem és a Rogers Iskola\nBárdosné Györfi Klára – tanító\, szülő \nRogers Iskola belső kézből\nProhászka Annamari\, Kőszegi Natasa – volt rogerses diákok \n11:45–12:45 Ebéd \n12:45–14:15 Műhelyfoglalkozások I. \n14:15–14:30 Szünet \n14:30–16:00 Műhelyfoglalkozások II. \n16:00–16:30 A szakmai nap közös zárása \n  \nA Műhelyfoglalkozások témái mindkét idősávban: \nFelnőttek közötti kapcsolatok a Rogers Óvodában és Iskolában\nDr. Gádor Anna – pszichológus\, tanár\, az iskola egyik alapítója \n„Úgy néztem magamra…” Önismeret a csoport tükrében\nBacsik Ágnes – tanító\nKomaság Margit – tanító\, pszichopedagógus \n„Kalandra fel!” – Csoportjáték\, mint a közösségépítés egyik színtere\nBárdosné Györfi Klára – tanító\, szülő\nKordé-Jacsó Rita – tanító \nAz Egri csillagok projekt – egy regény feldolgozásának anatómiája\nBorza Eszter – angol-magyar szakos tanár\nMorvay Petra – angol-magyar szakos tanár \nSzociális kompetencia fejlesztése\nHodur Henrietta – matematika-informatika szakos tanár\, Gordon tréner \nBetekintés a kultúrkör elméletébe és gyakorlatába\nKorbai Katalin – tanító\, drámatanár \nAz értékelésben rejlő érték\nLipták Erika – intézményvezető\, gyógypedagógus\nSilhavy Zita – angoltanár \n„Merj nagyot álmodni!” – Faló projekt\nTallér Júlia – tanító\, az Alternatív Pedagógiák Módszertani Központ munkatársa \n  \nAz Apor Vilmos Katolikus Főiskola hallgatóinak és tanárainak a program ingyenes.\nKülsős résztvevőknek ajánlott rendezvényi támogatás\, mely a helyszínen fizetendő: 1000 Ft. \nKérjük\, 2022. október 17-ig ITT regisztráljon programunkra. \n  \n \n 
URL:https://avkf.hu/esemeny/rogers-szakmai-nap
LOCATION:AVKF Budapesti Campus\, Török Flóris utca 227-229.\, Budapest\, 1201
END:VEVENT
BEGIN:VEVENT
DTSTART;TZID=Europe/Budapest:20221028T100000
DTEND;TZID=Europe/Budapest:20221028T100000
DTSTAMP:20260423T130435
CREATED:20221024T080356Z
LAST-MODIFIED:20221024T080453Z
UID:37266-1666951200-1666951200@avkf.hu
SUMMARY:Fotókiállítás-megnyitó - A Kárpát-medencei keresztény alkotóművészet támogatása
DESCRIPTION:
URL:https://avkf.hu/esemeny/fotokiallitas-megnyito-kesz
LOCATION:Apor Vilmos Katolikus Főiskola\, Schuszter Konstantin tér 1-5.\, Vác\, 2600
END:VEVENT
BEGIN:VEVENT
DTSTART;VALUE=DATE:20221031
DTEND;VALUE=DATE:20221105
DTSTAMP:20260423T130435
CREATED:20220519T135522Z
LAST-MODIFIED:20221028T123219Z
UID:35289-1667174400-1667606399@avkf.hu
SUMMARY:Őszi szünet
DESCRIPTION:
URL:https://avkf.hu/esemeny/oszi-szunet-4
CATEGORIES:Ünnepek
END:VEVENT
BEGIN:VEVENT
DTSTART;TZID=Europe/Budapest:20221031T120000
DTEND;TZID=Europe/Budapest:20221031T120000
DTSTAMP:20260423T130435
CREATED:20220809T115959Z
LAST-MODIFIED:20220809T115959Z
UID:35892-1667217600-1667217600@avkf.hu
SUMMARY:Szakdolgozati témaválasztási lap leadási határideje
DESCRIPTION:
URL:https://avkf.hu/esemeny/szakdolgozati-temavalasztasi-lap-leadasi-hatarideje
END:VEVENT
BEGIN:VEVENT
DTSTART;TZID=Europe/Budapest:20221105T110000
DTEND;TZID=Europe/Budapest:20221105T110000
DTSTAMP:20260423T130435
CREATED:20221024T074507Z
LAST-MODIFIED:20221024T074706Z
UID:37263-1667646000-1667646000@avkf.hu
SUMMARY:Szocped Café
DESCRIPTION:Győri Péter: A hajléktalanság legégetőbb\, aktuális kérdései \nHelyszín: I. emelet\, Szent István terem
URL:https://avkf.hu/esemeny/szocped-cafe-2022-11
LOCATION:Apor Vilmos Katolikus Főiskola\, Schuszter Konstantin tér 1-5.\, Vác\, 2600
END:VEVENT
BEGIN:VEVENT
DTSTART;VALUE=DATE:20221109
DTEND;VALUE=DATE:20221110
DTSTAMP:20260423T130435
CREATED:20220902T115839Z
LAST-MODIFIED:20221028T141000Z
UID:36572-1667952000-1668038399@avkf.hu
SUMMARY:„Varázslatos idők és terek” - Magyar Tudomány Ünnepe
DESCRIPTION:Természettudományos programok általános iskolásoknak \n2022. november 9-én „Varázslatos idők és terek” címmel tartunk programot általános iskolásoknak – az MTA szervezésében\, a Magyar Tudomány Ünnepe rendezvénysorozat keretében. \nIntézményünk egyik kutatóműhelye a gyermekkori tér- és időbeli tájékozódást vizsgálja pedagógiai szempontból. Ennek keretében zárt és szabad térben tanítási tereket alakítunk ki\, új kísérleti és szemléltető eszközöket fejlesztünk. \nDélelőtt a Földváry Károly Általános Iskola\, délután pedig a Juhász Gyula Általános Iskola pedagógusai és diákjai részére tartanak interaktív bemutatókat főiskolánk hallgatói.
URL:https://avkf.hu/esemeny/magyar-tudomany-napja-2022
LOCATION:Apor Vilmos Katolikus Főiskola\, Schuszter Konstantin tér 1-5.\, Vác\, 2600
END:VEVENT
BEGIN:VEVENT
DTSTART;TZID=Europe/Budapest:20221111T100000
DTEND;TZID=Europe/Budapest:20221111T170000
DTSTAMP:20260423T130435
CREATED:20221019T070144Z
LAST-MODIFIED:20221025T143738Z
UID:37127-1668160800-1668186000@avkf.hu
SUMMARY:Zöldinfrastruktúra és Közösségfejlesztés Konferencia
DESCRIPTION:  \nA részletes program ITT érhető el. \nA konferencia ingyenes\, de regisztrációhoz kötött.\nA regisztráció határideje: 2022. november 4.\nRegisztráció ITT. \n 
URL:https://avkf.hu/esemeny/zoldinfrastruktura-es-kozossegfejlesztes-konferencia
LOCATION:Apor Vilmos Katolikus Főiskola\, Schuszter Konstantin tér 1-5.\, Vác\, 2600
END:VEVENT
BEGIN:VEVENT
DTSTART;TZID=Europe/Budapest:20221116T141500
DTEND;TZID=Europe/Budapest:20221116T141500
DTSTAMP:20260423T130435
CREATED:20221104T131239Z
LAST-MODIFIED:20221104T131239Z
UID:37326-1668608100-1668608100@avkf.hu
SUMMARY:International Café
DESCRIPTION:
URL:https://avkf.hu/esemeny/international-cafe-2022
LOCATION:Apor Vilmos Katolikus Főiskola\, Schuszter Konstantin tér 1-5.\, Vác\, 2600
END:VEVENT
BEGIN:VEVENT
DTSTART;VALUE=DATE:20221117
DTEND;VALUE=DATE:20221119
DTSTAMP:20260423T130435
CREATED:20220816T100035Z
LAST-MODIFIED:20221115T135711Z
UID:35920-1668643200-1668815999@avkf.hu
SUMMARY:I. Anna–Joachim-konferencia
DESCRIPTION:A konferencia részletes programja ITT érhető el. \nA részvétel előzetes regisztrációhoz kötött\, melynek határideje 2022. november 6.\nA regisztrációs felület ITT érhető el.
URL:https://avkf.hu/esemeny/anna-joachim-konferencia-2022
LOCATION:AVKF Budapesti Campus\, Török Flóris utca 227-229.\, Budapest\, 1201
END:VEVENT
BEGIN:VEVENT
DTSTART;TZID=Europe/Budapest:20221130T140000
DTEND;TZID=Europe/Budapest:20221130T140000
DTSTAMP:20260423T130435
CREATED:20221107T141526Z
LAST-MODIFIED:20221107T141526Z
UID:37340-1669816800-1669816800@avkf.hu
SUMMARY:Intézményi Tudományos Diákköri Konferencia
DESCRIPTION:
URL:https://avkf.hu/esemeny/itdk-2022-11
LOCATION:Apor Vilmos Katolikus Főiskola\, Schuszter Konstantin tér 1-5.\, Vác\, 2600
END:VEVENT
BEGIN:VEVENT
DTSTART;TZID=Europe/Budapest:20221202T130000
DTEND;TZID=Europe/Budapest:20221202T144500
DTSTAMP:20260423T130435
CREATED:20221121T082539Z
LAST-MODIFIED:20221121T082608Z
UID:37512-1669986000-1669992300@avkf.hu
SUMMARY:Adventi lelki nap
DESCRIPTION:Helyszín: II. János Pál terem
URL:https://avkf.hu/esemeny/adventi-lelki-nap-2022
LOCATION:Apor Vilmos Katolikus Főiskola\, Schuszter Konstantin tér 1-5.\, Vác\, 2600
END:VEVENT
END:VCALENDAR