BEGIN:VCALENDAR
VERSION:2.0
PRODID:-//AVKF - ECPv6.15.17.1//NONSGML v1.0//EN
CALSCALE:GREGORIAN
METHOD:PUBLISH
X-WR-CALNAME:AVKF
X-ORIGINAL-URL:https://avkf.hu
X-WR-CALDESC:Események AVKF
REFRESH-INTERVAL;VALUE=DURATION:PT1H
X-Robots-Tag:noindex
X-PUBLISHED-TTL:PT1H
BEGIN:VTIMEZONE
TZID:Europe/Budapest
BEGIN:DAYLIGHT
TZOFFSETFROM:+0100
TZOFFSETTO:+0200
TZNAME:CEST
DTSTART:20220327T010000
END:DAYLIGHT
BEGIN:STANDARD
TZOFFSETFROM:+0200
TZOFFSETTO:+0100
TZNAME:CET
DTSTART:20221030T010000
END:STANDARD
BEGIN:DAYLIGHT
TZOFFSETFROM:+0100
TZOFFSETTO:+0200
TZNAME:CEST
DTSTART:20230326T010000
END:DAYLIGHT
BEGIN:STANDARD
TZOFFSETFROM:+0200
TZOFFSETTO:+0100
TZNAME:CET
DTSTART:20231029T010000
END:STANDARD
BEGIN:DAYLIGHT
TZOFFSETFROM:+0100
TZOFFSETTO:+0200
TZNAME:CEST
DTSTART:20240331T010000
END:DAYLIGHT
BEGIN:STANDARD
TZOFFSETFROM:+0200
TZOFFSETTO:+0100
TZNAME:CET
DTSTART:20241027T010000
END:STANDARD
BEGIN:DAYLIGHT
TZOFFSETFROM:+0100
TZOFFSETTO:+0200
TZNAME:CEST
DTSTART:20250330T010000
END:DAYLIGHT
BEGIN:STANDARD
TZOFFSETFROM:+0200
TZOFFSETTO:+0100
TZNAME:CET
DTSTART:20251026T010000
END:STANDARD
END:VTIMEZONE
BEGIN:VEVENT
DTSTART;TZID=Europe/Budapest:20231017T150000
DTEND;TZID=Europe/Budapest:20231017T170000
DTSTAMP:20260420T175145
CREATED:20231004T141429Z
LAST-MODIFIED:20231010T084303Z
UID:42028-1697554800-1697562000@avkf.hu
SUMMARY:Atipikus Fejlődés Módszertani Központ szakmai műhelysorozat I. - 3D nyomtatás „bölcsészeknek”
DESCRIPTION:Az Atipikus Fejlődés Módszertani Központ első szakmai műhelye a 2023/24-es tanévben oktatók\, hallgatók és minden érdeklődő számára. \n  \nA 3D nyomtatás hallatán a „nem informatikusok” egy része úgy gondolja\, hogy ez valami bonyolult\, elérhetetlen dolog\, amit ő úgysem fog tudni megtanulni. Ezt a hiedelmet szeretnénk cáfolni\, annál is inkább\, mert a 21. század oktatására nézve nagy lehetőségeket tartogat ez a technológia. \nA műhelyen a résztvevők megismerkedhetnek a 3D modellezéssel és a 3D nyomtató működésével a gyakorlatban\, egy-két kisebb tárgyat el is készítünk. \nA részvétel ingyenes\, de előzetes regisztrációhoz kötött.\nMaximum 20 főt tudunk fogadni\, érkezési sorrendben rögzítjük a regisztrációkat.\nRegisztráció ITT. \n  \nHelyszín:\nApor Vilmos Katolikus Főiskola\nSzent Miklós téri épület\nBoldog Sára terem \nMűhelyvezető: Prof. Dr. Gyarmathy Éva \n  \nMinden érdeklődőt szeretettel várunk!
URL:https://avkf.hu/esemeny/afmk-szakmai-muhelysorozat-i-3d-nyomtatas-bolcseszeknek
LOCATION:Apor Vilmos Katolikus Főiskola Szent Miklós téri épülete\, Szent Miklós tér 14.\, Vác\, 2600\, Magyarország
END:VEVENT
BEGIN:VEVENT
DTSTART;TZID=Europe/Budapest:20231018T140000
DTEND;TZID=Europe/Budapest:20231018T153000
DTSTAMP:20260420T175145
CREATED:20231013T064032Z
LAST-MODIFIED:20231013T064304Z
UID:42164-1697637600-1697643000@avkf.hu
SUMMARY:Ima-katekézis beszélgetéssorozat I.
DESCRIPTION:A Váci Egyházmegye ezer éves fennállásának évfordulójára készülve Marton Zsolt püspök atya három éves jubileumi felkészülést hirdetett meg a lelki megújulásra egy ima-katekézis beszélgetéssorozat keretében. \nAz Apor Vilmos Katolikus Főiskolán az első beszélgetésre 2023. október 18-án 14:00-15:30 óra között kerül sor a Boldog Meszlényi Zoltán teremben Balázs András főiskolai lelkész és Kondorosi Noémi katekéta-hallgató vezetésével. \nAz első év témája a megtérés\, a személyes hit és az istenkapcsolat. Péter második leveléből kiindulva beszélgetünk a következő témákról: mennyire szólnak nekünk\, ma élő embereknek a Péter-levél sorai? Mit jelentenek a személyes hitünk\, a mindennapi életünk számára? Hogyan találjunk rá a hitünkre vagy hogyan adhatunk neki friss lendületet? Mit ígért Jézus? \nA beszélgetésre sok szeretettel várunk mindenkit!
URL:https://avkf.hu/esemeny/ima-katekezis-beszelgetessorozat-i
LOCATION:Apor Vilmos Katolikus Főiskola\, Schuszter Konstantin tér 1-5.\, Vác\, 2600
END:VEVENT
BEGIN:VEVENT
DTSTART;TZID=Europe/Budapest:20231019T103000
DTEND;TZID=Europe/Budapest:20231019T103000
DTSTAMP:20260420T175145
CREATED:20230908T114226Z
LAST-MODIFIED:20230908T115205Z
UID:41615-1697711400-1697711400@avkf.hu
SUMMARY:Katolikus középiskolák XV. országos helyesírási versenye
DESCRIPTION:Az Apor Vilmos Katolikus Főiskola 2023. október 19-én 10:30 óra kezdettel rendezi meg a \nKatolikus középiskolák XV. országos helyesírási versenyét. \n  \nA verseny célja: anyanyelvi kultúránk ápolása\, az igényes írásbeli magyar nyelvhasználat szükségességének megerősítése. \nA verseny résztvevői: a magyarországi katolikus középiskolák tanulói. \nA jelentkezés módja: a főiskola által elküldött jelentkezési lapon. Intézményenként 2-2 (9−12. osztályos) tanuló nevezhető. \nJelentkezési határidő: 2023. október 10. \n  \nA verseny ismeretanyaga: A magyar helyesírás szabályai 12. kiadásában foglalt ismeretanyag\, illetve az egyházi írásos nyelvhasználat. \nA felkészüléshez ajánlott szakirodalom:\nA magyar helyesírás szabályai 12. kiadás Akadémiai Kiadó\, Budapest\, 2016\nHelyesírás. Osiris Kiadó\, Budapest\, 2006\nÚtmutató az egyházi kifejezések helyesírásához. Szent István Társulat\, Budapest\, 2006\nKatolikus hetilapok írásai\nGasparics Gyula: Helyesírási nefelejcs. AVKF Vác\, 2006 \n  \nA verseny három fordulóból áll:\n1. j-ly-os feladatlap kitöltése;\n2. helyesírási feladatlap megoldása;\n3. tollbamondás írása. \nAz egyes fordulók időtartama:\n1. j-ly-os feladatlap kitöltése: 10 perc;\n2. helyesírási feladatlap megoldása: 35 perc;\n3. a tollbamondás írása: 20−25 perc. \nAz egyes fordulók között 10 perces szünetek vannak. \n  \nÉrtékelés:\n1. Az értékelés során a három forduló hibaszámai összeadódnak.\n2. A versenyzők rangsorolása\, a helyezések kialakítása a növekvő hibaszám figyelembevételével történik. \nDíjazás:\n1. A díjazás során az 1−6. helyezett nevét\, illetve küldő intézményét ismertetjük.\n2. Az 1−6. helyezett dicsérő oklevélben részesül.\n3. Az 1−3. helyezettet a főiskola ajándékkönyvekkel jutalmazza.\n4. Az 1. helyezett veheti át a főiskola vándorserlegét.\n5. A díjakat\, a dicsérő okleveleket\, az emléklapokat\, valamint a vándorserleget az intézmény rektora (rektorhelyettese) és a versenybizottság elnöke (tagja) adja át. \n  \nRÉSZLETES PROGRAM \n10:30–10:45\nMegérkezés a főiskolára\, fogadás \n10:45–11:00\nKöszöntő\, a verseny megnyitása\nHelyszín: Szent II. János Pál Terem \n11:00‒12:20\nA versenyfeladatok megoldása\nHelyszín: Szent II. János Pál Terem \nSzakmai előadás a kísérőtanárok részére\nHelyszín: Könyvtár \n12:30–13:30\nEbéd \n13:30–14:30\nKulturális program\nHelyszín: Szent II. János Pál Terem \n14:30–15:00\nEredményhirdetés\nHelyszín: Szent II. János Pál Terem \n15:00–\nHazautazás \n  \nFelmerülő kérdések esetén a gasparics.gyula@avkf.hu e-mailcímen érdeklődhet.
URL:https://avkf.hu/esemeny/katolikus-kozepiskolak-xv-orszagos-helyesirasi-versenye
LOCATION:Apor Vilmos Katolikus Főiskola\, Schuszter Konstantin tér 1-5.\, Vác\, 2600
END:VEVENT
BEGIN:VEVENT
DTSTART;TZID=Europe/Budapest:20231020T100000
DTEND;TZID=Europe/Budapest:20231020T100000
DTSTAMP:20260420T175145
CREATED:20230918T092223Z
LAST-MODIFIED:20230918T092223Z
UID:41645-1697796000-1697796000@avkf.hu
SUMMARY:Október 23-i megemlékezés
DESCRIPTION:
URL:https://avkf.hu/esemeny/oktober-23-i-megemlekezes
LOCATION:Apor Vilmos Katolikus Főiskola\, Schuszter Konstantin tér 1-5.\, Vác\, 2600
END:VEVENT
BEGIN:VEVENT
DTSTART;TZID=Europe/Budapest:20231027T083000
DTEND;TZID=Europe/Budapest:20231027T164000
DTSTAMP:20260420T175145
CREATED:20230918T091356Z
LAST-MODIFIED:20231005T105706Z
UID:41643-1698395400-1698424800@avkf.hu
SUMMARY:Lépésről lépésre - Alternatív Pedagógiai Konferencia
DESCRIPTION:MINŐSÉGI OKTATÁST MINDEN GYEREKNEK!\nLÉPÉSRŐL LÉPÉSRE KONFERENCIA \nA Lépésről lépésre program (LL) a 90-es évek derekán került Magyarországra. Célja a gyermekközpontú\, korszerű pedagógiai eszköztár megismertetése és terjesztése. Az LL a reformpedagógiák szemléletére és a 20. századi nemzetközi pedagógiai kutatásokra és gyakorlatokra alapozott nyitott\, rugalmas rendszer\, amelynek koncepciójára építkezve a pedagógusok szabadon használhatják egyes elemeit és/vagy építhetik fel rá teljes saját gyakorlatukat. Szemlélete és módszerei bármely iskolatípusban alkalmazhatóak. Legfőbb értéke\, hogy segíti a pedagógusokat a különböző hátterű gyermekek együttnevelésében úgy\, hogy a sokszínűség és az egyediség a tanulást\, a világ jobb megismerését és az együttműködést együttesen fejleszti. \n  \nPROGRAM: \n8:30-9:15\nRegisztráció\, feliratkozás a műhelyfoglalkozásokra \n9:15-9:30\nMegnyitó\nDr. Gloviczki Zoltán \n9:30-9:40\nBevezető\nDr. Czike Bernadett \n9:40-10:10\nA Lépésről lépésre program bemutatása\nZágon Bertalanné \n10:10-10:40\nSzakmai életem a Lépésről lépésre programmal\nBaranyi Mária \n10:40-11:00\nSZÜNET \n11:00-11:30\nA LL program után egy alternatív iskolában\nKomaság Margó\, Görög Kátya \n11:30-11:50\nA LL program a résztvevők szemével – videók (szülők\, gyerekek\, pedagógusok) \n11:50-12:30\nEBÉDSZÜNET \n12:30-13:30\nMűhelyfoglalkozások I. \n13:45-14:45\nMűhelyfoglalkozások II. \n15:00-16:00\nMűhelyfoglalkozások III. \nHatféle műhelyfoglalkozás lesz ugyanabban az időben\, és ezek ismétlődnek: \nA) Érdekel? Szívesen csinálom. Projektek a Lépésről lépésre programban\nAmi érdekel bennünket\, azzal szeretünk foglalkozni. A projektekkel pontosan ez valósul meg a mindennapokban. Lehetőséget teremtenek igazi kutatómunkára\, gyűjtésre\, barkácsolásra\, művészeti tevékenységre az érdekes témákban való sokoldalú elmélyülésre. Igazi motiváló erőt\, örömet jelent különböző feladatok megoldása.\nJól érzik magukat. Ha a diák jól érzi magát\, akkor a tanító is. Nem is kell ennél több!\nTöbbet szeretnél megtudni arról\, hogy milyen tevékenységekben érzed magad a legjobban? Kitölthetsz többszörös intelligenciákról szóló tesztet\, amelyből megismered erősségeidet és azt\, hogy minden gyereknek vannak magas minőségű tevékenységeik. Kreatív feladatok várnak rád.\nA végén az is kiderül számodra\, mindez hogyan kapcsolódik a projektszerű tanulásszervezéséhez.\nVezeti: Jékiné Szabó Rita\, a Pécsi Meszesi Általános Iskola tanítója \nB) Rituálék a Lépésről lépésre programban\nMiért fontosak kisiskolás korban a rituálék? A gyerekek számára az idő múlása meghatározhatatlan\, a kiszámíthatatlanság néha félelmetes is.\nA dolgok ismétlődése emészthetővé\, érthetővé\, biztonságossá teszi a mindennapokat\, a rituálék\, a visszatérő tevékenységek olyan biztos pontok\, amelyekbe kapaszkodni tudnak. A Lépésről lépésre programban néhány alapvető szokás keretezi a mindennapokat\, hetet s a tevékenységeket.\nA műhelymunkán személyes élményt szerezhetsz\, milyen rituálé: a reggeli kihívás\, a beszélgetőkör\, a reggeli üzenet\, egymás köszöntése\, osztályhírek\, napszámlálás\, időjárásjelentés. Megismerhetsz néhány kapcsolatteremtő\, illetve tanulási motivációt ébresztő játékot is.\nVezeti: Lovász Edit\, a Kiskőrösi EGYMI fejlesztő pedagógusa \nC) Wanda pedagógiai problémamegoldás és esetmegbeszélés\nA Wanda módszert egy holland kisgyermekkori fejlesztéssel foglalkozó innovációs központ fejlesztette ki. A Lépésről lépésre program nemzetközi szervezete az ISSA (International Step by Step Association) támogatásával áll a programunk rendelkezésére.\nA Wanda holland mozaikszó\, elfogadás\, elemzés\, cselekvés szavakból. Speciális problémamegoldó-esetmegbeszélő módszerrel ismerkedhetnek meg\, amely pedagógusoknak\, esetleg a szülőknek is segít saját és tanítványaikkal kapcsolatos problémahelyzetek megoldásában. Felszabadult együtt gondolkodás\, felemelő erő és jelentős személyes fejlődés\, előrelépés jellemzi.\nA módszer alkalmazása hozzájárul a minőségi oktatás és nevelés fejlesztéséhez\, megkönnyíti a szülőkkel való kommunikációt és növeli a pedagógiai munka hatékonyságát.\nVezeti: Komaság Margit\, a Rogers Iskola tanítója\, Görög Kátya\, a Gyermekek Háza tanítója közreműködésével \nD) Tanulás és tanulóbarát tanulási környezet a Lépésről lépésre programban\nAz ideális tanulási környezet ösztönzi\, terelgeti a gyermekeket a tanulásra\, ahol a tanulás élmény\, nem csupán kényszerű kötelesség\, mert kihívásokat kínál\, amelyeknek a megoldásához a tanulás vezet. Lehetőséget nyújt a felfedezésre\, sokszínű tevékenységek kipróbálására\, kísérletezésre\, gyakorlásra\, ellenőrzésre\, értékelésre\, önértékelésre\, közös tanulásra\, együttműködésre\, társas interakciókra.\nA közös munka során megismerkedhetsz azzal\, hogy a fentiek értelmében LL hogyan szervezi a teret\, hogyan alakítja az aktuális tanulási helyzeteknek megfelelően\, hogyan helyezi el a különböző tevékenységhez szükséges eszközöket. Mitől érzi magát jól a pedagógus és a gyerek a tanteremben?\nÁtélheted a különböző terek hatását\, és közösen keresünk válaszokat a megvalósítás lehetőségeire.\nVezeti: Zágon Mari\, a Lépésről lépésre program volt szakmai vezetője \nE) Szülőkkel való kapcsolat a Lépésről lépésre programban\nA pedagógusok és a családok együttműködése rendkívüli fontosságú eleme a programnak. Az otthon és a család\, mint elsődleges tanulási környezet hidat képez az iskola és család között\, illetve elősegíti a kétirányú kommunikációt.\nFigyelembe veszi a családok különböző összetételét\, hátterét\, életstílusát és jellemzőit. A pedagógusok értékelik azokat a különböző módokat\, melyekkel a családok hozzájárulnak a gyermekek tanulásához\, és az iskolai élethez\, hiszen a gyermekek oktatása és jövője közös érdek és felelősség.\nA program ajánl tevékenységeket\, melyeket a pedagógusok sok saját gyakorlattal egészítettek ki évtizedek alatt. Ebben a műhelymunkában olyan gyakorlatokkal\, tevékenységekkel ismerkedhetsz meg\, melyeket máris beépíthetsz a gyakorlatodba.\nVezeti: Karsainé Baktai Julianna\, tanító \nF) Értékelés a programban\nA minőségi pedagógia nagy hangsúlyt helyez az értékelésre\, segítve a sikeres tanulást. A Lépésről lépésre program a tanulási folyamatban formatív értékelési eszközöket alkalmaz\, amelyek rámutatnak a tanulás és fejlődés folyamatára és eredményeire\, hogy hol van szükség fejlődésre\, és melyek a következő lépések. Fontos eleme az ön és társértékelés.\nA pedagógus és a szülők megosztják egymással információikat\, segítve ezzel a gyermek fejlődést. A program ún. portfólió értékelési módszert is alkalmaz.\nHa részt veszel a műhelymunkában\, gyakorlati feladatok és szituációs játékok segítségével megismerkedhetsz a fenti alapelvekre épülő három oldalú (pedagógus-diák-szülő) értékeléssel. Mindenki egy sokoldalúan összeállított diák portfólióval távozhat a tarsolyában.\nVezeti: Tóthné Göndöcs Zsuzsa\, a Pécsi Meszesi Általános Iskola tanítója\, igazgatóhelyettese \n16:15-16:40\nZáró beszélgetés (kérdések és válaszok) \n  \nA konferencia alatt könyvvásárlási lehetőség is várja vendégeinket. \nProgramunk ingyenes\, de regisztrációhoz kötött. A regisztrációs felület ITT érhető el. \n  \nSzeretettel várunk mindenkit!
URL:https://avkf.hu/esemeny/lepesrol-lepesre-apmk-konf-2023
LOCATION:AVKF Budapesti Campus\, Török Flóris utca 227-229.\, Budapest\, 1201
END:VEVENT
BEGIN:VEVENT
DTSTART;VALUE=DATE:20231030
DTEND;VALUE=DATE:20231106
DTSTAMP:20260420T175145
CREATED:20231004T095638Z
LAST-MODIFIED:20231004T095638Z
UID:42007-1698624000-1699228799@avkf.hu
SUMMARY:Őszi szünet
DESCRIPTION:
URL:https://avkf.hu/esemeny/oszi-szunet-2023
END:VEVENT
BEGIN:VEVENT
DTSTART;TZID=Europe/Budapest:20231031T120000
DTEND;TZID=Europe/Budapest:20231031T120000
DTSTAMP:20260420T175145
CREATED:20231004T101126Z
LAST-MODIFIED:20231004T101126Z
UID:42019-1698753600-1698753600@avkf.hu
SUMMARY:Diplomamunka-témaválasztási lap leadási határideje
DESCRIPTION:
URL:https://avkf.hu/esemeny/diplomamunka-temavalasztasi-lap-leadasi-hatarideje-2023-10
END:VEVENT
BEGIN:VEVENT
DTSTART;VALUE=DATE:20231110
DTEND;VALUE=DATE:20231112
DTSTAMP:20260420T175145
CREATED:20230516T132427Z
LAST-MODIFIED:20231030T103158Z
UID:40783-1699574400-1699747199@avkf.hu
SUMMARY:V. Interdiszciplináris Vallástudományi Hallgatói Konferencia
DESCRIPTION:Felhívás és részletes tájékoztató a konferenciáról \nProgram- és absztraktfüzet \nFelmerülő kérdések esetén a dosz.filozofia@gmail.com e-mailcímen érdeklődhet.
URL:https://avkf.hu/esemeny/v-interdiszciplinaris-vallastudomanyi-hallgatoi-konferencia
LOCATION:Apor Vilmos Katolikus Főiskola\, Schuszter Konstantin tér 1-5.\, Vác\, 2600
END:VEVENT
BEGIN:VEVENT
DTSTART;TZID=Europe/Budapest:20231115T141500
DTEND;TZID=Europe/Budapest:20231115T150000
DTSTAMP:20260420T175145
CREATED:20231012T081722Z
LAST-MODIFIED:20231109T151845Z
UID:42153-1700057700-1700060400@avkf.hu
SUMMARY:Erasmus Pont
DESCRIPTION:
URL:https://avkf.hu/esemeny/international-cafe-2023
LOCATION:Apor Vilmos Katolikus Főiskola\, Schuszter Konstantin tér 1-5.\, Vác\, 2600
END:VEVENT
BEGIN:VEVENT
DTSTART;TZID=Europe/Budapest:20231117T100000
DTEND;TZID=Europe/Budapest:20231117T120000
DTSTAMP:20260420T175145
CREATED:20230918T094007Z
LAST-MODIFIED:20231027T080316Z
UID:41647-1700215200-1700222400@avkf.hu
SUMMARY:Nyílt nap
DESCRIPTION:Bővebb információ Facebook eseményünk felületén olvasható. \nSzeretettel várunk mindenkit! \n 
URL:https://avkf.hu/esemeny/nyilt-nap-2023-11
LOCATION:Apor Vilmos Katolikus Főiskola\, Schuszter Konstantin tér 1-5.\, Vác\, 2600
END:VEVENT
BEGIN:VEVENT
DTSTART;TZID=Europe/Budapest:20231118T104500
DTEND;TZID=Europe/Budapest:20231118T121500
DTSTAMP:20260420T175145
CREATED:20231020T114658Z
LAST-MODIFIED:20231115T115531Z
UID:42355-1700304300-1700309700@avkf.hu
SUMMARY:Szocped Café
DESCRIPTION:
URL:https://avkf.hu/esemeny/szocped-cafe-2023-11
LOCATION:Apor Vilmos Katolikus Főiskola\, Schuszter Konstantin tér 1-5.\, Vác\, 2600
END:VEVENT
BEGIN:VEVENT
DTSTART;TZID=Europe/Budapest:20231123T083000
DTEND;TZID=Europe/Budapest:20231124T170000
DTSTAMP:20260420T175145
CREATED:20230918T094112Z
LAST-MODIFIED:20231121T121340Z
UID:41649-1700728200-1700845200@avkf.hu
SUMMARY:II. Anna–Joachim-konferencia
DESCRIPTION:Az Apor Vilmos Katolikus Főiskola Anna–Joachim-programja 2023. november 23-24. között rendezi meg \nUtak a gyermekvállaláshoz – a pszichológia és a lelkigondozás lehetőségei és eszközei \nc. tudományos konferenciáját. \n  \nAz Apor Vilmos Katolikus Főiskola négy éve indította útjára az Anna–Joachim-programot\, egy különleges tréningsorozatot\, ahol a gyermekáldásra váró/vágyó párok megélhetik a sorsközösségből\, a problémák megosztásából és együttes feldolgozásából fakadó erőt\, valamint intenzív pszichológiai és mentálhigiénés támogatást kaphatnak a főiskola keresztény szellemiségével és értékrendjével harmonizáló terápiás jellegű módszerek alkalmazásával. \nA program során gyűjtött tapasztalatok felhasználásával és a szakmai eszmecsere igényével jött létre tavalyi konferenciánk\, amely izgalmas előadásokban\, tartalmas workshopokban és a hallgatóságot új ötletekkel gazdagító módszerbemutatókban bővelkedett. A reproduktív zavarok\, és azon belül a nehezített fogantatás azonban olyan téma\, amelynek terén mindig vannak új szempontok\, ismeretek és módszerek\, amelyekkel érdemes megismerkedni a területen dolgozó szakembereknek. Mindig van mit tanulnunk egymástól\, és fontos folyamatosan megosztani a tapasztalatainkat\, hogy mind hatékonyabban tudjuk segíteni a hozzánk forduló gyermekáldásra vágyó személyeket és párokat. \n  \nSzeretettel várunk minden érdeklődőt\, aki a meddőség és annak különböző megsegítési lehetőségei iránt nyitottságot érez magában\, és szívesen részt venne tudományos konferenciánkon! \n  \nRÉSZLETES PROGRAM \n  \nA konferencián való részvétel ingyenes\, de előzetes regisztrációhoz kötött.\nRegisztráció ITT. \n 
URL:https://avkf.hu/esemeny/anna-joachim-konferencia-2023
LOCATION:AVKF Budapesti Campus\, Török Flóris utca 227-229.\, Budapest\, 1201
END:VEVENT
BEGIN:VEVENT
DTSTART;TZID=Europe/Budapest:20231130T110000
DTEND;TZID=Europe/Budapest:20231130T110000
DTSTAMP:20260420T175145
CREATED:20231114T111732Z
LAST-MODIFIED:20231114T111732Z
UID:42729-1701342000-1701342000@avkf.hu
SUMMARY:Budapesti campus öt éves évforduló
DESCRIPTION:
URL:https://avkf.hu/esemeny/budapesti-campus-evfordulo
LOCATION:AVKF Budapesti Campus\, Török Flóris utca 227-229.\, Budapest\, 1201
END:VEVENT
BEGIN:VEVENT
DTSTART;VALUE=DATE:20231202
DTEND;VALUE=DATE:20231203
DTSTAMP:20260420T175145
CREATED:20231004T101358Z
LAST-MODIFIED:20231004T101530Z
UID:42021-1701475200-1701561599@avkf.hu
SUMMARY:Diplomamunka-leadás és záróvizsga-jelentkezés határideje
DESCRIPTION:
URL:https://avkf.hu/esemeny/diplomamunka-leadas-es-zarovizsga-jelentkezes-hatarideje-2023-12
END:VEVENT
BEGIN:VEVENT
DTSTART;TZID=Europe/Budapest:20231204T140000
DTEND;TZID=Europe/Budapest:20231204T140000
DTSTAMP:20260420T175145
CREATED:20231124T090302Z
LAST-MODIFIED:20231124T090302Z
UID:42974-1701698400-1701698400@avkf.hu
SUMMARY:RRF projektzáró rendezvény
DESCRIPTION:Helyszín:\nKözponti épület I. emelet\nSzent II. János Pál terem
URL:https://avkf.hu/esemeny/rrf-projektzaro-rendezveny
LOCATION:Apor Vilmos Katolikus Főiskola\, Schuszter Konstantin tér 1-5.\, Vác\, 2600
END:VEVENT
BEGIN:VEVENT
DTSTART;TZID=Europe/Budapest:20231205T123000
DTEND;TZID=Europe/Budapest:20231205T131500
DTSTAMP:20260420T175145
CREATED:20231027T114908Z
LAST-MODIFIED:20231205T111933Z
UID:42399-1701779400-1701782100@avkf.hu
SUMMARY:Christmas Party
DESCRIPTION:
URL:https://avkf.hu/esemeny/christmas-party-2023
LOCATION:Apor Vilmos Katolikus Főiskola\, Schuszter Konstantin tér 1-5.\, Vác\, 2600
END:VEVENT
BEGIN:VEVENT
DTSTART;TZID=Europe/Budapest:20231213T123000
DTEND;TZID=Europe/Budapest:20231213T123000
DTSTAMP:20260420T175145
CREATED:20231124T091752Z
LAST-MODIFIED:20231124T091801Z
UID:42976-1702470600-1702470600@avkf.hu
SUMMARY:Luca-napi készülődés
DESCRIPTION:Közös kézműveskedéssel és énekléssel\, Luca-búzával és finomságokkal várnak mindenkit nagy szeretettel csecsemő- és kisgyermeknevelő szakos hallgatóink a Szent Miklós téri épület aulájában.
URL:https://avkf.hu/esemeny/luca-napi-keszulodes-2023
LOCATION:Apor Vilmos Katolikus Főiskola Szent Miklós téri épülete\, Szent Miklós tér 14.\, Vác\, 2600\, Magyarország
END:VEVENT
BEGIN:VEVENT
DTSTART;TZID=Europe/Budapest:20231214T150000
DTEND;TZID=Europe/Budapest:20231214T150000
DTSTAMP:20260420T175145
CREATED:20231129T093006Z
LAST-MODIFIED:20231129T093131Z
UID:43091-1702566000-1702566000@avkf.hu
SUMMARY:Adventi hangolódás
DESCRIPTION:Helyszín: Szent II. János Pál terem
URL:https://avkf.hu/esemeny/adventi-hangolodas-2023
LOCATION:Apor Vilmos Katolikus Főiskola\, Schuszter Konstantin tér 1-5.\, Vác\, 2600
END:VEVENT
BEGIN:VEVENT
DTSTART;VALUE=DATE:20231215
DTEND;VALUE=DATE:20231216
DTSTAMP:20260420T175145
CREATED:20231004T095415Z
LAST-MODIFIED:20231004T095415Z
UID:42005-1702598400-1702684799@avkf.hu
SUMMARY:Szorgalmi időszak vége (nappali tagozat)
DESCRIPTION:
URL:https://avkf.hu/esemeny/szorgalmi-idoszak-vege-2023-nappali
END:VEVENT
BEGIN:VEVENT
DTSTART;VALUE=DATE:20231216
DTEND;VALUE=DATE:20231217
DTSTAMP:20260420T175145
CREATED:20231004T094840Z
LAST-MODIFIED:20231004T095033Z
UID:42003-1702684800-1702771199@avkf.hu
SUMMARY:Szorgalmi időszak vége (levelező tagozat)
DESCRIPTION:
URL:https://avkf.hu/esemeny/szorgalmi-idoszak-vege-2023-levelezo
END:VEVENT
BEGIN:VEVENT
DTSTART;VALUE=DATE:20231218
DTEND;VALUE=DATE:20231219
DTSTAMP:20260420T175145
CREATED:20231004T100038Z
LAST-MODIFIED:20231004T100038Z
UID:42011-1702857600-1702943999@avkf.hu
SUMMARY:Vizsgaidőszak kezdete
DESCRIPTION:
URL:https://avkf.hu/esemeny/vizsgaidoszak-kezdete-2023-12
END:VEVENT
BEGIN:VEVENT
DTSTART;VALUE=DATE:20231222
DTEND;VALUE=DATE:20240103
DTSTAMP:20260420T175145
CREATED:20231004T095806Z
LAST-MODIFIED:20231004T095806Z
UID:42009-1703203200-1704239999@avkf.hu
SUMMARY:Téli szünet
DESCRIPTION:
URL:https://avkf.hu/esemeny/teli-szunet-2023
END:VEVENT
BEGIN:VEVENT
DTSTART;VALUE=DATE:20240108
DTEND;VALUE=DATE:20240113
DTSTAMP:20260420T175145
CREATED:20231004T100651Z
LAST-MODIFIED:20231004T100708Z
UID:42017-1704672000-1705103999@avkf.hu
SUMMARY:Záróvizsgák (posztgraduális képzés)
DESCRIPTION:
URL:https://avkf.hu/esemeny/zarovizsgak-posztgradualis-kepzes-2024-01
END:VEVENT
BEGIN:VEVENT
DTSTART;VALUE=DATE:20240111
DTEND;VALUE=DATE:20240114
DTSTAMP:20260420T175145
CREATED:20231211T121657Z
LAST-MODIFIED:20231211T121729Z
UID:43139-1704931200-1705190399@avkf.hu
SUMMARY:Educatio Oktatási Szakkiállítás
DESCRIPTION:Bővebb információ: https://www.educatioexpo.hu/
URL:https://avkf.hu/esemeny/educatio-kiallitas-2024
END:VEVENT
BEGIN:VEVENT
DTSTART;VALUE=DATE:20240115
DTEND;VALUE=DATE:20240120
DTSTAMP:20260420T175145
CREATED:20231004T100542Z
LAST-MODIFIED:20231004T100556Z
UID:42015-1705276800-1705708799@avkf.hu
SUMMARY:Záróvizsgák (graduális képzés)
DESCRIPTION:
URL:https://avkf.hu/esemeny/zarovizsgak-gradualis-kepzes-2024-01
END:VEVENT
BEGIN:VEVENT
DTSTART;TZID=Europe/Budapest:20240117T100000
DTEND;TZID=Europe/Budapest:20240117T100000
DTSTAMP:20260420T175145
CREATED:20231211T120713Z
LAST-MODIFIED:20240115T160638Z
UID:43135-1705485600-1705485600@avkf.hu
SUMMARY:Nyílt nap (Vác)
DESCRIPTION:Bővebb információ Facebook eseményünknél érhető el.
URL:https://avkf.hu/esemeny/nyilt-nap-vac-2024-01
LOCATION:Apor Vilmos Katolikus Főiskola\, Schuszter Konstantin tér 1-5.\, Vác\, 2600
END:VEVENT
BEGIN:VEVENT
DTSTART;TZID=Europe/Budapest:20240123T100000
DTEND;TZID=Europe/Budapest:20240123T100000
DTSTAMP:20260420T175145
CREATED:20231211T120922Z
LAST-MODIFIED:20240115T160732Z
UID:43137-1706004000-1706004000@avkf.hu
SUMMARY:Nyílt nap (Budapest)
DESCRIPTION:Bővebb információ Facebook eseményünknél érhető el.
URL:https://avkf.hu/esemeny/nyilt-nap-budapest-2024-01
LOCATION:AVKF Budapesti Campus\, Török Flóris utca 227-229.\, Budapest\, 1201
END:VEVENT
BEGIN:VEVENT
DTSTART;TZID=Europe/Budapest:20240125T140000
DTEND;TZID=Europe/Budapest:20240125T170000
DTSTAMP:20260420T175145
CREATED:20240111T104111Z
LAST-MODIFIED:20240111T150528Z
UID:43703-1706191200-1706202000@avkf.hu
SUMMARY:Katolikus Pedagógia folyóirat I. szakmai-közösségi találkozó
DESCRIPTION:Részletes program \nRegisztráció
URL:https://avkf.hu/esemeny/katolikus-pedagogia-talalkozo-2024
LOCATION:Apor Vilmos Katolikus Főiskola Szent Miklós téri épülete\, Szent Miklós tér 14.\, Vác\, 2600\, Magyarország
END:VEVENT
BEGIN:VEVENT
DTSTART;VALUE=DATE:20240127
DTEND;VALUE=DATE:20240128
DTSTAMP:20260420T175145
CREATED:20231004T100215Z
LAST-MODIFIED:20231004T100229Z
UID:42013-1706313600-1706399999@avkf.hu
SUMMARY:Vizsgaidőszak vége
DESCRIPTION:
URL:https://avkf.hu/esemeny/vizsgaidoszak-vege-2024-01
END:VEVENT
BEGIN:VEVENT
DTSTART;TZID=Europe/Budapest:20240202T100000
DTEND;TZID=Europe/Budapest:20240202T100000
DTSTAMP:20260420T175145
CREATED:20231129T092300Z
LAST-MODIFIED:20231129T092300Z
UID:43089-1706868000-1706868000@avkf.hu
SUMMARY:Diplomaátadó ünnepség
DESCRIPTION:
URL:https://avkf.hu/esemeny/diplomaatado-unnepseg-2024-1
LOCATION:Apor Vilmos Katolikus Főiskola\, Schuszter Konstantin tér 1-5.\, Vác\, 2600
END:VEVENT
END:VCALENDAR