BEGIN:VCALENDAR
VERSION:2.0
PRODID:-//AVKF - ECPv6.15.17.1//NONSGML v1.0//EN
CALSCALE:GREGORIAN
METHOD:PUBLISH
X-WR-CALNAME:AVKF
X-ORIGINAL-URL:https://avkf.hu
X-WR-CALDESC:Események AVKF
REFRESH-INTERVAL;VALUE=DURATION:PT1H
X-Robots-Tag:noindex
X-PUBLISHED-TTL:PT1H
BEGIN:VTIMEZONE
TZID:Europe/Budapest
BEGIN:DAYLIGHT
TZOFFSETFROM:+0100
TZOFFSETTO:+0200
TZNAME:CEST
DTSTART:20210328T010000
END:DAYLIGHT
BEGIN:STANDARD
TZOFFSETFROM:+0200
TZOFFSETTO:+0100
TZNAME:CET
DTSTART:20211031T010000
END:STANDARD
BEGIN:DAYLIGHT
TZOFFSETFROM:+0100
TZOFFSETTO:+0200
TZNAME:CEST
DTSTART:20220327T010000
END:DAYLIGHT
BEGIN:STANDARD
TZOFFSETFROM:+0200
TZOFFSETTO:+0100
TZNAME:CET
DTSTART:20221030T010000
END:STANDARD
BEGIN:DAYLIGHT
TZOFFSETFROM:+0100
TZOFFSETTO:+0200
TZNAME:CEST
DTSTART:20230326T010000
END:DAYLIGHT
BEGIN:STANDARD
TZOFFSETFROM:+0200
TZOFFSETTO:+0100
TZNAME:CET
DTSTART:20231029T010000
END:STANDARD
END:VTIMEZONE
BEGIN:VEVENT
DTSTART;TZID=Europe/Budapest:20220224T090000
DTEND;TZID=Europe/Budapest:20220224T163000
DTSTAMP:20260423T234436
CREATED:20220201T122309Z
LAST-MODIFIED:20220204T095157Z
UID:32966-1645693200-1645720200@avkf.hu
SUMMARY:Montessori szakmai nap
DESCRIPTION:Szeretettel várjuk az Alternatív Pedagógiák Módszertani Központ\n2022. tavaszi félévének első\, egésznapos programjára \nMONTESSORI SZAKMAI NAP\n2022. február 24. \nAz alapok tapasztalati megélése\nA 4 klasszikus terület és a hozzá tartozó eszközök bemutatója \nCélunk\, azoknak a Montessori alapelveknek a kézzel fogható\, gyakorlatias bemutatása\, amelyek máig is alapját képezik az alternatív pedagógiák gondolkodásmódjának. Az életkori sajátosságok figyelembevétele\, az érdeklődés és választás alapú\, az önellenőrzés lehetőségét is biztosító\, saját tevékenységekre épülő tanulás mind\, mind olyan értékek\, amelyek Maria Montessori nevéhez fűződnek. \nA szakmai napunkra szeretettel várjuk azokat az érdeklődő diákokat és kollégákat\, akik ezeket az értékeket magukénak vallják\, és kíváncsiak arra\, hogy hogyan lehet az óvodai és iskolai élet valóságává varázsolni. \nAz Apor Vilmos Katolikus Főiskola diákjainak és tanárainak a program ingyenes. \nA főiskola levelező tagozatos hallgatói szabadon választható kurzusként\, Alternatív pedagógiák címen felvehetik ezt a programot.\nA nappali tagozatos hallgatók két másik\, a Budapesti Campuson tartott szakmai napon történő jelenléttel együtt szintén megtehetik ezt. \nTervezett programok: \n9.00-9.30 Regisztráció\n9.30-11.00 Plenáris előadások\n11.00-16.30 Műhelyfoglalkozások szünetekkel \nMűhelyfoglalkozások témái: \n\nMindennapi élet és érzékelésfejlesztés\nÍrás és olvasás tanítás\nMatematika\nKozmikus ismeretek\n\nHelyszín: Apor Vilmos Katolikus Főiskola Budapesti Campus (1201 Budapest\, Török Flóris utca 227-229.) \nKérjük\, 2022. február 10-ig regisztráljon programunkra ITT.
URL:https://avkf.hu/esemeny/montessori-szakmai-nap
LOCATION:AVKF Budapesti Campus\, Török Flóris utca 227-229.\, Budapest\, 1201
END:VEVENT
BEGIN:VEVENT
DTSTART;TZID=Europe/Budapest:20220310T100000
DTEND;TZID=Europe/Budapest:20220310T100000
DTSTAMP:20260423T234436
CREATED:20220217T083300Z
LAST-MODIFIED:20220221T085718Z
UID:33640-1646906400-1646906400@avkf.hu
SUMMARY:Március 15. - Hangolódás nemzeti ünnepünkre
DESCRIPTION:
URL:https://avkf.hu/esemeny/marcius-15
LOCATION:Apor Vilmos Katolikus Főiskola\, Schuszter Konstantin tér 1-5.\, Vác\, 2600
CATEGORIES:Ünnepek
END:VEVENT
BEGIN:VEVENT
DTSTART;TZID=Europe/Budapest:20220317T100000
DTEND;TZID=Europe/Budapest:20220317T100000
DTSTAMP:20260423T234436
CREATED:20220207T084426Z
LAST-MODIFIED:20220317T075028Z
UID:33010-1647511200-1647511200@avkf.hu
SUMMARY:A pandémia teológiája - online konferencia
DESCRIPTION:  \n10:00-10:10 Köszöntő – Marton Zsolt váci megyéspüspök \n10:10-10:30 Dr. Varga Péter András (ELKH): Filozófiai reflexiók pandémia idején – a katolikus filozófia szemszögéből \n10:30-10:50 Dr. Gárdonyi Máté (PPKE-HTK): Az egyház szolgálata a járvány krízishelyzetében – egyháztörténeti nézőpontból \n10:50-11:10 Dr. Sárkány Péter (EKKE/PPKE): Patodicea – Viktor Frankl szenvedéstana és annak mai jelentősége \nRövid szünet \n11:20-11:40 Dr. Kocsis Imre (PPKE-HTK): Csapások és katasztrófák a keresztények tanúságtétele összefüggésében – Megfontolások a Jelenések könyve 8-11. fejezetéhez \n11:40-12:00 Dr. Hafenscher Károly (EHE; MEE Zsinatának lelkészi elnöke): Bizonytalan helyzettel\, de Krisztusban való bizalommal \n12:00-12:20 Nacsinák Gergely András (ortodox pap\, író): Sem büntetés\, sem vértanúság – az ortodox teológia a pandémiáról \n12:20-12:40 Böjte Csaba ferences atya\, a Dévai Szent Ferenc Alapítvány alapítójának gondolatai \nZáró megjegyzések – Dr. Gloviczki Zoltán rektor \n  \nCsatlakozási információk: \nA csatlakozáshoz kattintson az alábbi linkre:\nJoin Zoom Meeting \nMeeting ID: 935 4588 6114\nPasscode: 004135
URL:https://avkf.hu/esemeny/a-pandemia-teologiaja
LOCATION:online
END:VEVENT
BEGIN:VEVENT
DTSTART;TZID=Europe/Budapest:20220324T130000
DTEND;TZID=Europe/Budapest:20220324T130000
DTSTAMP:20260423T234436
CREATED:20220207T084811Z
LAST-MODIFIED:20220207T084811Z
UID:33012-1648126800-1648126800@avkf.hu
SUMMARY:Szocped Café
DESCRIPTION:
URL:https://avkf.hu/esemeny/szocped-cafe-5
LOCATION:Apor Vilmos Katolikus Főiskola\, Schuszter Konstantin tér 1-5.\, Vác\, 2600
END:VEVENT
BEGIN:VEVENT
DTSTART;TZID=Europe/Budapest:20220329T150000
DTEND;TZID=Europe/Budapest:20220329T170000
DTSTAMP:20260423T234436
CREATED:20220124T104511Z
LAST-MODIFIED:20220323T091718Z
UID:32889-1648566000-1648573200@avkf.hu
SUMMARY:MTA – AVKF Tanulási környezet kutatás szakmai fejlesztései 1. - Atipikus Fejlődés Módszertani Központ szakmai műhelysorozat III.
DESCRIPTION:A kutatás során az atipikus idegrendszeri fejlődés\, illetve szociokulturális hátrány okozta iskolai kudarcok megelőzését\, a korai prevenciót szolgáló tanulási környezet kidolgozására és annak hatékonyságvizsgálatára kerül sor. A tanulási környezet átalakítását célzó módszertani megoldások háromféle térben valósulnak meg: pedagógiai-pszichológiai\, digitális-informatikai és téri-építészeti. \nIdőpont: 2022. március 29. (kedd) 15:00-17:00\nA műhely online felületen lesz megtartva. \nMűhelyvezető: Prof. Dr. Gyarmathy Éva \nA részvétel ingyenes\, de előzetes regisztrációhoz kötött.\nRegisztráció ITT. \nMinden érdeklődőt szeretettel várunk!
URL:https://avkf.hu/esemeny/mta-avkf-tanulasi-kornyezet-afmk-muhely-iii
LOCATION:online
END:VEVENT
BEGIN:VEVENT
DTSTART;TZID=Europe/Budapest:20220331T100000
DTEND;TZID=Europe/Budapest:20220331T150000
DTSTAMP:20260423T234436
CREATED:20220207T085203Z
LAST-MODIFIED:20220303T132719Z
UID:33015-1648720800-1648738800@avkf.hu
SUMMARY:XI. Roma konferencia - Cigány gyerekek tehetséggondozása
DESCRIPTION:  \n10:00-10:20 KÖSZÖNTŐK – Marton Zsolt váci megyéspüspök és dr. Gloviczki Zoltán rektor\n(II. János Pál terem) \n10:20-12:00 PLENÁRIS ELŐADÁSOK\n(II. János Pál terem) \nLevezető: Dr. Báder Iván PhD főiskolai docens – Apor Vilmos Katolikus Főiskola \n10:20-10:40 Cigány gyermekek óvodai tehetségnevelése – a gyulaji óvoda jó gyakorlata\nElőadó: Kőmüves Mónika óvodai tagintézmény-vezető\, Magyar Máltai Szeretetszolgálat Galló József Általános Iskola és Magoncka Óvoda\, Gyulaj \n10:40-11:00 A többszörösen kivételes gyermekek\, fiatalok tehetségfejlesztése\nElőadó: Demarcsek Zsuzsanna\, a Vásárhelyi László Alapfokú Művészeti Iskola intézményvezetője\, Apáczai- és Bonis Bona Díjas mesterpedagógus \n11:00-11:20 Országos programok az oktatásban – sikerek és kihívások\nElőadó: Dr. Kállai Gabriella PhD tudományos főmunkatárs – ELTE Bárczi Gusztáv Gyógypedagógiai Kar \n11:20-11:40 Az MCC Roma Tehetség Program bemutatása\nElőadó: Antal István igazgató \n11:40-12:00 A Rajkó módszer\nElőadó: Dr. Suki András PhD – Liszt Ferenc Zeneművészeti Egyetem \n12:00-13:00 EBÉDSZÜNET \n13:00-14:00 KEREKASZTAL-BESZÉLGETÉS\n(Apor Vilmos terem) \nKötetlen beszélgetés a délelőtti előadókkal\, hallgatói kérdések megválaszolása.\nModerátor: Dr. Csürkéné dr. Mándi Nikoletta PhD főiskolai tanár – Apor Vilmos Katolikus Főiskola \n14:00-15:00 TERNE CHERHAJA ZENEKAR KONCERTJE\n(Apor Vilmos terem) \nTerne Cherhaja zenekar – Az Öröm a zene tehetségkutató programban bejutottak az országos döntőbe. A magyar és cigány népzenét ötvözve hoztak létre új értékeket. \n 
URL:https://avkf.hu/esemeny/xi-roma-konferencia
LOCATION:Apor Vilmos Katolikus Főiskola\, Schuszter Konstantin tér 1-5.\, Vác\, 2600
END:VEVENT
BEGIN:VEVENT
DTSTART;VALUE=DATE:20220401
DTEND;VALUE=DATE:20220402
DTSTAMP:20260423T234436
CREATED:20220309T114645Z
LAST-MODIFIED:20220325T103426Z
UID:34280-1648771200-1648857599@avkf.hu
SUMMARY:Blended Intensive Programme (BIP) online nap
DESCRIPTION:A program személyes jelenléttel folytatódik április 4-8. között. \nA tervezett program ITT érhető el.
URL:https://avkf.hu/esemeny/blended-intensive-programme-bip-online-nap
LOCATION:online
END:VEVENT
BEGIN:VEVENT
DTSTART;VALUE=DATE:20220404
DTEND;VALUE=DATE:20220409
DTSTAMP:20260423T234436
CREATED:20220309T114907Z
LAST-MODIFIED:20220309T130345Z
UID:34282-1649030400-1649462399@avkf.hu
SUMMARY:Blended Intensive Programme (BIP)
DESCRIPTION:A tervezett program ITT érhető el.
URL:https://avkf.hu/esemeny/blended-intensive-programme-bip
LOCATION:Apor Vilmos Katolikus Főiskola\, Schuszter Konstantin tér 1-5.\, Vác\, 2600
END:VEVENT
BEGIN:VEVENT
DTSTART;VALUE=DATE:20220414
DTEND;VALUE=DATE:20220420
DTSTAMP:20260423T234436
CREATED:20220104T110220Z
LAST-MODIFIED:20220104T110220Z
UID:32540-1649894400-1650412799@avkf.hu
SUMMARY:Tavaszi szünet
DESCRIPTION:
URL:https://avkf.hu/esemeny/tavaszi-szunet
END:VEVENT
BEGIN:VEVENT
DTSTART;VALUE=DATE:20220417
DTEND;VALUE=DATE:20220419
DTSTAMP:20260423T234436
CREATED:20220104T113732Z
LAST-MODIFIED:20220104T113732Z
UID:32554-1650153600-1650326399@avkf.hu
SUMMARY:Húsvét
DESCRIPTION:
URL:https://avkf.hu/esemeny/husvet
END:VEVENT
BEGIN:VEVENT
DTSTART;TZID=Europe/Budapest:20220427T090000
DTEND;TZID=Europe/Budapest:20220427T180000
DTSTAMP:20260423T234436
CREATED:20211130T081201Z
LAST-MODIFIED:20220421T134225Z
UID:31966-1651050000-1651082400@avkf.hu
SUMMARY:Keresztény Neveléstudományi Konferencia
DESCRIPTION: „… megtisztítja azt\, hogy több gyümölcsöt hozzon.”\n(Jn 15\, 2) \nAz Apor Vilmos Katolikus Főiskola a korábbi évek hagyományát folytatva idén is megszervezi Keresztény Neveléstudományi Konferenciáját. A konferencia a keresztény szemléletű hazai és külföldi neveléstudományi kutatások mellett a keresztény nevelés és oktatás múltból származó legfontosabb értékeinek\, jelenbeli és jövőbeni kihívásainak és feladatainak számbavételét tűzi napirendjére. A konferencia most a zsidó-keresztény tanításra épülő személy-fogalom értékeinek felmutatásával kívánja a XXI. századi keresztény pedagógus képét megrajzolni. A zsidó-keresztény személy fogalmából kiinduló gyermekkép\, a gyermekekért végzett szolgálat is a konferencia programját adja\, megemlékezve Maria Montessori és Peter Petersen reformpedagógusok halálának hetvenedik évfordulójáról. A tervezett előadások horizontjában a konferencia mind az elméleti szakemberek\, mind a gyakorló pedagógusok és a nevelő-oktató hivatásra készülő főiskolai és egyetemi hallgatók számára lehetőséget kínál az eszmecserére. \nA konferenciára várunk minden olyan oktatással és neveléssel foglalkozó szakembert\, aki a saját tudományterületében elkötelezett az európai keresztény értékrend érvényesítése mellett. Várjuk a felsőoktatásban dolgozó kollégákat\, a doktori iskolák hallgatóit\, az egyetemi és főiskolai képzésben részt vevő hallgatókat\, az óvodai nevelésben\, valamint a köznevelésben dolgozó pedagógus kollégákat\, a világi papság\, a szerzetesrendek és a testvéregyházak képviselőit\, valamint mindazokat\, akik a XXI. századi nevelés alapjának az európai görög-latin kultúrát és a zsidó-keresztény filozófiai gondolkodáson nyugvó szellemiséget tartják. \nA konferencia tudományos bizottsága:\nDr. Gloviczki Zoltán rektor\, főiskolai tanár\, a Konferencia elnöke (Apor Vilmos Katolikus Főiskola)\nDr. Gombás Judit tanszékvezető\, főiskolai tanár (Apor Vilmos Katolikus Főiskola)\nDr. Kránitz Mihály egyetemi tanár (Pázmány Péter Katolikus Egyetem Hittudományi Kara)\nDr. Molnár Krisztina tanszékvezető\, főiskolai tanár (Apor Vilmos Katolikus Főiskola)\nDr. Szetey Szabolcs intézetvezető\, egyetemi docens (Károli Gáspár Egyetem Pedagógiai Kara)\nDr. Szőke-Milinte Enikő intézetvezető\, egyetemi docens (Pázmány Péter Katolikus Egyetem Bölcsészet- és Társadalomtudományi Kara)\nDr. Verdes Miklós (Szent Atanáz Görögkatolikus Hittudományi Főiskola)\nProf. Dr. Pap Ferenc dékán\, egyetemi tanár (Károli Gáspár Református Egyetem Pedagógiai Kara)\nProf. Dr. Tamáska Máté tudományos rektorhelyettes\, egyetemi tanár (Apor Vilmos Katolikus Főiskola) \nA konferencia titkára:\nDr. Mészáros László főiskolai docens (Apor Vilmos Katolikus Főiskola) \nA konferencia programja:\n9:00-9:30 Regisztráció\n9:30-9:45 Köszöntők\n9:45-10:45 Dr. Keresztes Szilárd nyugalmazott hajdúdorogi megyéspüspök előadása\n10:45-11:00 Kávészünet\n11:00-12:00 W. Barna Erika kézíráskutató\, grafoterapeuta előadása\n12:00-13:00 Ebédszünet\n13:00-14:40 Szekcióülések I.\n14:40-15:00 Kávészünet\n15:00-16:00 Halász Gábor egyetemi tanár előadása\n16:00-16:20 Kávészünet\n16:20-18:00 Szekcióülések II. \nRÉSZLETES PROGRAM
URL:https://avkf.hu/esemeny/kereszteny-nevelestudomanyi-konferencia-3
LOCATION:Apor Vilmos Katolikus Főiskola\, Schuszter Konstantin tér 1-5.\, Vác\, 2600
CATEGORIES:Konferenciák
END:VEVENT
BEGIN:VEVENT
DTSTART;TZID=Europe/Budapest:20220428T140000
DTEND;TZID=Europe/Budapest:20220428T140000
DTSTAMP:20260423T234436
CREATED:20220425T115443Z
LAST-MODIFIED:20220425T115544Z
UID:34914-1651154400-1651154400@avkf.hu
SUMMARY:Tavaszi ITDK
DESCRIPTION:Helyszín: Apor Vilmos terem
URL:https://avkf.hu/esemeny/tavaszi-itdk
LOCATION:Apor Vilmos Katolikus Főiskola\, Schuszter Konstantin tér 1-5.\, Vác\, 2600
END:VEVENT
BEGIN:VEVENT
DTSTART;TZID=Europe/Budapest:20220504T120000
DTEND;TZID=Europe/Budapest:20220504T120000
DTSTAMP:20260423T234436
CREATED:20220104T111123Z
LAST-MODIFIED:20220104T111123Z
UID:32550-1651665600-1651665600@avkf.hu
SUMMARY:A szakdolgozat-leadás és a záróvizsga-jelentkezés határideje
DESCRIPTION:
URL:https://avkf.hu/esemeny/a-szakdolgozat-leadas-es-a-zarovizsga-jelentkezes-hatarideje-2
END:VEVENT
BEGIN:VEVENT
DTSTART;TZID=Europe/Budapest:20220510T150000
DTEND;TZID=Europe/Budapest:20220510T170000
DTSTAMP:20260423T234436
CREATED:20220124T105305Z
LAST-MODIFIED:20220504T093822Z
UID:32893-1652194800-1652202000@avkf.hu
SUMMARY:MTA – AVKF Tanulási környezet kutatás szakmai fejlesztései 2. - Atipikus Fejlődés Módszertani Központ szakmai műhelysorozat IV.
DESCRIPTION:Az Atipikus Fejlődés Módszertani Központ negyedik szakmai műhelye oktatók\, hallgatók és minden érdeklődő számára. \nAz MTA-AVKF Tanulási környezet kutatás során az atipikus idegrendszeri fejlődés illetve szociokulturális hátrány okozta iskolai kudarcok megelőzését\, a korai prevenciót szolgáló tanulási környezet kidolgozására és annak hatékonyságvizsgálatára kerül sor. A tanulási környezet átalakítását célzó módszertani megoldások háromféle térben valósulnak meg: pedagógiai-pszichológiai\, digitális-informatikai\, téri-építészeti. \nIdőpont: 2022. május 10. (kedd) 15:00-17:00\nHelyszín: online \nMűhelyvezető: Prof. Dr. Gyarmathy Éva \nA részvétel ingyenes\, de előzetes regisztrációhoz kötött.\nRegisztráció ITT. \nMinden érdeklődőt szeretettel várunk!
URL:https://avkf.hu/esemeny/mta-avkf-tanulasi-kornyezet-afmk-muhely-iv
LOCATION:online
END:VEVENT
BEGIN:VEVENT
DTSTART;VALUE=DATE:20220511
DTEND;VALUE=DATE:20220512
DTSTAMP:20260423T234436
CREATED:20220309T105504Z
LAST-MODIFIED:20220428T145849Z
UID:34274-1652227200-1652313599@avkf.hu
SUMMARY:II. Papírszínházi Szakmai Nap
DESCRIPTION:  \nAz eseményen való részvétel előzetes online regisztrációhoz kötött. Regisztráljon ITT. \nA részletes program ITT érhető el. \n 
URL:https://avkf.hu/esemeny/ii-papirszinhazi-szakmai-nap
LOCATION:Apor Vilmos Katolikus Főiskola\, Schuszter Konstantin tér 1-5.\, Vác\, 2600
END:VEVENT
BEGIN:VEVENT
DTSTART;TZID=Europe/Budapest:20220512T140000
DTEND;TZID=Europe/Budapest:20220512T140000
DTSTAMP:20260423T234436
CREATED:20220217T084311Z
LAST-MODIFIED:20220504T123331Z
UID:33643-1652364000-1652364000@avkf.hu
SUMMARY:TDK Előkonferencia
DESCRIPTION:A 2023-as Országos Tudományos Diákköri Konferenciára készülő hallgatók előkonferenciája.  \nFellép Jan Vojtek.\nAz előadó az Emberi Erőforrások Minisztériumának Fischer Annie Zenei Előadóművészeti Ösztöndíjasa. \n \n 
URL:https://avkf.hu/esemeny/tdk-elokonferencia-2022
LOCATION:Apor Vilmos Katolikus Főiskola\, Schuszter Konstantin tér 1-5.\, Vác\, 2600
END:VEVENT
BEGIN:VEVENT
DTSTART;VALUE=DATE:20220514
DTEND;VALUE=DATE:20220515
DTSTAMP:20260423T234436
CREATED:20220104T110020Z
LAST-MODIFIED:20220104T110020Z
UID:32538-1652486400-1652572799@avkf.hu
SUMMARY:Szorgalmi időszak vége
DESCRIPTION:
URL:https://avkf.hu/esemeny/szorgalmi-idoszak-vege-2
END:VEVENT
BEGIN:VEVENT
DTSTART;VALUE=DATE:20220516
DTEND;VALUE=DATE:20220517
DTSTAMP:20260423T234436
CREATED:20220104T110345Z
LAST-MODIFIED:20220104T110345Z
UID:32542-1652659200-1652745599@avkf.hu
SUMMARY:Vizsgaidőszak kezdete
DESCRIPTION:
URL:https://avkf.hu/esemeny/vizsgaidoszak-kezdete-2
END:VEVENT
BEGIN:VEVENT
DTSTART;TZID=Europe/Budapest:20220519T085000
DTEND;TZID=Europe/Budapest:20220519T140000
DTSTAMP:20260423T234436
CREATED:20220309T120944Z
LAST-MODIFIED:20220519T055807Z
UID:34284-1652950200-1652968800@avkf.hu
SUMMARY:Óvodai\, iskolai szociális segítés online konferencia
DESCRIPTION:  \nA részletes program ITT érhető el. \nAz eseményen való részvétel előzetes online regisztrációhoz kötött.\nITT regisztrálhat 2022. május 18. 12:00-ig. \nA csatlakozási információkat a regisztráció során megadott e-mailcímre küldjük el a konferencia előtt. \n  \nCsatlakozási információk \nA csatlakozáshoz kattintson az alábbi linkre: \nJoin Zoom Meeting\nhttps://us06web.zoom.us/j/85285728585?pwd=Vmt0SzRsWFJmZGlBZ3QrdjhYb0d3QT09 \nMeeting ID: 852 8572 8585\nPasscode: 222599 \nOne tap mobile\n+16699006833\,\,85285728585#\,\,\,\,*222599# US (San Jose)\n+12532158782\,\,85285728585#\,\,\,\,*222599# US (Tacoma) \nDial by your location\n+1 669 900 6833 US (San Jose)\n+1 253 215 8782 US (Tacoma)\n+1 301 715 8592 US (Washington DC)\n+1 312 626 6799 US (Chicago)\n+1 346 248 7799 US (Houston)\n+1 408 638 0968 US (San Jose)\n+1 646 876 9923 US (New York)\nMeeting ID: 852 8572 8585\nPasscode: 222599\nFind your local number: https://us06web.zoom.us/u/kDKrRycr
URL:https://avkf.hu/esemeny/ovodai-iskolai-szocialis-segites-online-konferencia
LOCATION:online
END:VEVENT
BEGIN:VEVENT
DTSTART;VALUE=DATE:20220531
DTEND;VALUE=DATE:20220602
DTSTAMP:20260423T234436
CREATED:20220504T130542Z
LAST-MODIFIED:20220530T152014Z
UID:35077-1653955200-1654127999@avkf.hu
SUMMARY:Menekültek\, árvaházak\, újjászületés konferencia / Refugees\, Orphanages\, Rebirth Conference
DESCRIPTION:  \nKonferenciánk középpontjában a törökországi örmény népirtás utáni helyzet tárgyalása áll: a majdnem teljesen eltűnt örménység a szó szoros értelmében az árvaházakban született újjá. A konferencia második részében a téma általános társadalomtörténeti kérdéseit tekintjük át\, szó lesz a kiskorú menekültek általános helyzetéről a 20. században\, a holokauszt túlélőkről és a második világháború utáni görög menekülthullámról is.     \nAz előadások angol nyelven zajlanak majd.   \nA konferencián való részvétel előzetes regisztrációhoz kötött.\nITT regisztrálhat. \nDetailed conference programme\nRészletes program \n 
URL:https://avkf.hu/esemeny/menekultek-arvahazak-ujjaszuletes-konferencia
LOCATION:Apor Vilmos Katolikus Főiskola\, Schuszter Konstantin tér 1-5.\, Vác\, 2600
END:VEVENT
BEGIN:VEVENT
DTSTART;VALUE=DATE:20220607
DTEND;VALUE=DATE:20220611
DTSTAMP:20260423T234436
CREATED:20220104T110844Z
LAST-MODIFIED:20220104T110844Z
UID:32548-1654560000-1654905599@avkf.hu
SUMMARY:Záróvizsgák (szakirányú továbbképzés)
DESCRIPTION:
URL:https://avkf.hu/esemeny/zarovizsgak-szakiranyu-tovabbkepzes-2
END:VEVENT
BEGIN:VEVENT
DTSTART;VALUE=DATE:20220613
DTEND;VALUE=DATE:20220618
DTSTAMP:20260423T234436
CREATED:20220104T110724Z
LAST-MODIFIED:20220104T110724Z
UID:32546-1655078400-1655510399@avkf.hu
SUMMARY:Záróvizsgák (BA\, MA)
DESCRIPTION:
URL:https://avkf.hu/esemeny/zarovizsgak-ba-ma-2
END:VEVENT
BEGIN:VEVENT
DTSTART;VALUE=DATE:20220625
DTEND;VALUE=DATE:20220626
DTSTAMP:20260423T234436
CREATED:20220104T110503Z
LAST-MODIFIED:20220104T110503Z
UID:32544-1656115200-1656201599@avkf.hu
SUMMARY:Vizsgaidőszak vége
DESCRIPTION:
URL:https://avkf.hu/esemeny/vizsgaidoszak-vege-2
END:VEVENT
BEGIN:VEVENT
DTSTART;TZID=Europe/Budapest:20220628T100000
DTEND;TZID=Europe/Budapest:20220628T100000
DTSTAMP:20260423T234436
CREATED:20220517T141747Z
LAST-MODIFIED:20220518T070345Z
UID:35239-1656410400-1656410400@avkf.hu
SUMMARY:Tanévzáró ünnepség
DESCRIPTION:
URL:https://avkf.hu/esemeny/tanevzaro-unnepseg
LOCATION:Apor Vilmos Katolikus Főiskola\, Schuszter Konstantin tér 1-5.\, Vác\, 2600
END:VEVENT
BEGIN:VEVENT
DTSTART;TZID=Europe/Budapest:20220701T100000
DTEND;TZID=Europe/Budapest:20220701T100000
DTSTAMP:20260423T234436
CREATED:20220104T111322Z
LAST-MODIFIED:20220624T081117Z
UID:32552-1656669600-1656669600@avkf.hu
SUMMARY:Diplomaátadó ünnepség (Vác I.)
DESCRIPTION:
URL:https://avkf.hu/esemeny/diplomaatado-unnepseg-vac-1
LOCATION:Apor Vilmos Katolikus Főiskola\, Schuszter Konstantin tér 1-5.\, Vác\, 2600
END:VEVENT
BEGIN:VEVENT
DTSTART;TZID=Europe/Budapest:20220701T130000
DTEND;TZID=Europe/Budapest:20220701T130000
DTSTAMP:20260423T234436
CREATED:20220624T080956Z
LAST-MODIFIED:20220624T080956Z
UID:35437-1656680400-1656680400@avkf.hu
SUMMARY:Diplomaátadó ünnepség (Vác II.)
DESCRIPTION:
URL:https://avkf.hu/esemeny/diplomaatado-unnepseg-vac-2
LOCATION:Apor Vilmos Katolikus Főiskola\, Schuszter Konstantin tér 1-5.\, Vác\, 2600
END:VEVENT
BEGIN:VEVENT
DTSTART;TZID=Europe/Budapest:20220702T100000
DTEND;TZID=Europe/Budapest:20220702T100000
DTSTAMP:20260423T234436
CREATED:20220517T141308Z
LAST-MODIFIED:20220517T141308Z
UID:35237-1656756000-1656756000@avkf.hu
SUMMARY:Diplomaátadó ünnepség (Budapest)
DESCRIPTION:
URL:https://avkf.hu/esemeny/diplomaatado-unnepseg-budapest
LOCATION:AVKF Budapesti Campus\, Török Flóris utca 227-229.\, Budapest\, 1201
END:VEVENT
BEGIN:VEVENT
DTSTART;VALUE=DATE:20220815
DTEND;VALUE=DATE:20220816
DTSTAMP:20260423T234436
CREATED:20220809T115809Z
LAST-MODIFIED:20220809T115809Z
UID:35888-1660521600-1660607999@avkf.hu
SUMMARY:Tantárgyfelvételi időszak kezdete
DESCRIPTION:
URL:https://avkf.hu/esemeny/tantargyfelveteli-idoszak-kezdete
END:VEVENT
BEGIN:VEVENT
DTSTART;VALUE=DATE:20220826
DTEND;VALUE=DATE:20220827
DTSTAMP:20260423T234436
CREATED:20220519T142220Z
LAST-MODIFIED:20220519T142220Z
UID:35301-1661472000-1661558399@avkf.hu
SUMMARY:Beiratkozás (nappali tagozat)
DESCRIPTION:
URL:https://avkf.hu/esemeny/beiratkozas-nappali-tagozat
END:VEVENT
BEGIN:VEVENT
DTSTART;VALUE=DATE:20220827
DTEND;VALUE=DATE:20220828
DTSTAMP:20260423T234436
CREATED:20220519T142331Z
LAST-MODIFIED:20220519T142331Z
UID:35303-1661558400-1661644799@avkf.hu
SUMMARY:Beiratkozás (levelező tagozat)
DESCRIPTION:
URL:https://avkf.hu/esemeny/beiratkozas-levelezo-tagozat
END:VEVENT
END:VCALENDAR