BEGIN:VCALENDAR
VERSION:2.0
PRODID:-//AVKF - ECPv6.15.17.1//NONSGML v1.0//EN
CALSCALE:GREGORIAN
METHOD:PUBLISH
X-WR-CALNAME:AVKF
X-ORIGINAL-URL:https://avkf.hu
X-WR-CALDESC:Események AVKF
REFRESH-INTERVAL;VALUE=DURATION:PT1H
X-Robots-Tag:noindex
X-PUBLISHED-TTL:PT1H
BEGIN:VTIMEZONE
TZID:Europe/Budapest
BEGIN:DAYLIGHT
TZOFFSETFROM:+0100
TZOFFSETTO:+0200
TZNAME:CEST
DTSTART:20200329T010000
END:DAYLIGHT
BEGIN:STANDARD
TZOFFSETFROM:+0200
TZOFFSETTO:+0100
TZNAME:CET
DTSTART:20201025T010000
END:STANDARD
BEGIN:DAYLIGHT
TZOFFSETFROM:+0100
TZOFFSETTO:+0200
TZNAME:CEST
DTSTART:20210328T010000
END:DAYLIGHT
BEGIN:STANDARD
TZOFFSETFROM:+0200
TZOFFSETTO:+0100
TZNAME:CET
DTSTART:20211031T010000
END:STANDARD
BEGIN:DAYLIGHT
TZOFFSETFROM:+0100
TZOFFSETTO:+0200
TZNAME:CEST
DTSTART:20220327T010000
END:DAYLIGHT
BEGIN:STANDARD
TZOFFSETFROM:+0200
TZOFFSETTO:+0100
TZNAME:CET
DTSTART:20221030T010000
END:STANDARD
BEGIN:DAYLIGHT
TZOFFSETFROM:+0100
TZOFFSETTO:+0200
TZNAME:CEST
DTSTART:20230326T010000
END:DAYLIGHT
BEGIN:STANDARD
TZOFFSETFROM:+0200
TZOFFSETTO:+0100
TZNAME:CET
DTSTART:20231029T010000
END:STANDARD
END:VTIMEZONE
BEGIN:VEVENT
DTSTART;VALUE=DATE:20211011
DTEND;VALUE=DATE:20211013
DTSTAMP:20260424T133555
CREATED:20210908T083334Z
LAST-MODIFIED:20211006T114146Z
UID:29520-1633910400-1634083199@avkf.hu
SUMMARY:Hagyomány és újítás - VI. Kisgyermeknevelési Konferencia
DESCRIPTION:Nagy örömünkre szolgál\, hogy 2021. október 11-12. között Martonvásár önkormányzatával együttműködve ismét megrendezhetjük Kisgyermeknevelési Konferenciánkat. \n  \nA plenáris előadások és szekcióülések fókuszában idén a hagyomány és újítás lesz. Olyan témákat járunk majd körül\, mint a mese és a zene szerepe a pedagógusok munkájában\, a korai nyelvoktatás módszertani újdonságai\, vagy a mozgás és a környezet együttes hatása a kisgyermekek fejlődésére. Szó lesz emellett a leszakadó rétegek felzárkóztatási lehetőségeiről és a korszerű nevelési környezetről is. \n  \nElőadóink között neves szakembereket köszönthetünk. Elfogadta meghívásunkat – többek között – Kovácsné Bárány Ildikó bölcsődei ügyek koordinációjáért felelős miniszteri biztos\, Vecsei Miklós társadalmi felzárkózásért felelős miniszterelnöki biztos\, a Magyar Máltai Szeretetszolgálat alelnöke\, valamint Turi Attila Kossuth- és Ybl Miklós-díjas építész\, a Magyar Művészeti Akadémia Építőművészeti Tagozatának elnöke is. \n  \nA konferencián való részvétel ingyenes\, de regisztrációhoz kötött\, pedagógus továbbképzésbe igazoltan beszámítható. \n  \nA részletes program itt olvasható. \n  \nRegisztráció az alábbi űrlap kitöltésével és küldésével lehetséges: \nVI. Kisgyermeknevelési Konferencia regisztrációs űrlap \nJelentkezési határidő: szeptember 30. \n  \nRésztvevőink számára szállást igény esetén az Apor Vilmos Katolikus Főiskola váci kollégiumában díjmentesen tudunk biztosítani. \n  \nKérdés esetén a kommunikacio@avkf.hu e-mailcímen érdeklődhetnek. \n 
URL:https://avkf.hu/esemeny/hagyomany-es-ujitas-vi-kisgyermeknevelesi-konferencia
CATEGORIES:Konferenciák
END:VEVENT
BEGIN:VEVENT
DTSTART;TZID=Europe/Budapest:20211012T150000
DTEND;TZID=Europe/Budapest:20211012T170000
DTSTAMP:20260424T133555
CREATED:20210929T092604Z
LAST-MODIFIED:20210929T093021Z
UID:30139-1634050800-1634058000@avkf.hu
SUMMARY:A junior 3D program - az Atipikus Fejlődés Módszertani Központ szakmai műhelye oktatók és hallgatók számára
DESCRIPTION:Miért 3D? \nA tanulási zavarok (diszlexia\, diszgráfia és diszkalkulia) megelőzhetők a tanulási környezet megváltoztatásával\, és nem kell\, hogy súlyos teljesítményzavarokká váljanak. Hatékony iskolai szervezési és tanítási/tanulási módszerekkel a gyakran a tanulási zavarokkal együtt megjelenő figyelem\, hiperaktivitás és autizmus zavar spektrumok osztálytermi kezelése is könnyebb lesz. A 3D program ennek érdekében született. A felsős és középiskolai korosztály számára kidolgozott modulokat most a fiatalabb korosztályra is adaptáljuk. A műhely során bemutatjuk\, hogyan lehet fokozatosan bevezetni az osztálytermi gyakorlatba a kudarcok csökkentésére alkalmas eljárásokat. \nMűhelyvezető: Dr. Gyarmathy Éva egyetemi tanár\, Apor Vilmos Katolikus Főiskola \nIdőpont: 2021. október 12. (kedd) 15:00-17:00 óráig \nHibrid műhely – Helyszín: Vác\, az Apor Vilmos Katolikus Főiskola Szent Miklós téri épületének Boldog Sára terme\, valamint online felület \nA részvétel ingyenes\, de regisztrációhoz kötött. Online regisztráció: ITT. \nMinden érdeklődőt szeretettel várunk!
URL:https://avkf.hu/esemeny/a-junior-3d-program-az-atipikus-fejlodes-modszertani-kozpont-szakmai-muhelye-oktatok-es-hallgatok-szamara
LOCATION:Apor Vilmos Katolikus Főiskola\, Schuszter Konstantin tér 1-5.\, Vác\, 2600
END:VEVENT
BEGIN:VEVENT
DTSTART;TZID=Europe/Budapest:20211014T103000
DTEND;TZID=Europe/Budapest:20211014T103000
DTSTAMP:20260424T133555
CREATED:20210908T081846Z
LAST-MODIFIED:20210908T081846Z
UID:29515-1634207400-1634207400@avkf.hu
SUMMARY:Katolikus középiskolák XIII. országos helyesírási versenye
DESCRIPTION:Az Apor Vilmos Katolikus Főiskola 2021. október 14-én rendezi meg a Katolikus középiskolák XIII. országos helyesírási versenyét. A jelentkezéseket a gasparics.gyula@avkf.hu e-mailcímre kérjük elküldeni. A jelentkezési határidő 2021. október 4. \n  \nVersenykiírás \nJelentkezési lap
URL:https://avkf.hu/esemeny/katolikus-kozepiskolak-xiii-orszagos-helyesirasi-versenye
LOCATION:Apor Vilmos Katolikus Főiskola\, Schuszter Konstantin tér 1-5.\, Vác\, 2600
CATEGORIES:Versenyek
END:VEVENT
BEGIN:VEVENT
DTSTART;TZID=Europe/Budapest:20211014T140000
DTEND;TZID=Europe/Budapest:20211014T160000
DTSTAMP:20260424T133555
CREATED:20210927T091825Z
LAST-MODIFIED:20211013T130854Z
UID:30000-1634220000-1634227200@avkf.hu
SUMMARY:Alternatív Pedagógiák Módszertani Központ szakmai műhelysorozat I.
DESCRIPTION:„Nem mondhatom el senkinek…” személyes történetek \nA kétségbeesésen túl… – egy lehetséges válasz az online tanítás kihívásaira: Czike Gábor\, a budapesti Szent Gellért Katolikus Általános Iskola és Gimnázium történelemtanára \n„A karanténban eltöltött munkanapok segítettek nekem azt megérteni\, hogy számítógép nem egy egyszerű eszköz\, nem egy új hifi a régi autóba\, hanem rendszert teremtő tényező. A nevelés\, oktatás új kereteit a számítógéphez kell igazítani\, hiszen ezt érzékeljük az iskolán kívüli világban is. A kérdés pedig csak az\, hogy hogyan?” \nA program ingyenes\, de regisztrációhoz kötött. Regisztráció ITT.
URL:https://avkf.hu/esemeny/apmk-szakmai-muhelysorozat-i
LOCATION:AVKF Budapesti Campus\, Török Flóris utca 227-229.\, Budapest\, 1201
END:VEVENT
BEGIN:VEVENT
DTSTART;VALUE=DATE:20211025
DTEND;VALUE=DATE:20211102
DTSTAMP:20260424T133555
CREATED:20210921T111400Z
LAST-MODIFIED:20210921T111400Z
UID:29815-1635120000-1635811199@avkf.hu
SUMMARY:Őszi szünet
DESCRIPTION:
URL:https://avkf.hu/esemeny/oszi-szunet-3
END:VEVENT
BEGIN:VEVENT
DTSTART;TZID=Europe/Budapest:20211104T140000
DTEND;TZID=Europe/Budapest:20211104T160000
DTSTAMP:20260424T133555
CREATED:20210927T092449Z
LAST-MODIFIED:20211014T085652Z
UID:30004-1636034400-1636041600@avkf.hu
SUMMARY:Alternatív Pedagógiák Módszertani Központ szakmai műhelysorozat II.
DESCRIPTION:„Nem mondhatom el senkinek…” személyes történetek \nSzemélyközpontú pedagógussá válni – Fehér Márta (Közgazdasági Politechnikum tanára) \n„Egész eddigi életemben iskolába jártam\, összesen négybe. Diákként: általános iskola\, gimnázium\, egyetem. Tanárként: a gimnázium\, ahova diákként jártam\, és a mostani iskolám\, egy alternatív gimnázium. Arról szeretnék beszélni\, miért kulcsfontosságú az életemben a változás. Arról\, hogy a magammal szemben támasztott elvárások\, saját elhatározásaim és a külvilág kihívásai hányszor\, hogyan alakították létformámat\, tanári szerepemet\, gyakorlatomat\, hogy milyen sikereket és kudarcokat tudhatok a magaménak. Inspiráló és támogató mestereimről\, kollégáimról\, a szakmai helyszínekről\, élményekről\, tapasztalatokról\, tanulási folyamatokról\, amelyek segítették haladásomat. Személyes erőfeszítéseimről és önismereti munkámról\, amelyek által formálódtam. Arról\, hol tartok most\, miben szeretnék fejlődni\, milyen céljaim vannak.” \nA program ingyenes\, de regisztrációhoz kötött. Regisztráció ITT.
URL:https://avkf.hu/esemeny/apmk-szakmai-muhelysorozat-ii
LOCATION:AVKF Budapesti Campus\, Török Flóris utca 227-229.\, Budapest\, 1201
END:VEVENT
BEGIN:VEVENT
DTSTART;VALUE=DATE:20211112
DTEND;VALUE=DATE:20211115
DTSTAMP:20260424T133555
CREATED:20210923T142559Z
LAST-MODIFIED:20211105T113346Z
UID:29880-1636675200-1636934399@avkf.hu
SUMMARY:XXIX. Országos Szendrei János Matematika Verseny
DESCRIPTION:Az Óvó- és Tanítóképzők Egyesületének Matematika Tagozata 29. alkalommal hirdeti meg az országos matematikai feladatmegoldó versenyét\, amely 2010 óta Szendrei János nevét viseli. \n  \nA versenyt a 2021/2022-es tanévben az Apor Vilmos Katolikus Főiskola rendezi meg Vácon. \nA verseny időpontja: 2021. november 12−14. \n  \nA verseny szabályzata szerint minden intézmény (képzési hely) egy 3 vagy 4 fős csapatot indíthat tanító (alapképzés)\, óvodapedagógus\, gyógypedagógus\, konduktor szakos nappali tagozatos hallgatóiból. A csapatverseny eredményét a csapat 3 legjobb dolgozatának összpontszáma határozza meg.  \n  \nIntézményenként (képzési helyenként) legfeljebb 3 hallgató indulhat egyéni versenyben a matematika műveltségterületi képzésben résztvevők közül.  \n  \nRegisztráció ITT. \nSzámlaigénylő \nRészletes program
URL:https://avkf.hu/esemeny/xxix-orszagos-szendrei-janos-matematika-verseny
LOCATION:Apor Vilmos Katolikus Főiskola\, Schuszter Konstantin tér 1-5.\, Vác\, 2600
END:VEVENT
BEGIN:VEVENT
DTSTART;TZID=Europe/Budapest:20211117T141500
DTEND;TZID=Europe/Budapest:20211117T141500
DTSTAMP:20260424T133555
CREATED:20211020T110706Z
LAST-MODIFIED:20211111T083902Z
UID:30582-1637158500-1637158500@avkf.hu
SUMMARY:International Café
DESCRIPTION:Szeretettel várunk minden érdeklődőt a nemzetközi programokon részt vett oktatóink és hallgatóink élménybeszámolóira és a nemzetközi lehetőségekkel kapcsolatos tájékoztatónkra! \nHelyszín: Szent Cecília terem\nModerátor: Szentpétery Marianne \nKapcsolat: erasmus@avkf.hu \nSzervező:\nIdegennyelvi Tanszék és Külkapcsolati Iroda \n 
URL:https://avkf.hu/esemeny/international-cafe-2
LOCATION:Apor Vilmos Katolikus Főiskola\, Schuszter Konstantin tér 1-5.\, Vác\, 2600
CATEGORIES:Rendezvények
END:VEVENT
BEGIN:VEVENT
DTSTART;TZID=Europe/Budapest:20211118T100000
DTEND;TZID=Europe/Budapest:20211118T100000
DTSTAMP:20260424T133555
CREATED:20211115T171410Z
LAST-MODIFIED:20211116T095327Z
UID:31468-1637229600-1637229600@avkf.hu
SUMMARY:Magyar katolikus jelenlét a világban kiállításmegnyitó
DESCRIPTION:A Külgazdasági és Külügyminisztérium által a budapesti Nemzetközi Eucharisztikus Kongresszus alkalmából készített tablókiállítás azt mutatja be\, mivel tudta gazdagítani a magyarság az egyetemes katolicizmust\, miként kapcsolódik a magyarság a katolikus egyházi intézmények\, illetve személyiségek révén a világ számos térségéhez és népéhez. \nA kiállítás sorra veszi a magyar katolikus jelenlét különböző formáit: a zarándokok számára leginkább jelentős külföldi kegyhelyeket\, különösen azokat\, ahol „intézményesen” (pl. nemzeti kápolnával\, emlékművel) is jelen vagyunk. Ismerteti a világszerte tisztelt magyar szenteket\, illetve jelölteket\, beleértve jelesebb ereklyéiket. Bemutatja a külhoni magyar katolikus közösségek fontosabb templomait\, intézményeit. Tiszteleg azon személyiségek előtt\, akik a hit jegyében vitték jó hírünket a világba misszionáriusként\, lelkipásztorként\, szakemberként. \nA kiállítást Gyurcsík Iván nagykövet ötlete alapján Érszegi Márk Aurél vallásdiplomáciai főtanácsadó készítette\, együttműködésben a KKM Bánffy Miklós Szakkönyvtár munkatársaival\, Biczó Krisztina könyvtárvezetővel és Mánfainé Kóczán Ritával\, az érintett külképviseletek munkatársainak javaslatai alapján és nagyrészt az általuk beszerzett illusztrációkkal\, kiegészítve azokat néhány fontosabb hazai intézmény gyűjteményéből (Jezsuita Levéltár\, Ferences Levéltár\, Magyar Földrajzi Múzeum\, Antall József Tudásközpont). \nAz utazó kiállítás november 18-tól december végéig látogatható főiskolánkon. \nA kiállításmegnyitó időpontja és helyszíne:\n2021. november 18. (csütörtök) 10:00\n2600 Vác\, Schuszter Konstantin tér 1-5. II. János Pál terem előtere \nA tárlatot dr. Gloviczki Zoltán\, főiskolánk rektora nyitja meg. A kiállítást szakmai szempontból Érszegi Márk Aurél\, a Külgazdasági és Külügyminisztérium vallásdiplomáciai főtanácsadója\, a kiállítás kurátora mutatja be.  \nSzeretettel várunk minden érdeklődőt!
URL:https://avkf.hu/esemeny/magyar-katolikus-jelenlet-a-vilagban-kiallitasmegnyito
LOCATION:Apor Vilmos Katolikus Főiskola\, Schuszter Konstantin tér 1-5.\, Vác\, 2600
END:VEVENT
BEGIN:VEVENT
DTSTART;TZID=Europe/Budapest:20211123T150000
DTEND;TZID=Europe/Budapest:20211123T150000
DTSTAMP:20260424T133555
CREATED:20211020T112654Z
LAST-MODIFIED:20211118T075748Z
UID:30584-1637679600-1637679600@avkf.hu
SUMMARY:TDK Toborzó kerekasztal-beszélgetés
DESCRIPTION:Bővebb információ ITT.
URL:https://avkf.hu/esemeny/tdk-toborzo-kerekasztal-beszelgetes
LOCATION:Apor Vilmos Katolikus Főiskola\, Schuszter Konstantin tér 1-5.\, Vác\, 2600
END:VEVENT
BEGIN:VEVENT
DTSTART;TZID=Europe/Budapest:20211125T140000
DTEND;TZID=Europe/Budapest:20211125T153000
DTSTAMP:20260424T133555
CREATED:20210927T093622Z
LAST-MODIFIED:20211122T112505Z
UID:30007-1637848800-1637854200@avkf.hu
SUMMARY:Alternatív Pedagógiák Módszertani Központ szakmai műhelysorozat III.
DESCRIPTION:Belső szakmai műhely oktatói segédletekről.
URL:https://avkf.hu/esemeny/apmk-szakmai-muhelysorozat-iii
LOCATION:online
END:VEVENT
BEGIN:VEVENT
DTSTART;TZID=Europe/Budapest:20211126T170000
DTEND;TZID=Europe/Budapest:20211126T170000
DTSTAMP:20260424T133555
CREATED:20211118T144855Z
LAST-MODIFIED:20211118T144940Z
UID:31681-1637946000-1637946000@avkf.hu
SUMMARY:Adventi készülődés
DESCRIPTION: 
URL:https://avkf.hu/esemeny/adventi-keszulodes
LOCATION:Szent József Kollégium\, Honvéd utca 13\, Vác\, 2600\, Magyarország
END:VEVENT
BEGIN:VEVENT
DTSTART;TZID=Europe/Budapest:20211127T120000
DTEND;TZID=Europe/Budapest:20211127T120000
DTSTAMP:20260424T133555
CREATED:20210921T122216Z
LAST-MODIFIED:20210921T122216Z
UID:29835-1638014400-1638014400@avkf.hu
SUMMARY:A szakdolgozat-leadás és a záróvizsga-jelentkezés határideje
DESCRIPTION:
URL:https://avkf.hu/esemeny/a-szakdolgozat-leadas-es-a-zarovizsga-jelentkezes-hatarideje
END:VEVENT
BEGIN:VEVENT
DTSTART;TZID=Europe/Budapest:20211201T120000
DTEND;TZID=Europe/Budapest:20211201T130000
DTSTAMP:20260424T133555
CREATED:20211020T110355Z
LAST-MODIFIED:20211124T143437Z
UID:30580-1638360000-1638363600@avkf.hu
SUMMARY:Christmas Party
DESCRIPTION:Helyszín: Központi épület udvara
URL:https://avkf.hu/esemeny/christmas-party-3
LOCATION:Apor Vilmos Katolikus Főiskola\, Schuszter Konstantin tér 1-5.\, Vác\, 2600
END:VEVENT
BEGIN:VEVENT
DTSTART;TZID=Europe/Budapest:20211203T140000
DTEND;TZID=Europe/Budapest:20211203T140000
DTSTAMP:20260424T133555
CREATED:20211118T085138Z
LAST-MODIFIED:20211126T112202Z
UID:31662-1638540000-1638540000@avkf.hu
SUMMARY:Német nemzetiségi nap - ONLINE
DESCRIPTION:  \nAz Idegennyelvi Tanszék online német nemzetiségi napot szervez december 3-án\, pénteken 14:00 órától\, amelyre minden érdeklődőt szeretettel várunk!  \nModerátor: Bárkányi Judit (szakfelelős\, szakmódszertant oktató tanár).\nElőadók: Dr. Gombocz Eszter\, Dandás Erzsébet\, Horváth Katalin\, István Éva\, Takács-Ruppert Erzsébet. \nA részvétel ingyenes\, de előzetes online regisztrációhoz kötött.\nA jelentkezés határideje 2021.12.03. 9:00. \n \nMi várható? \n\nRektori köszöntő\nBábok – Hogyan támogatható bábokkal a német nyelvű kommunikáció az óvodában?\nMese bemutatása síkbábok segítségével\nHangprodukciók – Az egyszerű\, mozgással kísért hangkombinációktól a ritmizált rímeken át a hangszerrel kísért mesékig\nKérdések és válaszok\n\nA német nemzetiségi képzés iránt érdeklődőknek főiskolánk számos lehetőséget kínál: \n\nA német nemzetiségi identitás erősítése modern\, részben reformpedagógiai módszerekkel\nTeljesítmény szerinti\, differenciálást is lehetővé tevő ösztöndíj\nSzakmai gyakorlat a reformpedagógiai (Freinet) elveken nyugvó Freie Schule Riesenklein (Halle an der Saale) intézményben\n(Bővebb információ ITT)\nErasmus+ program\nFelsőfokú nyelvvizsga-bizonyítvánnyal egyenértékű kétnyelvű (magyar-német) óvodapedagógusi és tanítói diploma\nIngyenes kollégium\nNyugodt Duna-menti környezet
URL:https://avkf.hu/esemeny/nemet-nemzetisegi-nap-online
LOCATION:online
END:VEVENT
BEGIN:VEVENT
DTSTART;TZID=Europe/Budapest:20211204T160000
DTEND;TZID=Europe/Budapest:20211204T180000
DTSTAMP:20260424T133555
CREATED:20211122T145112Z
LAST-MODIFIED:20211202T154632Z
UID:31741-1638633600-1638640800@avkf.hu
SUMMARY:Szocped Café
DESCRIPTION:Főiskolánk Szociálpedagógiai Műhelyének célkitűzése a szociálpedagógia elméleti\, módszertani\, oktatási és gyakorlati problémáinak elemzése\, a szakmai identitás megerősítése és a főiskolán zajló szociálpedagógus-képzés tudatos fejlesztése. A Műhely fontos programsorozata a Szocped Café\, amelyen a főiskola hallgatói kötetlenül beszélgethetnek szociális területen dolgozó szakemberekkel. \nHelyszín: az Apor Vilmos Katolikus Főiskola Könyvtára és online a Főiskola Facebook oldalán.\nVendégünk ez alkalommal Székely János püspök atya\, a Szombathelyi Egyházmegye főpásztora. A beszélgetés moderátora dr. Báder Iván\, a Hittudományi\, Társadalomtudományi és Romológiai Tanszék oktatója. \n \nSok érdekes kérdést érintünk majd a beszélgetés során\, úgy mint: a demográfiai problémák Magyarországon\, a gyermekvállalás\, az élet kezdetének és végének kérdésköre az egyház szemszögéből\, az egyház szerepe a cigányság társadalmi felzárkóztatásában\, a szegregáció kérdése az oktatásban\, a hajléktalanok segítése a katolikus egyház módszereivel\, az ökumenikus szemléletmód és az egyház megújulása. \nMinden érdeklődőt szeretettel várunk!
URL:https://avkf.hu/esemeny/szocped-cafe-2021-12
LOCATION:Apor Vilmos Katolikus Főiskola\, Schuszter Konstantin tér 1-5.\, Vác\, 2600
END:VEVENT
BEGIN:VEVENT
DTSTART;TZID=Europe/Budapest:20211208T120000
DTEND;TZID=Europe/Budapest:20211208T123000
DTSTAMP:20260424T133555
CREATED:20211119T134542Z
LAST-MODIFIED:20211122T131558Z
UID:31716-1638964800-1638966600@avkf.hu
SUMMARY:Luca-napi ünnepi játék
DESCRIPTION: 
URL:https://avkf.hu/esemeny/luca-nap
LOCATION:Apor Vilmos Katolikus Főiskola\, Schuszter Konstantin tér 1-5.\, Vác\, 2600
END:VEVENT
BEGIN:VEVENT
DTSTART;VALUE=DATE:20211211
DTEND;VALUE=DATE:20211212
DTSTAMP:20260424T133555
CREATED:20210921T111706Z
LAST-MODIFIED:20210921T111706Z
UID:29817-1639180800-1639267199@avkf.hu
SUMMARY:Szorgalmi időszak vége
DESCRIPTION:
URL:https://avkf.hu/esemeny/szorgalmi-idoszak-vege
END:VEVENT
BEGIN:VEVENT
DTSTART;VALUE=DATE:20211213
DTEND;VALUE=DATE:20211214
DTSTAMP:20260424T133555
CREATED:20210921T112001Z
LAST-MODIFIED:20210921T112001Z
UID:29819-1639353600-1639439999@avkf.hu
SUMMARY:Vizsgaidőszak kezdete
DESCRIPTION:
URL:https://avkf.hu/esemeny/vizsgaidoszak-kezdete
END:VEVENT
BEGIN:VEVENT
DTSTART;TZID=Europe/Budapest:20211214T150000
DTEND;TZID=Europe/Budapest:20211214T150000
DTSTAMP:20260424T133555
CREATED:20211124T150844Z
LAST-MODIFIED:20211207T132057Z
UID:31832-1639494000-1639494000@avkf.hu
SUMMARY:Adventi lelki nap
DESCRIPTION:Moys Gábor főiskolai lelkész vezetésével és hallgatóink közreműködésével. \nHelyszín: II. János Pál terem \n15:00 Gyertyagyújtás – hallgatói közreműködéssel\n15:30 Szentségimádás – zenei szolgálat: Gável fivérek\n16:00 Szentmise – zenei szolgálat: Bednarik Anasztázia
URL:https://avkf.hu/esemeny/adventi-lelki-nap
LOCATION:Apor Vilmos Katolikus Főiskola\, Schuszter Konstantin tér 1-5.\, Vác\, 2600
END:VEVENT
BEGIN:VEVENT
DTSTART;VALUE=DATE:20211223
DTEND;VALUE=DATE:20220104
DTSTAMP:20260424T133555
CREATED:20210921T112233Z
LAST-MODIFIED:20210921T112233Z
UID:29821-1640217600-1641254399@avkf.hu
SUMMARY:Téli szünet
DESCRIPTION:
URL:https://avkf.hu/esemeny/teli-szunet-3
END:VEVENT
BEGIN:VEVENT
DTSTART;VALUE=DATE:20220111
DTEND;VALUE=DATE:20220116
DTSTAMP:20260424T133555
CREATED:20210921T113405Z
LAST-MODIFIED:20210921T113405Z
UID:29827-1641859200-1642291199@avkf.hu
SUMMARY:Záróvizsgák (szakirányú továbbképzés)
DESCRIPTION:
URL:https://avkf.hu/esemeny/zarovizsgak-szakiranyu-tovabbkepzes
END:VEVENT
BEGIN:VEVENT
DTSTART;VALUE=DATE:20220113
DTEND;VALUE=DATE:20220116
DTSTAMP:20260424T133555
CREATED:20220104T103158Z
LAST-MODIFIED:20220104T103254Z
UID:32530-1642032000-1642291199@avkf.hu
SUMMARY:Educatio kiállítás
DESCRIPTION:Bővebb információ: www.educatioexpo.hu
URL:https://avkf.hu/esemeny/educatio-kiallitas-2022
LOCATION:Hungexpo\, Albertirsai út 10.\, Budapest\, 1101\, Magyarország
END:VEVENT
BEGIN:VEVENT
DTSTART;VALUE=DATE:20220118
DTEND;VALUE=DATE:20220123
DTSTAMP:20260424T133555
CREATED:20210921T113133Z
LAST-MODIFIED:20210921T113133Z
UID:29825-1642464000-1642895999@avkf.hu
SUMMARY:Záróvizsgák (BA\, MA)
DESCRIPTION:
URL:https://avkf.hu/esemeny/zarovizsgak-ba-ma
END:VEVENT
BEGIN:VEVENT
DTSTART;TZID=Europe/Budapest:20220119T100000
DTEND;TZID=Europe/Budapest:20220119T100000
DTSTAMP:20260424T133555
CREATED:20220104T102457Z
LAST-MODIFIED:20220112T094921Z
UID:32528-1642586400-1642586400@avkf.hu
SUMMARY:Nyílt nap
DESCRIPTION:
URL:https://avkf.hu/esemeny/nyilt-nap-2022
LOCATION:Apor Vilmos Katolikus Főiskola\, Schuszter Konstantin tér 1-5.\, Vác\, 2600
CATEGORIES:Nyílt napok
END:VEVENT
BEGIN:VEVENT
DTSTART;TZID=Europe/Budapest:20220128T100000
DTEND;TZID=Europe/Budapest:20220128T100000
DTSTAMP:20260424T133555
CREATED:20210921T114103Z
LAST-MODIFIED:20220124T092918Z
UID:29829-1643364000-1643364000@avkf.hu
SUMMARY:Diplomaátadó ünnepség
DESCRIPTION:Helyszín: II. János Pál terem
URL:https://avkf.hu/esemeny/diplomaatado-unnepseg-2
LOCATION:Apor Vilmos Katolikus Főiskola\, Schuszter Konstantin tér 1-5.\, Vác\, 2600
END:VEVENT
BEGIN:VEVENT
DTSTART;VALUE=DATE:20220130
DTEND;VALUE=DATE:20220131
DTSTAMP:20260424T133555
CREATED:20210921T112546Z
LAST-MODIFIED:20210921T112546Z
UID:29823-1643500800-1643587199@avkf.hu
SUMMARY:Vizsgaidőszak vége
DESCRIPTION:
URL:https://avkf.hu/esemeny/vizsgaidoszak-vege
END:VEVENT
BEGIN:VEVENT
DTSTART;VALUE=DATE:20220204
DTEND;VALUE=DATE:20220205
DTSTAMP:20260424T133555
CREATED:20220104T105850Z
LAST-MODIFIED:20220104T105850Z
UID:32536-1643932800-1644019199@avkf.hu
SUMMARY:Szorgalmi időszak kezdete
DESCRIPTION:
URL:https://avkf.hu/esemeny/szorgalmi-idoszak-kezdete
END:VEVENT
BEGIN:VEVENT
DTSTART;TZID=Europe/Budapest:20220204T180000
DTEND;TZID=Europe/Budapest:20220204T180000
DTSTAMP:20260424T133555
CREATED:20220124T103518Z
LAST-MODIFIED:20220124T104710Z
UID:32884-1643997600-1643997600@avkf.hu
SUMMARY:Matek az iskolában - Atipikus Fejlődés Módszertani Központ szakmai műhelysorozat II.
DESCRIPTION:Matek az iskolában – ahogy a pszichológus\, Gyarmathy Éva és ahogy a gyakorló tanárok látják \nAz Atipikus Fejlődés Módszertani Központ második szakmai műhelye oktatók\, hallgatók és minden érdeklődő számára.\nA beszélgetést a Magyar Pedagógiai Társaság Kerekgedei Makó Pál Matematika Szakosztálya szervezi. \nIdőpont: 2022. február 4. (péntek) 18:00 óra\nHelyszín: Zoom https://us02web.zoom.us/j/86566150314?pwd=M3NPVGc5NDRDNEpXRHhHNXV2M1ZvQT09\nMeeting ID: 865 6615 0314\nPasscode: 253152 \n\nA magyar gyerekek a nemzetközi matematika versenyeken jól szerepelnek\, de a nemzetközi felméréseken rendre gyenge a matematika eredmény. Milyen a hazai matematikaoktatás?\nAz iskolai matematikaoktatás már az óvodában megalapozható.\nMódszertani lehetőségek.\n\nVárjuk a matematikaoktatás legkülönbözőbb területein tanító pedagógusok\, óvodapedagógusok és minden\, a matematikatanítás iránt érdeklődő kolléga részvételét. \nMűhelyvezető: Prof. Dr. Gyarmathy Éva \nA részvétel ingyenes\, de előzetes regisztrációhoz kötött.
URL:https://avkf.hu/esemeny/matek-az-iskolaban-afmk-muhely-ii
LOCATION:online
END:VEVENT
BEGIN:VEVENT
DTSTART;TZID=Europe/Budapest:20220224T090000
DTEND;TZID=Europe/Budapest:20220224T163000
DTSTAMP:20260424T133555
CREATED:20220201T122309Z
LAST-MODIFIED:20220204T095157Z
UID:32966-1645693200-1645720200@avkf.hu
SUMMARY:Montessori szakmai nap
DESCRIPTION:Szeretettel várjuk az Alternatív Pedagógiák Módszertani Központ\n2022. tavaszi félévének első\, egésznapos programjára \nMONTESSORI SZAKMAI NAP\n2022. február 24. \nAz alapok tapasztalati megélése\nA 4 klasszikus terület és a hozzá tartozó eszközök bemutatója \nCélunk\, azoknak a Montessori alapelveknek a kézzel fogható\, gyakorlatias bemutatása\, amelyek máig is alapját képezik az alternatív pedagógiák gondolkodásmódjának. Az életkori sajátosságok figyelembevétele\, az érdeklődés és választás alapú\, az önellenőrzés lehetőségét is biztosító\, saját tevékenységekre épülő tanulás mind\, mind olyan értékek\, amelyek Maria Montessori nevéhez fűződnek. \nA szakmai napunkra szeretettel várjuk azokat az érdeklődő diákokat és kollégákat\, akik ezeket az értékeket magukénak vallják\, és kíváncsiak arra\, hogy hogyan lehet az óvodai és iskolai élet valóságává varázsolni. \nAz Apor Vilmos Katolikus Főiskola diákjainak és tanárainak a program ingyenes. \nA főiskola levelező tagozatos hallgatói szabadon választható kurzusként\, Alternatív pedagógiák címen felvehetik ezt a programot.\nA nappali tagozatos hallgatók két másik\, a Budapesti Campuson tartott szakmai napon történő jelenléttel együtt szintén megtehetik ezt. \nTervezett programok: \n9.00-9.30 Regisztráció\n9.30-11.00 Plenáris előadások\n11.00-16.30 Műhelyfoglalkozások szünetekkel \nMűhelyfoglalkozások témái: \n\nMindennapi élet és érzékelésfejlesztés\nÍrás és olvasás tanítás\nMatematika\nKozmikus ismeretek\n\nHelyszín: Apor Vilmos Katolikus Főiskola Budapesti Campus (1201 Budapest\, Török Flóris utca 227-229.) \nKérjük\, 2022. február 10-ig regisztráljon programunkra ITT.
URL:https://avkf.hu/esemeny/montessori-szakmai-nap
LOCATION:AVKF Budapesti Campus\, Török Flóris utca 227-229.\, Budapest\, 1201
END:VEVENT
END:VCALENDAR