BEGIN:VCALENDAR
VERSION:2.0
PRODID:-//AVKF - ECPv6.15.17.1//NONSGML v1.0//EN
CALSCALE:GREGORIAN
METHOD:PUBLISH
X-WR-CALNAME:AVKF
X-ORIGINAL-URL:https://avkf.hu
X-WR-CALDESC:Események AVKF
REFRESH-INTERVAL;VALUE=DURATION:PT1H
X-Robots-Tag:noindex
X-PUBLISHED-TTL:PT1H
BEGIN:VTIMEZONE
TZID:Europe/Budapest
BEGIN:DAYLIGHT
TZOFFSETFROM:+0100
TZOFFSETTO:+0200
TZNAME:CEST
DTSTART:20190331T010000
END:DAYLIGHT
BEGIN:STANDARD
TZOFFSETFROM:+0200
TZOFFSETTO:+0100
TZNAME:CET
DTSTART:20191027T010000
END:STANDARD
BEGIN:DAYLIGHT
TZOFFSETFROM:+0100
TZOFFSETTO:+0200
TZNAME:CEST
DTSTART:20200329T010000
END:DAYLIGHT
BEGIN:STANDARD
TZOFFSETFROM:+0200
TZOFFSETTO:+0100
TZNAME:CET
DTSTART:20201025T010000
END:STANDARD
BEGIN:DAYLIGHT
TZOFFSETFROM:+0100
TZOFFSETTO:+0200
TZNAME:CEST
DTSTART:20210328T010000
END:DAYLIGHT
BEGIN:STANDARD
TZOFFSETFROM:+0200
TZOFFSETTO:+0100
TZNAME:CET
DTSTART:20211031T010000
END:STANDARD
BEGIN:DAYLIGHT
TZOFFSETFROM:+0100
TZOFFSETTO:+0200
TZNAME:CEST
DTSTART:20220327T010000
END:DAYLIGHT
BEGIN:STANDARD
TZOFFSETFROM:+0200
TZOFFSETTO:+0100
TZNAME:CET
DTSTART:20221030T010000
END:STANDARD
END:VTIMEZONE
BEGIN:VEVENT
DTSTART;TZID=Europe/Budapest:20200324T140000
DTEND;TZID=Europe/Budapest:20200324T160000
DTSTAMP:20260426T055439
CREATED:20191205T111552Z
LAST-MODIFIED:20191205T111552Z
UID:20085-1585058400-1585065600@avkf.hu
SUMMARY:Lelki nap
DESCRIPTION:
URL:https://avkf.hu/esemeny/lelki-nap-3
LOCATION:Apor Vilmos Katolikus Főiskola\, Schuszter Konstantin tér 1-5.\, Vác\, 2600
CATEGORIES:Rendezvények
END:VEVENT
BEGIN:VEVENT
DTSTART;VALUE=DATE:20200404
DTEND;VALUE=DATE:20200405
DTSTAMP:20260426T055439
CREATED:20191205T111822Z
LAST-MODIFIED:20191205T111822Z
UID:20089-1585958400-1586044799@avkf.hu
SUMMARY:Kapcsolatban - szakmai nap
DESCRIPTION:
URL:https://avkf.hu/esemeny/kapcsolatban-szakmai-nap
LOCATION:AVKF Budapesti Campus\, Török Flóris utca 227-229.\, Budapest\, 1201
CATEGORIES:Rendezvények
END:VEVENT
BEGIN:VEVENT
DTSTART;TZID=Europe/Budapest:20200416T100000
DTEND;TZID=Europe/Budapest:20200416T140000
DTSTAMP:20260426T055439
CREATED:20200309T135132Z
LAST-MODIFIED:20200309T135132Z
UID:20970-1587031200-1587045600@avkf.hu
SUMMARY:Apor Szalon
DESCRIPTION:
URL:https://avkf.hu/esemeny/apor-szalon
LOCATION:Apor Vilmos Katolikus Főiskola\, Schuszter Konstantin tér 1-5.\, Vác\, 2600
CATEGORIES:Rendezvények
END:VEVENT
BEGIN:VEVENT
DTSTART;VALUE=DATE:20200420
DTEND;VALUE=DATE:20200425
DTSTAMP:20260426T055439
CREATED:20191205T111913Z
LAST-MODIFIED:20191205T111913Z
UID:20091-1587340800-1587772799@avkf.hu
SUMMARY:Nemzetközi hét
DESCRIPTION:
URL:https://avkf.hu/esemeny/nemzetkozi-het-2
LOCATION:Apor Vilmos Katolikus Főiskola\, Schuszter Konstantin tér 1-5.\, Vác\, 2600
CATEGORIES:Rendezvények
END:VEVENT
BEGIN:VEVENT
DTSTART;VALUE=DATE:20200421
DTEND;VALUE=DATE:20200423
DTSTAMP:20260426T055439
CREATED:20200122T133923Z
LAST-MODIFIED:20200122T133923Z
UID:20492-1587427200-1587599999@avkf.hu
SUMMARY:Főiskolai napok
DESCRIPTION:
URL:https://avkf.hu/esemeny/foiskolai-napok
LOCATION:Apor Vilmos Katolikus Főiskola\, Schuszter Konstantin tér 1-5.\, Vác\, 2600
CATEGORIES:Rendezvények
END:VEVENT
BEGIN:VEVENT
DTSTART;TZID=Europe/Budapest:20200423T100000
DTEND;TZID=Europe/Budapest:20200423T150000
DTSTAMP:20260426T055439
CREATED:20191205T112016Z
LAST-MODIFIED:20191205T112016Z
UID:20093-1587636000-1587654000@avkf.hu
SUMMARY:Romanap
DESCRIPTION:
URL:https://avkf.hu/esemeny/romanap-2
LOCATION:Apor Vilmos Katolikus Főiskola\, Schuszter Konstantin tér 1-5.\, Vác\, 2600
CATEGORIES:Rendezvények
END:VEVENT
BEGIN:VEVENT
DTSTART;VALUE=DATE:20200506
DTEND;VALUE=DATE:20200507
DTSTAMP:20260426T055439
CREATED:20191205T112132Z
LAST-MODIFIED:20200303T115423Z
UID:20095-1588723200-1588809599@avkf.hu
SUMMARY:Keresztény Neveléstudományi Konferencia
DESCRIPTION:Az Apor Vilmos Katolikus Főiskola \ntisztelettel meghívja a \nVIII. Keresztény Neveléstudományi Konferenciára\, \n  \namelyet 2020. május 6-án\, szerdán 10 órától 15 óráig tart Vácott\, a Főiskola központi épületének Szent II. János Pál pápa termében (Vác\, Konstantin tér 5.). \nA konferencia témája: \n„… az Újszövetség szolgái legyünk…” \n„… nos fecit ministros Novi Testamenti…” \nKeresztény-keresztyén pedagógus a 21. században \nTovábbi részletek\, jelentkezés
URL:https://avkf.hu/esemeny/kereszteny-nevelestudomanyi-konferencia-2
LOCATION:Apor Vilmos Katolikus Főiskola\, Schuszter Konstantin tér 1-5.\, Vác\, 2600
CATEGORIES:Konferenciák
END:VEVENT
BEGIN:VEVENT
DTSTART;VALUE=DATE:20200513
DTEND;VALUE=DATE:20200514
DTSTAMP:20260426T055439
CREATED:20200122T134107Z
LAST-MODIFIED:20200122T134107Z
UID:20494-1589328000-1589414399@avkf.hu
SUMMARY:TDK előkonferencia
DESCRIPTION:
URL:https://avkf.hu/esemeny/tdk-elokonferencia
LOCATION:Apor Vilmos Katolikus Főiskola\, Schuszter Konstantin tér 1-5.\, Vác\, 2600
CATEGORIES:Konferenciák
END:VEVENT
BEGIN:VEVENT
DTSTART;TZID=Europe/Budapest:20200907T100000
DTEND;TZID=Europe/Budapest:20200907T110000
DTSTAMP:20260426T055439
CREATED:20200901T075728Z
LAST-MODIFIED:20200901T075754Z
UID:22921-1599472800-1599476400@avkf.hu
SUMMARY:Veni Sancte - Tanévnyitó ünnepély
DESCRIPTION:Veni Sancte\n \nSzeretettel hívjuk az Apor Vilmos Katolikus Főiskola 2020/21. tanévének ünnepélyes tanévnyitójára 2020. szeptember 7-én 10 órakor a váci Nagyboldogasszony-székesegyházba. A szentmisét Marton Zsolt főtisztelendő püspök atya mutatja be.
URL:https://avkf.hu/esemeny/veni-sancte-tanevnyito-unnepely
LOCATION:Apor Vilmos Katolikus Főiskola\, Schuszter Konstantin tér 1-5.\, Vác\, 2600
CATEGORIES:Ünnepek
END:VEVENT
BEGIN:VEVENT
DTSTART;TZID=Europe/Budapest:20200915T140000
DTEND;TZID=Europe/Budapest:20200915T150000
DTSTAMP:20260426T055439
CREATED:20200901T080005Z
LAST-MODIFIED:20200909T095000Z
UID:22924-1600178400-1600182000@avkf.hu
SUMMARY:Ars Sacra 2020.
DESCRIPTION:
URL:https://avkf.hu/esemeny/ars-sacra-2020
LOCATION:Apor Vilmos Katolikus Főiskola\, Schuszter Konstantin tér 1-5.\, Vác\, 2600
CATEGORIES:Rendezvények
END:VEVENT
BEGIN:VEVENT
DTSTART;VALUE=DATE:20201010
DTEND;VALUE=DATE:20201011
DTSTAMP:20260426T055439
CREATED:20191205T111720Z
LAST-MODIFIED:20200513T090956Z
UID:20087-1602288000-1602374399@avkf.hu
SUMMARY:Alternatív Pedagógia Konferencia
DESCRIPTION:Változás\, megújulás az iskolában című konferenciáról bővebb információ a konferencia honlapján. \n 
URL:https://avkf.hu/esemeny/alternativ-pedagogia-konferencia
LOCATION:AVKF Budapesti Campus\, Török Flóris utca 227-229.\, Budapest\, 1201
CATEGORIES:Konferenciák
END:VEVENT
BEGIN:VEVENT
DTSTART;TZID=Europe/Budapest:20201020T150000
DTEND;TZID=Europe/Budapest:20201020T170000
DTSTAMP:20260426T055439
CREATED:20200828T090834Z
LAST-MODIFIED:20201020T090712Z
UID:22862-1603206000-1603213200@avkf.hu
SUMMARY:A Tanulókártya projekt bemutatása
DESCRIPTION:1. szakmai műhely: \nAz Atipikus Központ kezdeményezésére\, a Magyar Máltai Szeretetszolgálat és az Eszterházy Egyetem közös koordinációjában elindult egy különleges módszertani fejlesztés a hátrányos helyzetű régiókban élő gyermekek tanulását segítendő. A tanulókártyák célja\, hogy megkönnyítsék a tananyag elsajátítását\, akár iskolai\, akár otthoni tanulás során\, valamint a tanulásban való lemaradást csökkentsék\, megszüntessék. Mindezeken túl kimondható\, hogy a tanulókártyák használata nemcsak a hátrányos helyzetű tanulók\, nemcsak az atipikus fejlődésű tanulók\, de minden tanuló számára fejlesztő. \nTovábbi információk \nRegisztráció \nKöszönjük érdeklődését\, a regisztráció létszámkorlát miatt lezárult. A műhelyt november 17-én megismételjük.
URL:https://avkf.hu/esemeny/a-tanulokartya-projekt-bemutatasa
LOCATION:Apor Vilmos Katolikus Főiskola\, Schuszter Konstantin tér 1-5.\, Vác\, 2600
CATEGORIES:Rendezvények
END:VEVENT
BEGIN:VEVENT
DTSTART;TZID=Europe/Budapest:20201117T140000
DTEND;TZID=Europe/Budapest:20201117T170000
DTSTAMP:20260426T055439
CREATED:20201020T081529Z
LAST-MODIFIED:20201020T092046Z
UID:23286-1605621600-1605632400@avkf.hu
SUMMARY:Intézményi Diákköri Konferencia
DESCRIPTION:
URL:https://avkf.hu/esemeny/intezmenyi-diakkori-konferencia
LOCATION:Apor Vilmos Katolikus Főiskola\, Schuszter Konstantin tér 1-5.\, Vác\, 2600
CATEGORIES:Konferenciák
END:VEVENT
BEGIN:VEVENT
DTSTART;TZID=Europe/Budapest:20201117T150000
DTEND;TZID=Europe/Budapest:20201117T170000
DTSTAMP:20260426T055439
CREATED:20201020T090801Z
LAST-MODIFIED:20201103T111647Z
UID:23304-1605625200-1605632400@avkf.hu
SUMMARY:A Tanulókártya projekt bemutatása 2.
DESCRIPTION:1. szakmai műhely: \nAz Atipikus Központ kezdeményezésére\, a Magyar Máltai Szeretetszolgálat és az Eszterházy Egyetem közös koordinációjában elindult egy különleges módszertani fejlesztés a hátrányos helyzetű régiókban élő gyermekek tanulását segítendő. A tanulókártyák célja\, hogy megkönnyítsék a tananyag elsajátítását\, akár iskolai\, akár otthoni tanulás során\, valamint a tanulásban való lemaradást csökkentsék\, megszüntessék. Mindezeken túl kimondható\, hogy a tanulókártyák használata nemcsak a hátrányos helyzetű tanulók\, nemcsak az atipikus fejlődésű tanulók\, de minden tanuló számára fejlesztő. \nTovábbi információk \nRegisztráció
URL:https://avkf.hu/esemeny/a-tanulokartya-projekt-bemutatasa-2
LOCATION:Apor Vilmos Katolikus Főiskola\, Schuszter Konstantin tér 1-5.\, Vác\, 2600
CATEGORIES:Rendezvények
END:VEVENT
BEGIN:VEVENT
DTSTART;VALUE=DATE:20210209
DTEND;VALUE=DATE:20210210
DTSTAMP:20260426T055439
CREATED:20210127T102711Z
LAST-MODIFIED:20210127T102735Z
UID:23842-1612828800-1612915199@avkf.hu
SUMMARY:AVKF - Alternatív Pedagógiák Módszertani Központ Szakmai műhely 1.
DESCRIPTION:Projektek az iskolában – hétköznapi gyakorlatok \nEbben a sorozatban már megvalósult iskolai projekteket és az otthont adó iskolákat szeretnénk bemutatni a résztvevőknek.  \nAz online foglalkozáson a résztvevők találkozhatnak a projektet koordináló tanítóval/tanárral és az iskola vezetőjével/képviselőjével is.  \nA sorozat utolsó alkalmán a résztvevők mutathatnak be saját\, már lezajlott iskolai projekteket. \nTallér Júlia\, – Lipták Era \nA Trójai faló c. projekt bemutatása \nA Rogers iskola bemutatkozása \nA részvételhez gmail-es e-mailcím szükséges! \nA részvétel regisztrációhoz kötött! \nRegisztráció
URL:https://avkf.hu/esemeny/avkf-alternativ-pedagogiak-modszertani-kozpont-szakmai-muhely-1
LOCATION:online
CATEGORIES:Rendezvények
END:VEVENT
BEGIN:VEVENT
DTSTART;VALUE=DATE:20210223
DTEND;VALUE=DATE:20210224
DTSTAMP:20260426T055439
CREATED:20210127T102744Z
LAST-MODIFIED:20210127T102744Z
UID:23843-1614038400-1614124799@avkf.hu
SUMMARY:AVKF - Alternatív Pedagógiák Módszertani Központ Szakmai műhely 2.
DESCRIPTION:Projektek az iskolában – hétköznapi gyakorlatok \nEbben a sorozatban már megvalósult iskolai projekteket és az otthont adó iskolákat szeretnénk bemutatni a résztvevőknek.  \nAz online foglalkozáson a résztvevők találkozhatnak a projektet koordináló tanítóval/tanárral és az iskola vezetőjével/képviselőjével is.  \nA sorozat utolsó alkalmán a résztvevők mutathatnak be saját\, már lezajlott iskolai projekteket. \nSzeszler Anna – Márton András \nA projekt ismérvei\, kritériumai (PPT) \nAz ókor kezdete – a Lauder iskola egy projektjének bemutatása \nA Lauder iskola bemutatása \nA részvételhez gmail-es e-mailcím szükséges! \nA részvétel regisztrációhoz kötött! \nRegisztráció
URL:https://avkf.hu/esemeny/avkf-alternativ-pedagogiak-modszertani-kozpont-szakmai-muhely-2
LOCATION:online
CATEGORIES:Rendezvények
END:VEVENT
BEGIN:VEVENT
DTSTART;VALUE=DATE:20210309
DTEND;VALUE=DATE:20210310
DTSTAMP:20260426T055439
CREATED:20210127T102803Z
LAST-MODIFIED:20210127T102803Z
UID:23844-1615248000-1615334399@avkf.hu
SUMMARY:AVKF - Alternatív Pedagógiák Módszertani Központ Szakmai műhely 3.
DESCRIPTION:Projektek az iskolában – hétköznapi gyakorlatok \nEbben a sorozatban már megvalósult iskolai projekteket és az otthont adó iskolákat szeretnénk bemutatni a résztvevőknek.  \nAz online foglalkozáson a résztvevők találkozhatnak a projektet koordináló tanítóval/tanárral és az iskola vezetőjével/képviselőjével is.  \nA sorozat utolsó alkalmán a résztvevők mutathatnak be saját\, már lezajlott iskolai projekteket. \nMayer Ágnes – Esztergomi Kata \nA Palánta iskola egy projektjének bemutatása \nA Palánta iskola bemutatkozása \nA részvételhez gmail-es e-mailcím szükséges! \nA részvétel regisztrációhoz kötött! \nRegisztráció
URL:https://avkf.hu/esemeny/avkf-alternativ-pedagogiak-modszertani-kozpont-szakmai-muhely-3
LOCATION:online
CATEGORIES:Rendezvények
END:VEVENT
BEGIN:VEVENT
DTSTART;TZID=Europe/Budapest:20210309T160000
DTEND;TZID=Europe/Budapest:20210309T180000
DTSTAMP:20260426T055439
CREATED:20210111T112409Z
LAST-MODIFIED:20210302T082333Z
UID:23727-1615305600-1615312800@avkf.hu
SUMMARY:Az átütő tehetségfejlődés problematikája - AFMK 3. szakmai műhely
DESCRIPTION:Az átütő és kiemelkedő fejlődésű kisgyerek képességfejlődésben a legfelső 1%-ba illetve 5%-ba tartozik\, tudásuk valamely területen legalább két évvel megelőzi a kortársak tudását.\nJelenleg hivatalos ellátást nem kapnak ezek a tehetségfejlődésben megmutatkozó atipikus fejlődésű gyerekek\, pedig speciális igényeik ellátatlansága miatt súlyos beilleszkedési és fejlődési zavarok alakulhatnak ki. \nTovábbi információk \nRegisztráció
URL:https://avkf.hu/esemeny/az-atuto-tehetsegfejlodes-problematikaja-afmk-3-szakmai-muhely
LOCATION:online
CATEGORIES:Konferenciák
END:VEVENT
BEGIN:VEVENT
DTSTART;TZID=Europe/Budapest:20210904T100000
DTEND;TZID=Europe/Budapest:20210904T100000
DTSTAMP:20260426T055439
CREATED:20210827T091525Z
LAST-MODIFIED:20210827T092008Z
UID:28885-1630749600-1630749600@avkf.hu
SUMMARY:Anna-Joachim Ünnep
DESCRIPTION:Közös összegzés\, visszatekintés\, köszönetnyilvánítás az Anna-Joachim Program eddigi örömeiért.
URL:https://avkf.hu/esemeny/anna-joachim-unnep
LOCATION:AVKF Budapesti Campus\, Török Flóris utca 227-229.\, Budapest\, 1201
CATEGORIES:Rendezvények
END:VEVENT
BEGIN:VEVENT
DTSTART;TZID=Europe/Budapest:20210906T100000
DTEND;TZID=Europe/Budapest:20210906T100000
DTSTAMP:20260426T055439
CREATED:20210827T093115Z
LAST-MODIFIED:20210827T093238Z
UID:28890-1630922400-1630922400@avkf.hu
SUMMARY:Tanévnyitó és Veni Sancte
DESCRIPTION:Veni Sancte szentmisével egybekötött tanévnyitónkat 2021. szeptember 6-án (hétfőn) 10 órakor a váci központi épületünk II. János Pál termében tartjuk. A szentmisét celebrálja Moys Gábor főiskolai lelkész\, koncelebrál dr. Lovassy Attila szakfelelős\, zenei szolgálatot ad dr. Bednarik Anasztázia orgonaművész\, szakfelelős. A rendezvényen köszöntőbeszédet mond dr. Gloviczki Zoltán rektor\, valamint sor kerül az elsőéves hallgatók eskütételére is.
URL:https://avkf.hu/esemeny/tanevnyito-es-veni-sancte
LOCATION:Apor Vilmos Katolikus Főiskola\, Schuszter Konstantin tér 1-5.\, Vác\, 2600
CATEGORIES:Ünnepek
END:VEVENT
BEGIN:VEVENT
DTSTART;TZID=Europe/Budapest:20210906T120000
DTEND;TZID=Europe/Budapest:20210906T120000
DTSTAMP:20260426T055439
CREATED:20210827T094019Z
LAST-MODIFIED:20210902T063212Z
UID:28894-1630929600-1630929600@avkf.hu
SUMMARY:A Biblia növényei kiállításmegnyitó
DESCRIPTION:A Bibliában fellelhető\, jelentősebb és szimbolikus növények kapcsán rendez kiállítást az Apor Vilmos Katolikus Főiskola a vácrátóti Nemzeti Botanikus Kert\, a Váci Székesegyházi Kincstár és Egyházmegyei Gyűjtemény és a Váci Egyházmegyei Könyvtár közreműködésével. A posztereken bibliai idézetek és a Váci Székesegyházi Kincstár és Egyházmegyei Gyűjtemény műkincseinek segítségével mesélik el az egyes növények érdekességeit és szerepüket a Bibliában. A műkincseket ábrázoló fotókat Fráter Erzsébet\, Csorba F. László és Nagy Sándor készítette\, az akvarellek Csapody Vera alkotásai\, a kiállítás szövegét Both Mária Gabriella\, az AVKF oktatója és Fráter Erzsébet írta. A kiállítás szeptember végéig megtekinthető a Főiskolán\, később pedig vándorkiállításként a környék iskoláiban tudják megnézni az érdeklődők. \n„A kiállítást jó szívvel ajánljuk az igazságot és szépséget keresők figyelmébe. Valljuk\, a tudás és a hit nem külön létező világok\, hanem egymást feltételezik\, egymást támogatják.” – nyilatkozta Dr. Gloviczki Zoltán\, az Apor Vilmos Katolikus Főiskola rektora a kiállítással kapcsolatban. \nAz eseményen meghívottként részt vesz a kiállítás létrehozásában közreműködő Garamszegi László Zsolt\, az Ökológiai Kutatóközpont\, Ökológiai és Botanikai Intézet igazgatója; Zsigmond Vince\, a vácrátóti Nemzeti Botanikus Kert igazgatója; valamint Varga-Kohári Mária\, a Váci Egyházmegyei Könyvtár vezetője. \nA kiállítás a Nemzeti Tehetség Program támogatásával valósult meg.
URL:https://avkf.hu/esemeny/a-biblia-novenyei-kiallitasmegnyito
LOCATION:Apor Vilmos Katolikus Főiskola\, Schuszter Konstantin tér 1-5.\, Vác\, 2600
CATEGORIES:Rendezvények
END:VEVENT
BEGIN:VEVENT
DTSTART;TZID=Europe/Budapest:20210907T140000
DTEND;TZID=Europe/Budapest:20210907T140000
DTSTAMP:20260426T055439
CREATED:20210827T095153Z
LAST-MODIFIED:20210827T095153Z
UID:28896-1631023200-1631023200@avkf.hu
SUMMARY:Szakrális terek a Váci Egyházmegyében kiállításmegnyitó
DESCRIPTION:A XV. Ars Sacra Fesztivál keretein belül rendezzük meg a Forte Fotóklub Vác tagjainak kiállítását\, amely a Váci Egyházmegye szakrális tereit mutatja be. \nMagyarország egyik legnagyobb\, 100 fős taglétszámú fotóklubja\, a Forte Fotóklub Vác 2013-ban alakult. Az alkotók azóta számos helyen mutatták be színvonalas értéket képviselő műveiket. Hazánk mellett Vác testvérvárosaiban\, Dunaueschingenben\, Otrokovicében és Székelyudvarhelyen is mindig érdeklődéssel és szeretettel várják és fogadják a magyar kultúra nagyköveteinek tárlatát. A Váci Egyházmegye templomait bemutató kiállításuk méltón tükrözi az alkotók emberi és művészi ars poeticáját. A kiállítás kurátora: Cservenák Péter\, a fotóklub vezetője és a Váci Városvédők és Városszépítők Egyesülete elnöke. A kiállítást megnyitja: dr. Gloviczki Zoltán\, az Apor Vilmos Katolikus Főiskola rektora.
URL:https://avkf.hu/esemeny/szakralis-terek-a-vaci-egyhazmegyeben-kiallitasmegnyito
LOCATION:Apor Vilmos Katolikus Főiskola\, Schuszter Konstantin tér 1-5.\, Vác\, 2600
CATEGORIES:Rendezvények
END:VEVENT
BEGIN:VEVENT
DTSTART;VALUE=DATE:20211011
DTEND;VALUE=DATE:20211013
DTSTAMP:20260426T055439
CREATED:20210908T083334Z
LAST-MODIFIED:20211006T114146Z
UID:29520-1633910400-1634083199@avkf.hu
SUMMARY:Hagyomány és újítás - VI. Kisgyermeknevelési Konferencia
DESCRIPTION:Nagy örömünkre szolgál\, hogy 2021. október 11-12. között Martonvásár önkormányzatával együttműködve ismét megrendezhetjük Kisgyermeknevelési Konferenciánkat. \n  \nA plenáris előadások és szekcióülések fókuszában idén a hagyomány és újítás lesz. Olyan témákat járunk majd körül\, mint a mese és a zene szerepe a pedagógusok munkájában\, a korai nyelvoktatás módszertani újdonságai\, vagy a mozgás és a környezet együttes hatása a kisgyermekek fejlődésére. Szó lesz emellett a leszakadó rétegek felzárkóztatási lehetőségeiről és a korszerű nevelési környezetről is. \n  \nElőadóink között neves szakembereket köszönthetünk. Elfogadta meghívásunkat – többek között – Kovácsné Bárány Ildikó bölcsődei ügyek koordinációjáért felelős miniszteri biztos\, Vecsei Miklós társadalmi felzárkózásért felelős miniszterelnöki biztos\, a Magyar Máltai Szeretetszolgálat alelnöke\, valamint Turi Attila Kossuth- és Ybl Miklós-díjas építész\, a Magyar Művészeti Akadémia Építőművészeti Tagozatának elnöke is. \n  \nA konferencián való részvétel ingyenes\, de regisztrációhoz kötött\, pedagógus továbbképzésbe igazoltan beszámítható. \n  \nA részletes program itt olvasható. \n  \nRegisztráció az alábbi űrlap kitöltésével és küldésével lehetséges: \nVI. Kisgyermeknevelési Konferencia regisztrációs űrlap \nJelentkezési határidő: szeptember 30. \n  \nRésztvevőink számára szállást igény esetén az Apor Vilmos Katolikus Főiskola váci kollégiumában díjmentesen tudunk biztosítani. \n  \nKérdés esetén a kommunikacio@avkf.hu e-mailcímen érdeklődhetnek. \n 
URL:https://avkf.hu/esemeny/hagyomany-es-ujitas-vi-kisgyermeknevelesi-konferencia
CATEGORIES:Konferenciák
END:VEVENT
BEGIN:VEVENT
DTSTART;TZID=Europe/Budapest:20211012T150000
DTEND;TZID=Europe/Budapest:20211012T170000
DTSTAMP:20260426T055439
CREATED:20210929T092604Z
LAST-MODIFIED:20210929T093021Z
UID:30139-1634050800-1634058000@avkf.hu
SUMMARY:A junior 3D program - az Atipikus Fejlődés Módszertani Központ szakmai műhelye oktatók és hallgatók számára
DESCRIPTION:Miért 3D? \nA tanulási zavarok (diszlexia\, diszgráfia és diszkalkulia) megelőzhetők a tanulási környezet megváltoztatásával\, és nem kell\, hogy súlyos teljesítményzavarokká váljanak. Hatékony iskolai szervezési és tanítási/tanulási módszerekkel a gyakran a tanulási zavarokkal együtt megjelenő figyelem\, hiperaktivitás és autizmus zavar spektrumok osztálytermi kezelése is könnyebb lesz. A 3D program ennek érdekében született. A felsős és középiskolai korosztály számára kidolgozott modulokat most a fiatalabb korosztályra is adaptáljuk. A műhely során bemutatjuk\, hogyan lehet fokozatosan bevezetni az osztálytermi gyakorlatba a kudarcok csökkentésére alkalmas eljárásokat. \nMűhelyvezető: Dr. Gyarmathy Éva egyetemi tanár\, Apor Vilmos Katolikus Főiskola \nIdőpont: 2021. október 12. (kedd) 15:00-17:00 óráig \nHibrid műhely – Helyszín: Vác\, az Apor Vilmos Katolikus Főiskola Szent Miklós téri épületének Boldog Sára terme\, valamint online felület \nA részvétel ingyenes\, de regisztrációhoz kötött. Online regisztráció: ITT. \nMinden érdeklődőt szeretettel várunk!
URL:https://avkf.hu/esemeny/a-junior-3d-program-az-atipikus-fejlodes-modszertani-kozpont-szakmai-muhelye-oktatok-es-hallgatok-szamara
LOCATION:Apor Vilmos Katolikus Főiskola\, Schuszter Konstantin tér 1-5.\, Vác\, 2600
END:VEVENT
BEGIN:VEVENT
DTSTART;TZID=Europe/Budapest:20211014T103000
DTEND;TZID=Europe/Budapest:20211014T103000
DTSTAMP:20260426T055439
CREATED:20210908T081846Z
LAST-MODIFIED:20210908T081846Z
UID:29515-1634207400-1634207400@avkf.hu
SUMMARY:Katolikus középiskolák XIII. országos helyesírási versenye
DESCRIPTION:Az Apor Vilmos Katolikus Főiskola 2021. október 14-én rendezi meg a Katolikus középiskolák XIII. országos helyesírási versenyét. A jelentkezéseket a gasparics.gyula@avkf.hu e-mailcímre kérjük elküldeni. A jelentkezési határidő 2021. október 4. \n  \nVersenykiírás \nJelentkezési lap
URL:https://avkf.hu/esemeny/katolikus-kozepiskolak-xiii-orszagos-helyesirasi-versenye
LOCATION:Apor Vilmos Katolikus Főiskola\, Schuszter Konstantin tér 1-5.\, Vác\, 2600
CATEGORIES:Versenyek
END:VEVENT
BEGIN:VEVENT
DTSTART;TZID=Europe/Budapest:20211014T140000
DTEND;TZID=Europe/Budapest:20211014T160000
DTSTAMP:20260426T055439
CREATED:20210927T091825Z
LAST-MODIFIED:20211013T130854Z
UID:30000-1634220000-1634227200@avkf.hu
SUMMARY:Alternatív Pedagógiák Módszertani Központ szakmai műhelysorozat I.
DESCRIPTION:„Nem mondhatom el senkinek…” személyes történetek \nA kétségbeesésen túl… – egy lehetséges válasz az online tanítás kihívásaira: Czike Gábor\, a budapesti Szent Gellért Katolikus Általános Iskola és Gimnázium történelemtanára \n„A karanténban eltöltött munkanapok segítettek nekem azt megérteni\, hogy számítógép nem egy egyszerű eszköz\, nem egy új hifi a régi autóba\, hanem rendszert teremtő tényező. A nevelés\, oktatás új kereteit a számítógéphez kell igazítani\, hiszen ezt érzékeljük az iskolán kívüli világban is. A kérdés pedig csak az\, hogy hogyan?” \nA program ingyenes\, de regisztrációhoz kötött. Regisztráció ITT.
URL:https://avkf.hu/esemeny/apmk-szakmai-muhelysorozat-i
LOCATION:AVKF Budapesti Campus\, Török Flóris utca 227-229.\, Budapest\, 1201
END:VEVENT
BEGIN:VEVENT
DTSTART;VALUE=DATE:20211025
DTEND;VALUE=DATE:20211102
DTSTAMP:20260426T055439
CREATED:20210921T111400Z
LAST-MODIFIED:20210921T111400Z
UID:29815-1635120000-1635811199@avkf.hu
SUMMARY:Őszi szünet
DESCRIPTION:
URL:https://avkf.hu/esemeny/oszi-szunet-3
END:VEVENT
BEGIN:VEVENT
DTSTART;TZID=Europe/Budapest:20211104T140000
DTEND;TZID=Europe/Budapest:20211104T160000
DTSTAMP:20260426T055439
CREATED:20210927T092449Z
LAST-MODIFIED:20211014T085652Z
UID:30004-1636034400-1636041600@avkf.hu
SUMMARY:Alternatív Pedagógiák Módszertani Központ szakmai műhelysorozat II.
DESCRIPTION:„Nem mondhatom el senkinek…” személyes történetek \nSzemélyközpontú pedagógussá válni – Fehér Márta (Közgazdasági Politechnikum tanára) \n„Egész eddigi életemben iskolába jártam\, összesen négybe. Diákként: általános iskola\, gimnázium\, egyetem. Tanárként: a gimnázium\, ahova diákként jártam\, és a mostani iskolám\, egy alternatív gimnázium. Arról szeretnék beszélni\, miért kulcsfontosságú az életemben a változás. Arról\, hogy a magammal szemben támasztott elvárások\, saját elhatározásaim és a külvilág kihívásai hányszor\, hogyan alakították létformámat\, tanári szerepemet\, gyakorlatomat\, hogy milyen sikereket és kudarcokat tudhatok a magaménak. Inspiráló és támogató mestereimről\, kollégáimról\, a szakmai helyszínekről\, élményekről\, tapasztalatokról\, tanulási folyamatokról\, amelyek segítették haladásomat. Személyes erőfeszítéseimről és önismereti munkámról\, amelyek által formálódtam. Arról\, hol tartok most\, miben szeretnék fejlődni\, milyen céljaim vannak.” \nA program ingyenes\, de regisztrációhoz kötött. Regisztráció ITT.
URL:https://avkf.hu/esemeny/apmk-szakmai-muhelysorozat-ii
LOCATION:AVKF Budapesti Campus\, Török Flóris utca 227-229.\, Budapest\, 1201
END:VEVENT
BEGIN:VEVENT
DTSTART;VALUE=DATE:20211112
DTEND;VALUE=DATE:20211115
DTSTAMP:20260426T055439
CREATED:20210923T142559Z
LAST-MODIFIED:20211105T113346Z
UID:29880-1636675200-1636934399@avkf.hu
SUMMARY:XXIX. Országos Szendrei János Matematika Verseny
DESCRIPTION:Az Óvó- és Tanítóképzők Egyesületének Matematika Tagozata 29. alkalommal hirdeti meg az országos matematikai feladatmegoldó versenyét\, amely 2010 óta Szendrei János nevét viseli. \n  \nA versenyt a 2021/2022-es tanévben az Apor Vilmos Katolikus Főiskola rendezi meg Vácon. \nA verseny időpontja: 2021. november 12−14. \n  \nA verseny szabályzata szerint minden intézmény (képzési hely) egy 3 vagy 4 fős csapatot indíthat tanító (alapképzés)\, óvodapedagógus\, gyógypedagógus\, konduktor szakos nappali tagozatos hallgatóiból. A csapatverseny eredményét a csapat 3 legjobb dolgozatának összpontszáma határozza meg.  \n  \nIntézményenként (képzési helyenként) legfeljebb 3 hallgató indulhat egyéni versenyben a matematika műveltségterületi képzésben résztvevők közül.  \n  \nRegisztráció ITT. \nSzámlaigénylő \nRészletes program
URL:https://avkf.hu/esemeny/xxix-orszagos-szendrei-janos-matematika-verseny
LOCATION:Apor Vilmos Katolikus Főiskola\, Schuszter Konstantin tér 1-5.\, Vác\, 2600
END:VEVENT
BEGIN:VEVENT
DTSTART;TZID=Europe/Budapest:20211117T141500
DTEND;TZID=Europe/Budapest:20211117T141500
DTSTAMP:20260426T055439
CREATED:20211020T110706Z
LAST-MODIFIED:20211111T083902Z
UID:30582-1637158500-1637158500@avkf.hu
SUMMARY:International Café
DESCRIPTION:Szeretettel várunk minden érdeklődőt a nemzetközi programokon részt vett oktatóink és hallgatóink élménybeszámolóira és a nemzetközi lehetőségekkel kapcsolatos tájékoztatónkra! \nHelyszín: Szent Cecília terem\nModerátor: Szentpétery Marianne \nKapcsolat: erasmus@avkf.hu \nSzervező:\nIdegennyelvi Tanszék és Külkapcsolati Iroda \n 
URL:https://avkf.hu/esemeny/international-cafe-2
LOCATION:Apor Vilmos Katolikus Főiskola\, Schuszter Konstantin tér 1-5.\, Vác\, 2600
CATEGORIES:Rendezvények
END:VEVENT
END:VCALENDAR