BEGIN:VCALENDAR
VERSION:2.0
PRODID:-//AVKF - ECPv6.15.17.1//NONSGML v1.0//EN
CALSCALE:GREGORIAN
METHOD:PUBLISH
X-ORIGINAL-URL:https://avkf.hu
X-WR-CALDESC:Események AVKF
REFRESH-INTERVAL;VALUE=DURATION:PT1H
X-Robots-Tag:noindex
X-PUBLISHED-TTL:PT1H
BEGIN:VTIMEZONE
TZID:Europe/Budapest
BEGIN:DAYLIGHT
TZOFFSETFROM:+0100
TZOFFSETTO:+0200
TZNAME:CEST
DTSTART:20220327T010000
END:DAYLIGHT
BEGIN:STANDARD
TZOFFSETFROM:+0200
TZOFFSETTO:+0100
TZNAME:CET
DTSTART:20221030T010000
END:STANDARD
BEGIN:DAYLIGHT
TZOFFSETFROM:+0100
TZOFFSETTO:+0200
TZNAME:CEST
DTSTART:20230326T010000
END:DAYLIGHT
BEGIN:STANDARD
TZOFFSETFROM:+0200
TZOFFSETTO:+0100
TZNAME:CET
DTSTART:20231029T010000
END:STANDARD
BEGIN:DAYLIGHT
TZOFFSETFROM:+0100
TZOFFSETTO:+0200
TZNAME:CEST
DTSTART:20240331T010000
END:DAYLIGHT
BEGIN:STANDARD
TZOFFSETFROM:+0200
TZOFFSETTO:+0100
TZNAME:CET
DTSTART:20241027T010000
END:STANDARD
END:VTIMEZONE
BEGIN:VEVENT
DTSTART;TZID=Europe/Budapest:20230610T090000
DTEND;TZID=Europe/Budapest:20230610T160000
DTSTAMP:20260421T225530
CREATED:20230222T133547Z
LAST-MODIFIED:20230601T090849Z
UID:39036-1686387600-1686412800@avkf.hu
SUMMARY:II. Organikus Pedagógia Találkozó - Rejtett erőforrásaink
DESCRIPTION:“Az élet nem azt jelenti\, hogy túléljünk egy vihart\, hanem hogy tudjunk táncolni az esőben.”\n(ismeretlen szerző) \nTERVEZETT PROGRAM: \n9:00 – 9:30  \nMegérkezés\, regisztráció \n9:30 – 12:30 \nUzsalyné dr. Pécsi Rita – ERŐFORRÁSAINK LEGGAZDAGABB TÁRHÁZA: A KAPCSOLATAINK\nneveléskutató\, főiskolai tanár\, Apor Vilmos Katolikus Főiskola Neveléstudományi Tanszék\naz OPE elnöke\, a Módszertani Központ vezetője \nDr. Csáki Tibor – “…BENNED A LÉTRA…”\naz OPE spirituális alelnöke \nDr. Gloviczki Zoltán – PEDAGÓGUS HOLNAP\naz Apor Vilmos Katolikus Főiskola rektora\, az OPE alelnöke \nGyöngyös Tamás – ORGANIKUS PEDAGÓGIA EGYESÜLET – HELYZETJELENTÉS ÉS JÖVŐKÉP\naz Organikus Pedagógia Egyesület gazdasági tanácsadója \nDr. Stephens-Sarlós Erzsébet – AZ IDEGRENDSZER EGÉSZSÉGES FEJLŐDÉSÉNEK AKADÁLYAI\negyetemi adjunktus ELTE PPKE\ngyógytestnevelő\, szenzomotoros terapeuta \nSZÜNET\nÉtkezés batyuból vagy szendvicsvásárlás a büféből\nTájékozódási lehetőség az előadótól a Stephens-Sarlós programról \n13:15 – 16:00 \nSZEMÉLYES TALÁLKOZÁS ÉS A DÉLELŐTTI TÉMÁK TOVÁBBGONDOLÁSA\nkiscsoportos műhelymunka \n“ARATÁS” – A MŰHELYMUNKA ÖSSZEFOGLALÁSA \n  \nA találkozó házigazdája: Horváth Szilárd\n(a Búzaszem Katolikus Általános Iskola és AMI igazgatója\, MTVA vezető szerkesztő\, műsorvezető\, az OPE alapító tagja) \nHa hív a szíved\, regisztrálj ITT!
URL:https://avkf.hu/esemeny/ii-organikus-pedagogia-talalkozo
LOCATION:AVKF Budapesti Campus\, Török Flóris utca 227-229.\, Budapest\, 1201
END:VEVENT
BEGIN:VEVENT
DTSTART;VALUE=DATE:20230619
DTEND;VALUE=DATE:20230624
DTSTAMP:20260421T225530
CREATED:20230320T150203Z
LAST-MODIFIED:20230320T150203Z
UID:39975-1687132800-1687564799@avkf.hu
SUMMARY:Záróvizsgák (szakirányú továbbképzés)
DESCRIPTION:
URL:https://avkf.hu/esemeny/zarovizsgak-szakiranyu-tovabbkepzes-2022-2023-2
END:VEVENT
BEGIN:VEVENT
DTSTART;VALUE=DATE:20230626
DTEND;VALUE=DATE:20230701
DTSTAMP:20260421T225530
CREATED:20230320T145919Z
LAST-MODIFIED:20230320T150045Z
UID:39973-1687737600-1688169599@avkf.hu
SUMMARY:Záróvizsgák (BA és MA)
DESCRIPTION:
URL:https://avkf.hu/esemeny/zarovizsgak-ba-ma-2022-2023-2
END:VEVENT
END:VCALENDAR