BEGIN:VCALENDAR
VERSION:2.0
PRODID:-//AVKF - ECPv6.15.17.1//NONSGML v1.0//EN
CALSCALE:GREGORIAN
METHOD:PUBLISH
X-WR-CALNAME:AVKF
X-ORIGINAL-URL:https://avkf.hu
X-WR-CALDESC:Események AVKF
REFRESH-INTERVAL;VALUE=DURATION:PT1H
X-Robots-Tag:noindex
X-PUBLISHED-TTL:PT1H
BEGIN:VTIMEZONE
TZID:Europe/Budapest
BEGIN:DAYLIGHT
TZOFFSETFROM:+0100
TZOFFSETTO:+0200
TZNAME:CEST
DTSTART:20180325T010000
END:DAYLIGHT
BEGIN:STANDARD
TZOFFSETFROM:+0200
TZOFFSETTO:+0100
TZNAME:CET
DTSTART:20181028T010000
END:STANDARD
BEGIN:DAYLIGHT
TZOFFSETFROM:+0100
TZOFFSETTO:+0200
TZNAME:CEST
DTSTART:20190331T010000
END:DAYLIGHT
BEGIN:STANDARD
TZOFFSETFROM:+0200
TZOFFSETTO:+0100
TZNAME:CET
DTSTART:20191027T010000
END:STANDARD
BEGIN:DAYLIGHT
TZOFFSETFROM:+0100
TZOFFSETTO:+0200
TZNAME:CEST
DTSTART:20200329T010000
END:DAYLIGHT
BEGIN:STANDARD
TZOFFSETFROM:+0200
TZOFFSETTO:+0100
TZNAME:CET
DTSTART:20201025T010000
END:STANDARD
BEGIN:DAYLIGHT
TZOFFSETFROM:+0100
TZOFFSETTO:+0200
TZNAME:CEST
DTSTART:20210328T010000
END:DAYLIGHT
BEGIN:STANDARD
TZOFFSETFROM:+0200
TZOFFSETTO:+0100
TZNAME:CET
DTSTART:20211031T010000
END:STANDARD
END:VTIMEZONE
BEGIN:VEVENT
DTSTART;TZID=Europe/Budapest:20191202T090000
DTEND;TZID=Europe/Budapest:20191202T163000
DTSTAMP:20260426T010109
CREATED:20191121T121850Z
LAST-MODIFIED:20191121T121850Z
UID:19890-1575277200-1575304200@avkf.hu
SUMMARY:Lelki nap
DESCRIPTION:
URL:https://avkf.hu/esemeny/lelki-nap-2
LOCATION:Apor Vilmos Katolikus Főiskola\, Schuszter Konstantin tér 1-5.\, Vác\, 2600
CATEGORIES:Rendezvények
END:VEVENT
BEGIN:VEVENT
DTSTART;TZID=Europe/Budapest:20191204T121500
DTEND;TZID=Europe/Budapest:20191204T124500
DTSTAMP:20260426T010109
CREATED:20191121T122332Z
LAST-MODIFIED:20191128T081629Z
UID:19894-1575461700-1575463500@avkf.hu
SUMMARY:Christmas Party
DESCRIPTION:
URL:https://avkf.hu/esemeny/christmas-party-2
LOCATION:Apor Vilmos Katolikus Főiskola\, Schuszter Konstantin tér 1-5.\, Vác\, 2600
CATEGORIES:Rendezvények
END:VEVENT
BEGIN:VEVENT
DTSTART;VALUE=DATE:20191206
DTEND;VALUE=DATE:20191207
DTSTAMP:20260426T010109
CREATED:20191121T122139Z
LAST-MODIFIED:20191121T122139Z
UID:19892-1575590400-1575676799@avkf.hu
SUMMARY:Karácsonyi készülődés
DESCRIPTION:
URL:https://avkf.hu/esemeny/karacsonyi-keszulodes
LOCATION:Apor Vilmos Katolikus Főiskola\, Schuszter Konstantin tér 1-5.\, Vác\, 2600
CATEGORIES:Rendezvények
END:VEVENT
BEGIN:VEVENT
DTSTART;TZID=Europe/Budapest:20191207T090000
DTEND;TZID=Europe/Budapest:20191207T130000
DTSTAMP:20260426T010109
CREATED:20191205T104328Z
LAST-MODIFIED:20191205T104328Z
UID:20071-1575709200-1575723600@avkf.hu
SUMMARY:Mikulás futás Vác
DESCRIPTION:
URL:https://avkf.hu/esemeny/mikulas-futas-vac
CATEGORIES:Rendezvények
END:VEVENT
BEGIN:VEVENT
DTSTART;TZID=Europe/Budapest:20191211T100000
DTEND;TZID=Europe/Budapest:20191211T160000
DTSTAMP:20260426T010109
CREATED:20190930T103431Z
LAST-MODIFIED:20191209T134231Z
UID:19310-1576058400-1576080000@avkf.hu
SUMMARY:Nyílt nap I.
DESCRIPTION:Ingyenes felsőoktatási felvételi felkészítő program indul
URL:https://avkf.hu/esemeny/nyilt-nap-i
LOCATION:Apor Vilmos Katolikus Főiskola\, Schuszter Konstantin tér 1-5.\, Vác\, 2600
CATEGORIES:Nyílt napok
END:VEVENT
BEGIN:VEVENT
DTSTART;TZID=Europe/Budapest:20191217T080000
DTEND;TZID=Europe/Budapest:20191217T200000
DTSTAMP:20260426T010109
CREATED:20191121T123239Z
LAST-MODIFIED:20191128T082008Z
UID:19898-1576569600-1576612800@avkf.hu
SUMMARY:Adventi kirándulás Győrbe
DESCRIPTION:
URL:https://avkf.hu/esemeny/adventi-kirandulas-gyorbe
LOCATION:Apor Vilmos Katolikus Főiskola\, Schuszter Konstantin tér 1-5.\, Vác\, 2600
CATEGORIES:Rendezvények
END:VEVENT
BEGIN:VEVENT
DTSTART;VALUE=DATE:20191223
DTEND;VALUE=DATE:20200104
DTSTAMP:20260426T010109
CREATED:20191121T123004Z
LAST-MODIFIED:20191121T123004Z
UID:19896-1577059200-1578095999@avkf.hu
SUMMARY:Téli szünet
DESCRIPTION:
URL:https://avkf.hu/esemeny/teli-szunet-2
LOCATION:Apor Vilmos Katolikus Főiskola\, Schuszter Konstantin tér 1-5.\, Vác\, 2600
CATEGORIES:Rendezvények
END:VEVENT
END:VCALENDAR