BEGIN:VCALENDAR
VERSION:2.0
PRODID:-//AVKF - ECPv6.15.17.1//NONSGML v1.0//EN
CALSCALE:GREGORIAN
METHOD:PUBLISH
X-WR-CALNAME:AVKF
X-ORIGINAL-URL:https://avkf.hu
X-WR-CALDESC:Események AVKF
REFRESH-INTERVAL;VALUE=DURATION:PT1H
X-Robots-Tag:noindex
X-PUBLISHED-TTL:PT1H
BEGIN:VTIMEZONE
TZID:Europe/Budapest
BEGIN:DAYLIGHT
TZOFFSETFROM:+0100
TZOFFSETTO:+0200
TZNAME:CEST
DTSTART:20220327T010000
END:DAYLIGHT
BEGIN:STANDARD
TZOFFSETFROM:+0200
TZOFFSETTO:+0100
TZNAME:CET
DTSTART:20221030T010000
END:STANDARD
BEGIN:DAYLIGHT
TZOFFSETFROM:+0100
TZOFFSETTO:+0200
TZNAME:CEST
DTSTART:20230326T010000
END:DAYLIGHT
BEGIN:STANDARD
TZOFFSETFROM:+0200
TZOFFSETTO:+0100
TZNAME:CET
DTSTART:20231029T010000
END:STANDARD
BEGIN:DAYLIGHT
TZOFFSETFROM:+0100
TZOFFSETTO:+0200
TZNAME:CEST
DTSTART:20240331T010000
END:DAYLIGHT
BEGIN:STANDARD
TZOFFSETFROM:+0200
TZOFFSETTO:+0100
TZNAME:CET
DTSTART:20241027T010000
END:STANDARD
END:VTIMEZONE
BEGIN:VEVENT
DTSTART;TZID=Europe/Budapest:20230919T090000
DTEND;TZID=Europe/Budapest:20230919T160000
DTSTAMP:20260420T065405
CREATED:20230905T115837Z
LAST-MODIFIED:20230905T123030Z
UID:41568-1695114000-1695139200@avkf.hu
SUMMARY:Apor-nap
DESCRIPTION:
URL:https://avkf.hu/esemeny/apor-nap-2023-09
LOCATION:Szent József Kollégium\, Honvéd utca 13\, Vác\, 2600\, Magyarország
END:VEVENT
END:VCALENDAR