BEGIN:VCALENDAR
VERSION:2.0
PRODID:-//AVKF - ECPv6.15.17.1//NONSGML v1.0//EN
CALSCALE:GREGORIAN
METHOD:PUBLISH
X-WR-CALNAME:AVKF
X-ORIGINAL-URL:https://avkf.hu
X-WR-CALDESC:Események AVKF
REFRESH-INTERVAL;VALUE=DURATION:PT1H
X-Robots-Tag:noindex
X-PUBLISHED-TTL:PT1H
BEGIN:VTIMEZONE
TZID:Europe/Budapest
BEGIN:DAYLIGHT
TZOFFSETFROM:+0100
TZOFFSETTO:+0200
TZNAME:CEST
DTSTART:20200329T010000
END:DAYLIGHT
BEGIN:STANDARD
TZOFFSETFROM:+0200
TZOFFSETTO:+0100
TZNAME:CET
DTSTART:20201025T010000
END:STANDARD
BEGIN:DAYLIGHT
TZOFFSETFROM:+0100
TZOFFSETTO:+0200
TZNAME:CEST
DTSTART:20210328T010000
END:DAYLIGHT
BEGIN:STANDARD
TZOFFSETFROM:+0200
TZOFFSETTO:+0100
TZNAME:CET
DTSTART:20211031T010000
END:STANDARD
BEGIN:DAYLIGHT
TZOFFSETFROM:+0100
TZOFFSETTO:+0200
TZNAME:CEST
DTSTART:20220327T010000
END:DAYLIGHT
BEGIN:STANDARD
TZOFFSETFROM:+0200
TZOFFSETTO:+0100
TZNAME:CET
DTSTART:20221030T010000
END:STANDARD
END:VTIMEZONE
BEGIN:VEVENT
DTSTART;TZID=Europe/Budapest:20211204T160000
DTEND;TZID=Europe/Budapest:20211204T180000
DTSTAMP:20260423T221941
CREATED:20211122T145112Z
LAST-MODIFIED:20211202T154632Z
UID:31741-1638633600-1638640800@avkf.hu
SUMMARY:Szocped Café
DESCRIPTION:Főiskolánk Szociálpedagógiai Műhelyének célkitűzése a szociálpedagógia elméleti\, módszertani\, oktatási és gyakorlati problémáinak elemzése\, a szakmai identitás megerősítése és a főiskolán zajló szociálpedagógus-képzés tudatos fejlesztése. A Műhely fontos programsorozata a Szocped Café\, amelyen a főiskola hallgatói kötetlenül beszélgethetnek szociális területen dolgozó szakemberekkel. \nHelyszín: az Apor Vilmos Katolikus Főiskola Könyvtára és online a Főiskola Facebook oldalán.\nVendégünk ez alkalommal Székely János püspök atya\, a Szombathelyi Egyházmegye főpásztora. A beszélgetés moderátora dr. Báder Iván\, a Hittudományi\, Társadalomtudományi és Romológiai Tanszék oktatója. \n \nSok érdekes kérdést érintünk majd a beszélgetés során\, úgy mint: a demográfiai problémák Magyarországon\, a gyermekvállalás\, az élet kezdetének és végének kérdésköre az egyház szemszögéből\, az egyház szerepe a cigányság társadalmi felzárkóztatásában\, a szegregáció kérdése az oktatásban\, a hajléktalanok segítése a katolikus egyház módszereivel\, az ökumenikus szemléletmód és az egyház megújulása. \nMinden érdeklődőt szeretettel várunk!
URL:https://avkf.hu/esemeny/szocped-cafe-2021-12
LOCATION:Apor Vilmos Katolikus Főiskola\, Schuszter Konstantin tér 1-5.\, Vác\, 2600
END:VEVENT
END:VCALENDAR